{"text_format":"1","workbook":"xlsx","n_sheets":15,"sheets":["Odluka Budžet 2018 R2","Prihodi R1","Функ.клас","Прог.актив.","Sheet1","Sheet2","Sheet3","Sheet5","Troškovi 2019","Osn.skole","Sred.skole","Програми","ekonomska reb1","Sheet4","Sheet6"],"not_rendered":{"charts":0,"images":0,"macros":0,"external_links":1,"defined_names":13,"comments":0,"pivot_tables":4},"unopened":[],"bounds":{"document_bytes":16777216,"sheet_cells":100000,"rows_first":2000,"rows_last":500,"rows_between":2000,"halvings":0,"cell_chars":16384,"cell_head_chars":4096},"cells_cut":0,"cells_raw":0,"read":"whole","date_system":"1900"}

{"sheet":"Odluka Budžet 2018 R2","index":0,"n_rows":409,"n_cols":14,"rows_kept":409,"cut":false,"hidden":false,"merged":[[272,2,272,3],[272,4,272,9],[274,4,274,9],[276,4,276,9],[278,4,278,9],[280,4,280,9],[227,1,227,7],[0,10,0,11],[1,0,3,11],[6,0,6,11],[7,0,7,11],[9,0,9,11],[11,0,11,11],[17,0,17,9],[17,10,17,11],[18,0,18,9],[18,10,18,11],[19,0,19,9],[19,10,19,11],[13,0,13,11],[14,0,14,9],[14,10,14,11],[15,0,15,9],[15,10,15,11],[16,0,16,9],[16,10,16,11],[23,0,23,9],[23,10,23,11],[24,0,24,9],[24,10,24,11],[25,0,25,9],[25,10,25,11],[20,0,20,9],[20,10,20,11],[21,0,21,9],[21,10,21,11],[22,0,22,9],[22,10,22,11],[29,0,29,9],[29,10,29,11],[30,0,30,9],[30,10,30,11],[31,0,31,9],[31,10,31,11],[26,0,26,9],[26,10,26,11],[27,0,27,9],[27,10,27,11],[28,0,28,9],[28,10,28,11],[35,0,35,9],[35,10,35,11],[36,0,36,9],[36,10,36,11],[38,0,38,11],[40,0,41,6],[40,7,41,9],[40,10,41,11],[32,0,32,9],[32,10,32,11],[33,0,33,9],[33,10,33,11],[34,0,34,9],[34,10,34,11],[45,0,45,6],[45,7,45,9],[45,10,45,11],[46,0,46,6],[46,7,46,9],[46,10,46,11],[42,0,42,6],[42,7,42,9],[42,10,42,11],[43,0,44,6],[43,7,44,9],[43,10,44,11],[49,0,49,6],[49,7,49,9],[49,10,49,11],[54,0,55,6],[54,7,55,9],[54,10,55,11],[47,0,47,6],[47,7,47,9],[47,10,47,11],[48,0,48,6],[48,7,48,9],[48,10,48,11],[58,0,58,6],[58,7,58,9],[58,10,58,11],[59,0,59,6],[59,7,59,9],[59,10,59,11],[56,0,56,6],[56,7,56,9],[56,10,56,11],[57,0,57,6],[57,7,57,9],[57,10,57,11],[62,0,62,6],[62,7,62,9],[62,10,62,11],[63,0,63,6],[63,7,63,9],[63,10,63,11],[60,0,60,6],[60,7,60,9],[60,10,60,11],[61,0,61,6],[61,7,61,9],[61,10,61,11],[67,7,67,9],[67,10,67,11],[68,7,68,9],[68,10,68,11],[69,7,69,9],[69,10,69,11],[64,7,64,9],[64,10,64,11],[65,7,65,9],[65,10,65,11],[66,7,66,9],[66,10,66,11],[73,0,73,6],[73,7,73,9],[73,10,73,11],[74,0,74,6],[74,7,74,9],[74,10,74,11],[70,7,70,9],[70,10,70,11],[71,7,71,9],[71,10,71,11],[72,7,72,9],[72,10,72,11],[78,0,78,6],[78,7,78,9],[78,10,78,11],[79,0,79,6],[79,7,79,9],[79,10,79,11],[75,7,75,9],[75,10,75,11],[76,0,76,6],[76,7,76,9],[76,10,76,11],[77,0,77,6],[77,7,77,9],[77,10,77,11],[82,0,82,6],[82,7,82,9],[82,10,82,11],[83,0,83,6],[83,7,83,9],[83,10,83,11],[80,0,80,6],[80,7,80,9],[80,10,80,11],[81,0,81,6],[81,7,81,9],[81,10,81,11],[86,0,86,6],[86,7,86,9],[86,10,86,11],[87,0,87,5],[87,7,87,9],[87,10,87,11],[84,0,84,6],[84,7,84,9],[84,10,84,11],[85,0,85,5],[85,7,85,9],[85,10,85,11],[159,0,159,11],[161,0,161,2],[161,3,161,6],[162,0,162,2],[162,3,162,6],[163,0,163,2],[163,3,163,6],[88,0,88,6],[88,7,88,9],[88,10,88,11],[90,0,90,11],[92,0,93,11],[157,0,157,11],[161,7,161,8],[162,7,162,8],[163,7,163,8],[161,9,161,10],[162,9,162,10],[169,0,169,2],[170,0,170,2],[170,3,170,6],[171,0,171,2],[171,3,171,6],[164,0,164,2],[165,0,165,2],[166,0,166,2],[166,3,166,6],[167,0,167,2],[168,0,168,2],[175,0,175,2],[176,0,176,2],[176,3,176,6],[177,0,177,2],[177,3,177,6],[178,0,178,2],[178,3,178,6],[172,0,172,2],[172,3,172,6],[173,0,173,2],[173,3,173,6],[174,0,174,2],[174,3,174,6],[182,0,182,2],[182,3,182,6],[183,0,183,2],[183,3,183,6],[184,0,184,2],[184,3,184,6],[179,0,179,2],[179,3,179,6],[180,0,180,2],[180,3,180,6],[181,0,181,2],[181,3,181,6],[189,0,189,2],[191,0,191,2],[191,3,191,6],[192,0,192,2],[192,3,192,6],[193,0,193,2],[193,3,193,6],[185,0,185,2],[185,3,185,6],[186,0,186,2],[186,3,186,6],[187,0,187,2],[188,0,188,2],[190,0,190,2],[200,0,200,2],[200,3,200,6],[201,0,201,2],[201,3,201,6],[202,0,202,2],[202,3,202,5],[195,0,195,2],[195,3,195,6],[196,0,196,2],[197,0,197,2],[197,3,197,6],[198,0,198,2],[198,3,198,6],[199,0,199,2],[199,3,199,6],[212,1,212,7],[213,1,213,7],[214,1,214,7],[208,0,208,11],[209,0,209,11],[210,3,210,7],[210,9,210,10],[211,1,211,7],[212,8,212,10],[213,8,213,10],[214,8,214,10],[221,1,221,7],[222,1,222,7],[223,1,223,7],[218,1,218,7],[219,1,219,7],[220,1,220,7],[215,1,215,7],[216,1,216,7],[217,1,217,7],[284,0,284,11],[286,0,286,11],[287,0,287,11],[288,0,288,11],[273,2,273,3],[273,4,273,9],[277,4,277,9],[277,2,277,3],[275,2,275,3],[282,2,282,3],[282,4,282,9],[280,2,280,3],[278,2,278,3],[276,2,276,3],[274,2,274,3],[279,2,279,3],[281,2,281,3],[275,4,275,9],[279,4,279,9],[281,4,281,9],[300,0,300,11],[301,0,301,11],[303,0,303,11],[304,0,304,11],[306,0,306,11],[307,0,307,11],[290,0,290,11],[291,0,293,11],[294,0,294,11],[295,0,296,11],[298,0,298,11],[299,0,299,11],[319,0,319,11],[321,0,321,11],[322,0,322,11],[329,0,329,11],[330,0,330,11],[331,0,331,11],[309,0,309,11],[310,0,310,11],[312,0,312,11],[313,0,313,11],[316,0,316,11],[318,0,318,11],[323,0,323,11],[325,0,325,11],[326,0,326,11],[327,0,327,11],[324,0,324,11],[315,0,315,11],[340,0,340,11],[342,0,342,11],[343,0,343,11],[345,0,345,11],[346,0,346,11],[348,0,348,11],[332,0,332,11],[333,0,333,11],[335,0,335,11],[336,0,336,11],[338,0,338,11],[339,0,339,11],[357,0,357,11],[358,0,358,11],[359,0,359,11],[360,0,360,11],[361,0,361,11],[363,0,363,11],[349,0,349,11],[350,0,350,11],[352,0,352,11],[353,0,353,11],[355,0,355,11],[356,0,356,11],[374,0,377,11],[379,0,379,11],[380,0,383,11],[384,0,387,11],[388,0,388,11],[389,0,390,11],[364,0,365,11],[367,0,367,11],[368,0,368,11],[370,0,370,11],[371,0,371,11],[373,0,373,11],[378,0,378,11],[406,10,406,11],[408,10,408,11],[409,10,409,11],[391,0,393,11],[396,0,396,11],[397,0,397,11],[399,0,399,11],[400,0,400,11],[403,0,403,11],[164,7,164,8],[165,7,165,8],[166,7,166,8],[167,7,167,8],[168,7,168,8],[169,7,169,8],[181,7,181,8],[182,7,182,8],[183,7,183,8],[171,7,171,8],[172,7,172,8],[173,7,173,8],[174,7,174,8],[170,7,170,8],[175,7,175,8],[176,7,176,8],[178,7,178,8],[177,7,177,8],[179,7,179,8],[180,7,180,8],[200,7,200,8],[201,7,201,8],[201,9,201,10],[200,9,200,10],[198,9,198,10],[197,9,197,10],[195,9,195,10],[193,9,193,10],[191,9,191,10],[191,7,191,8],[192,7,192,8],[193,7,193,8],[194,7,194,8],[195,7,195,8],[196,7,196,8],[197,7,197,8],[196,9,196,10],[198,7,198,8],[199,7,199,8],[180,9,180,10],[177,9,177,10],[184,7,184,8],[185,7,185,8],[186,7,186,8],[187,7,187,8],[188,7,188,8],[189,7,189,8],[183,9,183,10],[220,8,220,10],[221,8,221,10],[222,8,222,10],[223,8,223,10],[170,9,170,10],[163,9,163,10],[164,9,164,10],[165,9,165,10],[166,9,166,10],[167,9,167,10],[168,9,168,10],[169,9,169,10],[172,9,172,10],[171,9,171,10],[178,9,178,10],[179,9,179,10],[181,9,181,10],[182,9,182,10],[185,9,185,10],[187,9,187,10],[188,9,188,10],[189,9,189,10],[186,9,186,10],[184,9,184,10],[190,7,190,8],[173,9,173,10],[174,9,174,10],[175,9,175,10],[176,9,176,10],[228,1,228,7],[228,8,228,10],[190,9,190,10],[192,9,192,10],[199,9,199,10],[194,9,194,10],[224,1,224,7],[225,1,225,7],[226,1,226,7],[224,8,224,10],[225,8,225,10],[226,8,226,10],[227,8,227,10],[211,8,211,10],[215,8,215,10],[216,8,216,10],[217,8,217,10],[218,8,218,10],[219,8,219,10],[264,0,264,11],[266,0,266,11],[267,0,270,11],[271,2,271,3],[271,4,271,9],[229,1,229,7],[230,1,230,6],[231,0,231,11],[233,0,233,11],[234,0,234,11],[229,8,229,10]]}
[]
["                 Na osnovu ~lana 43. Zakona o buxetskom sistemu (\"Slu`beni glasnik RS\", br. 54/2009, 73/2010, 101/2010, 101/2011, 93/2012, 62/2013 i 63/2013 -ispravka, 108/2013, 142/2014, 68/2015 - dr. zakon, 103/2015, 99/2016 i 113/2017), ~lana 32. Zakona o lokalnoj samoupravi (\"Slu`beni glasnik RS\", broj 129/2007 i 83/2014 - dr. zakon,  101/2016 - др. закон и 47/2018) i ~lana 35. Statuta op{tine Bujanovac (\"Slu`beni glasnik P~iwskog okruga\", broj 24/2008) Skup{tina op{tine Bujanovac na sednici odr`anoj dana 24.12.2018. godine, donela je "]
[]
[]
[]
[]
["O    D    L    U    K    U"]
["O БУЏЕТУ OP[TINE BUJANOVAC ZA 2019. GODINU"]
[]
[" I OP[TI DEO"]
[]
["^lan 1."]
[]
["      Prihodi i primawa, rashodi i izdaci buxeta op{tine Bujanovac za 2019. (u daqem tekstu: buxet), sastoje se od :"]
[]
["А. РАЧУН ПРИХОДА И ПРИМАЊА, РАСХОДА И ИЗДАТАКА"]
["1. Укупани приходи и примања од продаје нефинансијске имовине",null,null,null,null,null,null,null,null,null,{"$f":"K18+K22","v":1056630000}]
["1.1. TEKUЋI PRIHODI u ~emu",null,null,null,null,null,null,null,null,null,{"$f":"K19+K20+K21","v":1056630000}]
["          - буџетска средства",null,null,null,null,null,null,null,null,null,{"$f":"1056630000-4700000","v":1051930000}]
["          - сопствени приходи"]
["          - донације",null,null,null,null,null,null,null,null,null,4700000]
["1.2. ПРИМАЊА ОД ПРОДАЈЕ НЕФИНАНСИЈСКЕ ИМОВИНЕ"]
["2. Укупни расходи и иzдаци zа набавку нефинансијске имовине ",null,null,null,null,null,null,null,null,null,{"$f":"K24","v":1060463520}]
["2.1. ТЕКУЋИ РАСХОДИ у чему:",null,null,null,null,null,null,null,null,null,{"$f":"K25+K26+K27","v":1060463520}]
["          - текући буџетски расходи",null,null,null,null,null,null,null,null,null,{"$f":"H202","v":923480000}]
["          - расходи из сопствених прихода"]
["          - доnacije, dotacije i transferi",null,null,null,null,null,null,null,null,null,{"$f":"J202","v":136983520}]
["БУЏЕТСКИ СУФИЦИТ/ДЕФИЦИТ",null,null,null,null,null,null,null,null,null,{"$f":"K17-K23","v":-3833520}]
["Издаци за набавку финансијске имовине (у циљу спровођења јавних политика)"]
["УКУПАН ФИСКАЛНИ СУФИЦИТ/ДЕФИЦИТ",null,null,null,null,null,null,null,null,null,{"$f":"K28","v":-3833520}]
["БУЏЕТСКИ СУФИЦИТ/ДЕФИЦИТ",null,null,null,null,null,null,null,null,null,{"$f":"K30","v":-3833520}]
["Б. РАЧУН ФИНАНСИРАЊА"]
["Примања од продаје финансијске имовине"]
["Примања од заду`ивања"]
["Неутрошена средства из предходних година",null,null,null,null,null,null,null,null,null,3833520]
["Издаци за отплату главнице дуга"]
["НЕТО ФИНАНСИРАЊЕ"]
[]
["Приходи и примања, расходи и издаци буџета утврђени су у следећим износима"]
[]
["ОПИС",null,null,null,null,null,null,"Економска класификација",null,null,"Износ у динарима"]
[]
[1,null,null,null,null,null,null,2,null,null,3]
["УКУПНИ ПРИХОДИ И ПРИМАЊА ОД ПРОДАЈЕ НЕФИНАНСИЈСКЕ ИМОВИНЕ",null,null,null,null,null,null,null,null,null,{"$f":"K46+K58+K62+K63+K61","v":1056630000}]
[]
["1. Порески приходи",null,null,null,null,null,null,71,null,null,{"$f":"K47+K48+K49+K50","v":368650000}]
["          1.1. Порез на доходак, добит и капиталне добиткa (осим  самодоприноса)",null,null,null,null,null,null,711,null,null,247000000]
["          1.2. Самодопринос",null,null,null,null,null,null,711180]
["          1.3. Порез на имовину",null,null,null,null,null,null,713,null,null,66550000]
["          1.4. Остали порески приходи",null,null,null,null,null,null,null,null,null,{"$f":"28100000+27000000","v":55100000}]
[]
[]
[]
[]
["ОПИС",null,null,null,null,null,null,"Економска класификација",null,null,"Износ у динарима"]
[]
[1,null,null,null,null,null,null,2,null,null,3]
["2. Непорески приходи, у чему:",null,null,null,null,null,null,74,null,null,{"$f":"73150000+48210000+11680000+9082302","v":142122302}]
["поједине врсте накнада са одређеном наменом (наменски приходи)"]
["приходи од продаје добара и услуга"]
["3. Донације",null,null,null,null,null,null,"731 + 732",null,null,{"$f":"4700000","v":4700000}]
["4. Трансфери",null,null,null,null,null,null,733,null,null,540857698]
["5. Примања од продаје нефинансијске имовине",null,null,null,null,null,null,8,null,null,300000]
["УКУПНИ РАСХОДИ И ИЗДАЦИ ЗА НАБАВКУ НЕФИНАНСИЈСКЕ И ФИНАНСИЈСКЕ ИМОВИНЕ",null,null,null,null,null,null,null,null,null,{"$f":"K65+K73","v":1060463520}]
["1. Текући расходи",null,null,null,null,null,null,4,null,null,{"$f":"K66+K67+K68+K69+K70+K71+K72","v":779091000}]
["          1.1. Расходи за запослене",null,null,null,null,null,null,41,null,null,{"$f":"L171","v":283370500}]
["          1.2. Коришћење роба и услуга",null,null,null,null,null,null,42,null,null,{"$f":"L178","v":208073200}]
["          1.3. Отплата камата",null,null,null,null,null,null,44]
["          1.4. Субвенције",null,null,null,null,null,null,45,null,null,{"$f":"L181","v":45250000}]
["          1.5. Социјална заштита из буџета",null,null,null,null,null,null,47,null,null,{"$f":"L187","v":25840000}]
["          1.6. Остали расходи, у чему: средства резерви",null,null,null,null,null,null,"48 + 49",null,null,{"$f":"L192+L194","v":53242600}]
["2. Трасфери",null,null,null,null,null,null,46,null,null,{"$f":"L185","v":163314700}]
["3. Издаци за набавку нефинансијске имовине",null,null,null,null,null,null,5,null,null,{"$f":"L201","v":281372520}]
["4. Издаци за набавку финансијске имовине (осим 6211)",null,null,null,null,null,null,62]
["ПРИМАЊА ОД ПРОДАЈЕ ФИНАНСИЈСКЕ ИМОВИНЕ И ЗАДУЖИВАЊА",null,null,null,null,null,null,null,null,null,0]
["1. Примања по основу отплате кредита и продаје финансијске имовине",null,null,null,null,null,null,92]
["2. Заду`ивање",null,null,null,null,null,null,91,null,null,0]
["          2.1. Заду`ивање код домаћих  кредитора",null,null,null,null,null,null,911]
["          2.2. Заду`ивање код страних кредитора",null,null,null,null,null,null,912]
["ОТПЛАТА ДУГА И НАБАВКА ФИНАНСИЈСКЕ ИМОВИНЕ"]
["3. Отплата дуга",null,null,null,null,null,null,61,null,null,0]
["          3.1. Отплата дуга домаћим кредиторима",null,null,null,null,null,null,611]
["          3.2. Отплата дуга страним кредиторима",null,null,null,null,null,null,612]
["          3.3. Отплата дуга по гаранцијама",null,null,null,null,null,null,613]
["4. Набавка финансијске имовине",null,null,null,null,null,null,6211]
[]
["НЕРАСПОРЕЂЕНИ ВИШАК ПРИХОДА ИЗ РАНИЈИХ ГОДИНА (класа 3, извор финансирања 13)"]
[]
["НЕУТРОШЕНА СРЕДСТАВА ОД ПРИВАТИЗАЦИЈЕ ИЗ ПРЕТХОДНИХ ГОДИНА (класа 3, извор финансирања 14)"]
[]
["Члан 2."]
[]
["   Teku}i prihodi i primawa од продаје нефинансијске имовине са пренетим средствима из претходне године buxeta op{tine Bujanovac utvr|eni su u iznosu od 1.060.463.520,00 dinara (tabela po vrstama prihoda i primawa nalazi se u prilogu  Odluke o buxetu za 2019. godinu (1-3)):"]
[]
[]
[]
[null,null,null,null,null,null,3775000,1260500000]
[null,null,null,null,null,null,2433310]
[null,null,null,null,null,null,{"$f":"G97+G98","v":6208310}]
[]
[]
[]
[]
[]
[]
[]
[]
[]
[]
[]
[]
[]
[]
[]
[]
[]
[]
[]
[]
[]
[]
[]
[]
[]
[]
[]
[]
[]
[]
[]
[]
[]
[]
[]
[]
[]
[]
[]
[]
[]
[]
[]
[]
[]
[]
[]
[]
[]
[]
[]
[]
[]
[]
[]
[]
[]
[]
["Члан 3."]
[]
["Издаци буџета по osnovnim наменама утврђени су i raspore|eni u 2019. godini u следећим износима:"]
[]
["еко.клас.",null,null,"ОПИС",null,null,null,"Средства из буџета",null,"Sredstva iz осталих извора",null,"Укупно"]
[1,null,null,2,null,null,null,3,null,4,null,5]
[400,null,null,"TEKU]I RASHODI",null,null,null,{"$f":"H171+H178+H181+H185+H187+H192+H194","v":760941000},null,{"$f":"J171+J178+J181+J185+J187+J192+J194","v":18150000},null,{"$f":"L171+L178+L181+L185+L187+L192+L194","v":779091000}]
[411,null,null,"Плате, додаци и накнаде запосленима",null,null,null,227906000,null,null,null,{"$f":"H165+J165","v":227906000},null,{"$f":"H165+#REF!","v":{"$error":"#REF!"}}]
[412,null,null,"Социјални доприноси на терет послодавца",null,null,null,40632500,null,null,null,{"$f":"H166+J166","v":40632500},null,{"$f":"H166+#REF!","v":{"$error":"#REF!"}}]
[413,null,null,"Накнаде у натури",null,null,null,412000,null,null,null,412000,null,{"$f":"H167+J167","v":412000}]
[414,null,null,"Социјана давања запосленима",null,null,null,2480000,null,null,null,2480000,null,{"$f":"H168+#REF!","v":{"$error":"#REF!"}}]
[415,null,null,"Накнаде трошкова за запослене",null,null,null,9660000,null,null,null,9660000,null,{"$f":"H169+#REF!","v":{"$error":"#REF!"}}]
[416,null,null,"Награде, бонуси и остали пословни расхода",null,null,null,2280000,null,null,null,2280000,null,{"$f":"H170+#REF!","v":{"$error":"#REF!"}}]
[410,null,null,"РАСХОДИ ЗА ЗАПОСЛЕНЕ",null,null,null,{"$f":"H165+H166+H167+H168+H169+H170","v":283370500},null,{"$f":"J165+J166+K167+J168+J169+J170","v":0},null,{"$f":"L165+L166+L167+L168+L169+L170","v":283370500},null,{"$f":"N165+N166+N167+N168+N169+N170+#REF!","v":{"$error":"#REF!"}}]
[421,null,null,"Стални трошкови",null,null,null,51155500,null,null,null,51155500,null,{"$f":"H172+#REF!+J172","v":{"$error":"#REF!"}}]
[422,null,null,"Трошкови путовања",null,null,null,2765500,null,null,null,2765500,null,{"$f":"H173+#REF!+J173","v":{"$error":"#REF!"}}]
[423,null,null,"Услуге по уговору",null,null,null,72469000,null,6250000,null,78719000,null,{"$f":"H174+#REF!+J174","v":{"$error":"#REF!"}}]
[424,null,null,"Специјализоване услуге",null,null,null,18467000,null,null,null,18467000,null,{"$f":"H175+#REF!+J175","v":{"$error":"#REF!"}}]
[425,null,null,"Текуће поправке и  одржавање",null,null,null,{"$f":"33581000+1200000","v":34781000},null,4700000,null,39481000,null,{"$f":"H176+#REF!+J176","v":{"$error":"#REF!"}}]
[426,null,null,"Материјал",null,null,null,17485200,null,null,null,17485200,null,{"$f":"H177+#REF!+J177","v":{"$error":"#REF!"}}]
[420,null,null,"КОРИШЋЕЊЕ УСЛУГА И РОБА",null,null,null,{"$f":"H172+H173+H174+H175+H176+H177","v":197123200},null,{"$f":"J172+J173+J174+J175+J176+J177","v":10950000},null,{"$f":"L172+L173+L174+L175+L176+L177","v":208073200},null,{"$f":"N172+N173+N174+N175+N176+N177","v":{"$error":"#REF!"}}]
[451,null,null,"Subvencije",null,null,null,35250000,null,null,null,35250000,null,{"$f":"L179","v":35250000}]
[454,null,null,"Subvencije privatnim preduze|ima",null,null,null,10000000,null,null,null,10000000]
[450,null,null,"SUBVENCIJE",null,null,null,{"$f":"H179+H180","v":45250000},null,{"$f":"K179","v":0},null,{"$f":"L179+L180","v":45250000}]
[463,null,null,"Transferi osltalim nivoima vlasti",null,null,null,120191700,null,null,null,120191700,null,{"$f":"H182+J182+K182","v":120191700}]
[464,null,null,"Dotacije organizacijama obaveznog soc.osigurawa",null,null,null,22450000,null,null,null,22450000,null,{"$f":"H183+J183+K183","v":22450000}]
[465,null,null,"Ostale teku}e doacije po zakonu",null,null,null,20673000,null,null,null,20673000,null,{"$f":"H184+#REF!+J184","v":{"$error":"#REF!"}}]
[460,null,null,"DONACIJE, DOTACIJE I TRANSFERI",null,null,null,{"$f":"H182+H184+H183","v":163314700},null,{"$f":"K182+J184","v":0},null,{"$f":"L182+L184+L183","v":163314700},null,{"$f":"N182+N183+N184","v":{"$error":"#REF!"}}]
[472,null,null,"Naknade za socijalnu za{titu iz buxeta",null,null,null,18640000,null,7200000,null,{"$f":"K186+J186+H186","v":25840000},null,{"$f":"H186+K186","v":18640000}]
[470,null,null,"СОЦИЈАЛНО ОСИГУРАЊЕ И СОЦИЈАЛНА ЗАШ.",null,null,null,{"$f":"H186","v":18640000},null,{"$f":"J186","v":7200000},null,{"$f":"L186","v":25840000}]
[481,null,null,"Дотације невладиним организацијама",null,null,null,30762000,null,null,null,{"$f":"K188+J188+H188","v":30762000},null,{"$f":"H188","v":30762000}]
[482,null,null,"Порези , обавезне таксе и казне",null,null,null,1017000,null,null,null,1017000,null,{"$f":"H189+#REF!","v":{"$error":"#REF!"}}]
[483,null,null,"Нов~ане казне и пенали по решењу судова",null,null,null,9166000,null,null,null,9166000,null,{"$f":"H190","v":9166000}]
[485,null,null,"Накнада штете за неискоришћен годишњи одмор",null,null,null,1600000,null,null,null,1600000]
[480,null,null,"ОСТАЛИ РАСХОДИ",null,null,null,{"$f":"H188+H189+H190+H191","v":42545000},null,{"$f":"K188+J189+J190+K191","v":0},null,{"$f":"L188+L189+L190+L191","v":42545000},null,{"$f":"N188+N189+N190","v":{"$error":"#REF!"}}]
[499,null,null,"Sredstva rezerve",null,null,null,{"$f":"500000+10197600","v":10697600},null,null,null,10697600]
[490,null,null,"СРЕДСТВА РЕЗЕРВИ",null,null,null,{"$f":"H193","v":10697600},null,{"$f":"K193","v":0},null,{"$f":"L193","v":10697600},null,{"$f":"L192+L194","v":53242600}]
[]
[500,null,null,"KAPITALNI IZDACI",null,null,null,{"$f":"H201","v":162539000},null,{"$f":"J201","v":118833520},null,{"$f":"L201","v":281372520}]
[511,null,null,"Зграде и грађевински објекти",null,null,null,{"$f":"149749000+3950000","v":153699000},null,{"$f":"115000000+3833520","v":118833520},null,272532520,null,{"$f":"H197+#REF!+J197","v":{"$error":"#REF!"}}]
[512,null,null,"Машине и опрема",null,null,null,5150000,null,null,null,5150000,null,{"$f":"H198+#REF!+J198","v":{"$error":"#REF!"}}]
[515,null,null,"Нематеријална имовина",null,null,null,690000,null,null,null,690000,null,{"$f":"H199","v":690000}]
[541,null,null,"Набавка земљишта",null,null,null,3000000,null,null,null,3000000]
[510,null,null,"ОСНОВНА СРЕДСТВА",null,null,null,{"$f":"H197+H198+H199+H200","v":162539000},null,{"$f":"J197+J198+J199+J200","v":118833520},null,{"$f":"L197+L198+L199+L200","v":281372520},null,{"$f":"N197+N198+N199","v":{"$error":"#REF!"}}]
[null,null,null,"У К У П Н I  JAVNI RASHODI",null,null,null,{"$f":"H164+H201","v":923480000},null,{"$f":"J164+J201","v":136983520},null,{"$f":"L164+L201","v":1060463520},{"$f":"M201+M194+M192+M187+M185+M181+M178+M171","v":0}]
[]
[]
[]
[]
[]
[]
["Члан 4."]
["     Rashodi i izdaci iz ~lana 1 ove odluke koriste se za slede}e programe:"]
[]
[null,"NAZIV PROGRAMA",null,null,null,null,null,null,"IZNOS",null,null,"Struktura %"]
[null,"Program 1: Урбанизам i prostorno planirawe",null,null,null,null,null,null,{"$f":"Програми!B7","v":41797000},null,null,{"$f":"I213/I230*100","v":3.9413897047585382}]
[null,"Program 2: Komunalnе delatnostи",null,null,null,null,null,null,{"$f":"Програми!B8","v":76772000},null,null,{"$f":"I214/I230*100","v":7.2394758095969207}]
[null,"Program 3: Lokalni економски razvoj",null,null,null,null,null,null,{"$f":"Програми!B9","v":25000000},null,null,{"$f":"I215/I230*100","v":2.3574596889480932}]
[null,"Program 4: Razvoj turizma",null,null,null,null,null,null,{"$f":"Програми!B10","v":9026500},null,null,{"$f":"I216/I230*100","v":0.85118439529159851}]
[null,"Program 5: Razvoj poqoprivrede",null,null,null,null,null,null,{"$f":"Програми!B11","v":22400000},null,null,{"$f":"I217/I230*100","v":2.1122838812974916}]
[null,"Program 6: Za{tita `ivotne sredine",null,null,null,null,null,null,{"$f":"Програми!B12","v":31350000},null,null,{"$f":"I218/I230*100","v":2.9562544499409089}]
[null,"Program 7:  Организација саобраћаја и саобраћајна инфраструктура",null,null,null,null,null,null,{"$f":"Програми!B13","v":187273000},null,null,{"$f":"I219/I230*100","v":17.659541933135049}]
[null,"Program 8: Pred{kolsko vaspitawe",null,null,null,null,null,null,{"$f":"Програми!B14","v":110543000},null,null,{"$f":"I220/I230*100","v":10.424026655815563}]
[null,"Program 9: Osnovno obrazovawe",null,null,null,null,null,null,{"$f":"Програми!B15","v":78064200},null,null,{"$f":"I221/I230*100","v":7.3613281859992687}]
[null,"Program 10: Sredwe obrazovawe",null,null,null,null,null,null,{"$f":"Програми!B16","v":44527500},null,null,{"$f":"I222/I230*100","v":4.1988714519854486}]
[null,"Program 11: Socijalna i de~ja za{tita",null,null,null,null,null,null,{"$f":"Програми!B17","v":22840000},null,null,{"$f":"I223/I230*100","v":2.1537751718229781}]
[null,"Program 12: Зdravstvena za{tita",null,null,null,null,null,null,{"$f":"Програми!B18","v":23000000},null,null,{"$f":"I224/I230*100","v":2.1688629138322457}]
[null,"Program 13: Razvoj kulture",null,null,null,null,null,null,{"$f":"Програми!B19","v":57172000},null,null,{"$f":"I225/I230*100","v":5.3912274134616158}]
[null,"Program 14: Razvoj sporta i omladine",null,null,null,null,null,null,{"$f":"Програми!B20","v":35416200},null,null,{"$f":"I226/I230*100","v":3.3396905534289383}]
[null,"Program 15: Lokalna samouprava",null,null,null,null,null,null,{"$f":"Програми!B21","v":239028600},null,null,{"$f":"I227/I230*100","v":22.540011560227928}]
[null,"Program 16: Политички систем локалне самоуправе",null,null,null,null,null,null,{"$f":"Програми!B22","v":37420000},null,null,{"$f":"I228/I230*100","v":3.5286456624175058}]
[null,"Program 17:  Енергетска ефикасност и обновљиви извори енергије",null,null,null,null,null,null,{"$f":"Програми!B23","v":18833520},null,null,{"$f":"I229/I230*100","v":1.7759705680399078}]
[null,"UKUPNO ZA PROGRAM OD 1-17",null,null,null,null,null,null,{"$f":"SUM(I213:K229)","v":1060463520}]
[]
[]
[]
[]
[]
[]
[]
[]
[]
[]
[]
[]
[]
[]
[]
[]
[]
[]
[]
[]
[]
[]
[]
[]
[]
[]
[]
[]
[]
[]
[]
[]
[]
[]
["III ИЗВРШЕЊЕ БУЏЕТА"]
[]
["Члан 8."]
["         У складу са Законом о начину одређивања максималног броја запослених у јавном сектору (\"Службени гласник РС\", број 68/2015 i 81/2016 - odluka US), i Odluke SO Bujanovac o odreђивању максималног броја запослених на неодређено време за сваки организациони облик у систему локалне самоуправе општине Бујановац за 2017. годину број 02-96/17 од 30.11.2017. године, број запослених код корисника буџета не може прећи максималан број запослених на неодређено и одређено време, и то:"]
[]
[]
[null,null,null,null,null,null,null,null,null,null,null,null,"??????"]
[null,null,165,null,"zaposleni u lokalnoj општинској управи na neodre|eno vreme;"]
[null,null,17,null,"zaposleni u lokalnoj општинској управи na odre|eno vreme;"]
[null,null,82,null,"zaposleni u pred{kolskој ustanovи \"Наша Радост\" na neodre|eno vreme;"]
[null,null,null,null,"zaposleni u pred{kolskој ustanovи \"Наша Радост\" na odre|eno vreme;"]
[null,null,16,null,"запослени у Дому културе \"Вук Караџић\" Бујановац на неодређено време;"]
[null,null,2,null,"запослени у Дому културе \"Вук Караџић\" Бујановац на одређено време;"]
[null,null,14,null,"запослени у Библиотеци \"14. новембар\"Бујановац на неодређено време;"]
[null,null,1,null,"запослени у Библиотеци \"14. новембар\"Бујановац на одређено време;"]
[null,null,18,null,"запослени у СЦ \"Младост\" Бујановац на неодређено време;"]
[null,null,1,null,"запослени у СЦ \"Младост\" Бујановац на одређено време;"]
[null,null,6,null,"запослени у Туристичкој организацији Бујановац на неодређено време;"]
[null,null,null,null,"запослени у Туристичкој организацији Бујановац на одређено време;"]
[]
["          U ovoj odluci o buxetu sredstva za plate se obezbe|uju za broj zaposlenih iz stava 1. ovog ~lana."]
[]
["Члан 9."]
["          За извршавање ове Одлуке одговоран је председник општине."]
["          Наредбодавац за извршење буџета је председник општине."]
[]
["Члан 10."]
["          Наредбодавац диретних и индиректних коriсника буџетских средстава је функционер (руководилац), односно лице које је одговорно за управљање средствима, преузимање обавеза, издавање налога за пла}ање који се извршавају из средстава органа као и издавање налога за уплату средстава која припадају буџету."]
[]
[]
["Члан 11."]
["          За законито и наменско коришћење средстава распоређених овом Одлуком, поред функционера односно руководиоца директних и индиректних корисника буџетских средстава, одговоран је начелник општинске управе."]
[]
[]
["Члан 12."]
["          Орган управе надлежан за финансије обавезан је да редовно прати извршење буџета и најмање два пута годишње информише председника општине (општинско веће), а обавезно у року од петнаест дана по истеку шестомесечног, односно деветомесечног периода."]
["          У року од петнаест дана по подношењу извештаја из става 1. овог члана општинско веће усваја и доставља извештај Скупштини општине. "]
["          Извештај садржи и одступања између усвојеног буџета и извршења и образложење великих одступања."]
[]
["Члан 13."]
["          Одлуку о промени апропијације из општих прихода буџета и преносу апропијације у текућу буџетску резерву, у складу са чланом 61. Закона о буџетском систему доноси општинско веће."]
[]
["Члан 14."]
["          Решење о употреби текуће буџетске резерве и сталне буџетске резерве на предлог локалног органа управе надлежног за финансије доноси општинско веће."]
[]
["Члан 15."]
["          Одлуку о отварању буџетског фонда у складу са чланом 64. Закона о буџетском систему доноси општинско веће."]
[]
["Члан 16."]
["          Општинско веће одговорно је за спровођење фискалне политике и управљање јавном имовином, приходима и примањима и расходима и издацима на начин који је у складу са Законом о буџетском систему."]
[]
["Члан 17."]
["          Овлаш}ује се председник општине да, у складу са чланом 27ж Закона о буџетском систему, мо`е поднети захтев министраству надлежном за послове финансија за одобрење фискалног дефицита изнад утврђеног дефицита од 10%, уколико је резултат реалiзације јавних инвестиција."]
[]
["Члан 18."]
["          Новчана средства буџета општине, директних и индиректних корисника средстава тог буџета, као и други корисници јавних средстава који су укључени у консолидовни рачун трезора општине, воде се и депонују на консолидованом рачуну трезора."]
[]
["Члан 19."]
["          Распоред и коришћење средстава вршиће се у 2019. години по посебном акту (решење) које доноси председник општине, на предлог органа за финансије у оквиру следећих раздела:"]
["- Раздео 1: Скупштина општине"]
["- Раздео 2: Председник општине"]
["- Раздео 3: Општинско веће"]
["- Раздео 4: Правобранилаштво општине Бујановац"]
["- Раздео 5: Општинска управа."]
[]
["Члан 20."]
["          Обавезе које преузимају директни и индиректни корисници буџетских средстава морају одговарати апропијацији која им је за ту намену овом Одлуком одобрена и пренета. "]
["          Изузетно корисници из става 1. овог члана, у складу са чланом 54. Закона о буџетском систему, могу преузети обавезе по уговору који се односи на капиталне издатке и захтева плаћање у више година, на основу предлога органа надлежног за послове финансија, уз сагласност општинског већа, а највише до износа исказаних у плану капиталних издатака из члана 3. ове одлуке.\n          Корисници буџетских средстава су обавезни да пре покретања поступка јавне набавке за преузимање обавеза по уговору за капиталне пројекте прибаве сагласност органа надлежног за финансије.",null,null,null,null,null,null,null,null,null,null,null,"   "]
["          Корисник буџетских средстава, који одређени расход извршава из средства буџета и из других прихода, обавезан је да измирење тог расхода прво врши из прихода из тих других извора."]
["          Обавезе преузете у 2019. години  у складу са одобреним апропијацијама у тој години, а не извршене у току 2019. године, преносе се у 2020. годину и имају статус преузетих обавеза и извршавају се на терет одобрених апропијација овом одлуком."]
[]
["Члан 21."]
["          Преузете обавезе и све финансијске обавезе морају бити извршене искључиво на принципу готовинске основе са konsolidovanog ra~una trezora , осим ako je zakonom, odnosno aktom Vlade predvi|en druga~iji metod."]
[]
["Члан 22."]
["          Korisnici buxetskih sredstava preuzimaju obaveze samo на оsnovu pisanog ugovora ili drugog pravnog akta, ukoliko zakonom nije drugaчije propisano."]
["          Плаћање из буџета неће се извршити уколико нису поштоване процедуре утврђене чланом 56. став 3. Закона о буџетском систему."]
[]
["Члан 23."]
["          Корисници буџетских средстава приликом додељивања уговора о набавци добара, пружању услуга или извођењу грађевинских радова, морају да поступе у складу са Zakonom o javnim nabavkama (''Slu`beni glasnik RS'', broj 124/2012, 14/2015 i 68/2015). Javna nabavka male vreдnosti, u smislu ~lana 39. Zakona o javnim nabavkama smatra se nabavka istovrsnih dobara, usluga ili radova ~ija je ukupna procewena vrednost na godi{wem nivou ni`a od 5.000.000,00 dinara."]
[]
["Члан 24."]
["          Обавезе према корисницима буџетских средстава извршавају се сразмерно оствареним примањима буџета. Ако се у току годинe primawa смање, издаци буџета извршаваће се по приоритетима, и то: обавезе утврђене законским прописима на постојећем нивоу и минимални стални трошкови неопходни за несметано функционисање корисника буџетских средстава."]
[]
["Члан 25."]
["          Средства распоређена за финансирање расхода и издатака корисника буџета, преносе се на основу њиховог захтева и у складу са одобреним квотама у тромесечним плановима буџета."]
["          Уз захтев, корисници су дужни да доставе комплетну документацију за плаћање (копије)."]
[]
["Члан 26."]
["          Новчана средства на консолидованом рачуну трезора могу се инвестирати у 2019. години само у складу са чланом 10. Закона о буџетском систему, при чему су, у складу сa истим чланом Закона, председник општине, односно лице које он овласти, одговорни за ефикасност и сигурност тог инвестирања."]
[]
["Члан 27."]
["          Општинско веће донеће програм рационализације којим ће обухватити све кориснике јавних средстава, укључујући и одређене критеријуме за извршење тог програма, и о томе обавестити скупштину општине."]
["          Корисник буџетских средстава не може, без предходне сагласности председника општине, засновати радни однос са новим лицима до краја 2019. године, уколико средства потребна за исплату плата тих лица нису обезбеђена у оквиру износа средстава која су , у складу са овом одлуком, предвиђена за плате том буџетском кориснику и програмом рационализације из става 1. овог члана."]
["Члан 28."]
["          Директни и индиректни корисници буџетских средстава u 2019. godini oba~unatu ispravku vrednosti nefinasijske imovine iskazuju na teret kapitala, odnosno ne iskazuju rashod amortizacije i upotrebe sredstava za rad."]
["Члан 29."]
["          За финансирање дефицита текуће ликvидности, који може да настане услед неуравнотежености кретања у приходима и расходима буџета, председник општине може се задужити у складу са одредбама члана 35. Закона о јавном дугу (\"Службени гласник РС\", број 61/2005, 107/2009, 78/2011 и 68/2015)."]
[]
["Члан 30."]
["          Корисници буџетских средстава пренеће на рачун извршења буџета до 31. децембра 2018. године, средства која нису утрошена за финансирање расхода у 2018. години, која су овим корисницима пренета у складу са Одлуком о буџету општине Бујановац за 2018. годину."]
[]
[]
["Члан 31."]
["          Изузетно, у случају да се буџету општине Бујановац из другог буџета (Републике, Покрајине, друге општине) определе актом наменска средства, укључујући и наменска трансферна средства за надокнаду штета услед елементарних непогода, као и у случају уговарања донације, чији износи нису могли бити познати у поступку доношења ове одлуке, орган управе надлежан за финансије на основу тог акта отвара одговарајуће апропијације за извршење расхода по том основу, у складу са чланом 5. Закона о буџетском систему."]
[]
["Члан 32."]
["          Плаћање са консолидованог рачуна трезора за реализацију обавеза других корисника јавних средстава, у смислу Закона о буџетском систему који су укључени у систем консолидованог рачуна трезора, неће се вршити уколико ови корисници нису добили сагласност на финансијски план на начин прописан законом, односно актом Скупштине општине и уколико тај план нису доставили Управи за трезор."]
[]
["Члан 33."]
["          U buxetskoj 2019.godini ne}e se vr{iti obra~un i isplata bo`i}nih, godi{wih i drugih vrsta naknada i bonusa predvi|enih posebnim i pojedina~nim kolektivnim ugovorima, za direktne i indirektne korisnike, sredstava buxeta, osim jubilarnih nagrada za zaposlene koje su to pravo stekli u 2019. godini."]
[]
[]
[]
["Такође у 2019. години не могу се исплаћивати запосленима код директних и индиректних корисника буџетских средстава локалне власти награде и бонуси који према међународним критеријумима представљају нестандардне, односно нетранспарентне облике награда и бонуса."]
["Члан 34."]
["          Korisnik buxetskih sredstava, koji odre|eni rashod i izdatak izvr{ava iz drugih izvora prihoda i primawa, koji nisu op{ti prihod buxeta (izvor O1-prihodi iz buxeta), obaveze mo`e preuzimati samo do nivoa ostvarewa tih prihoda ili primawa, ukoliko je nivo ostvarenih prihoda i primawa mawi od odobrenih aproprijacija."]
[]
[]
[]
["          Korisnik buxetskih sredstava, kod koga u toku godine do|e do umawewa odobrenih aproprijacija iz razloga izvr{ewa prinudne naplate, za iznos umawewa preuze}e odgovaрaju}e mere u ciqu prilago|avawa preuzete obaveze, tako {to }e predlo`iti umawewe obaveze, odnosno produ`ewe ugovornog roka za plaћawe ili otkazati ugovor."]
[]
[]
[]
["Члан 35."]
["          Prioritet u izvr{avawu rashoda za robe i usluge korisnika buxetskih sredstava imaju rashodi za stalne tro{kove, tro{kovi teku}ih popravki i odr`avawa i materijal. "]
[]
["          Korisnici buxetskih sredstava du`ni su da obaveze nastale po osnovu stalnih tro{kova, tro{kova teku}ih popravki i odr`avawa, materijala, kao i po osnovu kapitalnih izdataka izmire u roku utvr|enom zakonom koji reguli{e rokove izmirewa novanih obaveza u komercijalnim transakcijama,"]
[]
[]
[]
[]
["Члан 36."]
["          Ovu odluku objaviti u  \"Службеном гласнику op{tine Bujanovac\", интернет страници општине i dostaviti ministarstvu nadle`nom za poslove finansija."]
[]
["Члан 37."]
["  Ova odluka stupa na snagu 8 дана од дана objavqivawa u \"Службеном гласнику op{tine Bujanovac\", "]
[" a primewiva}e se od 01.01.2019. godine"]
[]
["СКУПШТИНА ОПШТИНЕ БУЈАНОВАЦ"]
[]
[]
["Broj: 400-437",null,null,null,null,null,null,null,null,null,"Predsednik,"]
[]
[null,null,null,null,null,null,null,null,null,null,"dr Adnan Salihi"]

{"sheet":"Prihodi R1","index":1,"n_rows":136,"n_cols":9,"rows_kept":136,"cut":false,"hidden":false,"merged":[[0,0,0,8],[1,1,1,8]]}
["PLAN PRIHODA"]
[1,"BUXET OP[TINE BUJANOVAC "]
["ekonomska klasifik.","opis","sredstva iz buxeta","Sredstva iz ostalih izvora","Sredstva iz sopstvenih izvora","Sredstva iz ostalih izvora","Sredstva iz ostalih izvora","Ukupno","struktura u %"]
[null,"Preneta sredstva iz predhodne godine",3833520,null,null,null,null,{"$f":"C4+D4+E4+F4","v":3833520},{"$f":"H4/H136*100","v":0.3614947546710518}]
[710000,"Porezi",{"$f":"C6+C27+C41+C58","v":368650000},{"$f":"D6+D27+D41+D58","v":0},null,{"$f":"F6+F27+F41+F58","v":0},{"$f":"G6+G27+G41+G58","v":0},{"$f":"H6+H27+H41+H58","v":368650000},{"$f":"H5/H135*100","v":34.889223285350596}]
[711000,"Porezi na dohodak i kapitalne dobitke koje pla}aju fizi~ka lica",{"$f":"C7+C9+C13+C19+C21+C23","v":247000000},{"$f":"D7+D9+D13+D19+D21+D23","v":0},null,0,0,{"$f":"C6+D6+E6+F6","v":247000000},{"$f":"H6/H135*100","v":23.376205483471036}]
[711110,"Porez na zarade",{"$f":"C8","v":206500000},{"$f":"D8","v":0},null,0,null,{"$f":"C7+D7+E7+F7","v":206500000},{"$f":"H7/H135*100","v":19.543264908246027}]
[711111,"Порез на зараде",206500000,null,null,null,null,206500000,{"$f":"H8/H135*100","v":19.543264908246027}]
[711120,"Porez na prihode od samostalnih delatnosti",{"$f":"C10+C11+C12","v":12550000},{"$f":"D10+D11+D12","v":0},null,0,0,12550000,{"$f":"H9/H135*100","v":1.1877383757796012}]
[711121,"Порез на приходе од самосталних делатности који се плаћа према стварно оствареном приходу, по решењу Пореске управе",150000,null,null,null,null,150000,{"$f":"H10/H135*100","v":1.4196076204537066E-2}]
[711122,"Порез на приходе од самосталних делатности који се плаћа према паушално утврђеном приходу, по решењу Пореске управе",7200000,null,null,null,null,7200000,{"$f":"H11/H135*100","v":0.68141165781777913}]
[711123,"Порез на приходе од самосталних делатности који се плаћа према стварно оствареном приходу самоопорезивањем",5200000,null,null,null,null,5200000,{"$f":"H12/H135*100","v":0.49213064175728499}]
[711140,"Porez na prihode od imovine",{"$f":"C14+C15+C16+C17+C18","v":300000},{"$f":"D14+D15+D16+D17+D18","v":0},null,0,0,300000,{"$f":"H13/H135*100","v":2.8392152409074133E-2}]
[711143,"Порез на приходе од непокретности",50000,null,null,null,null,50000,{"$f":"H14/H135*100","v":4.7320254015123554E-3}]
[711145,"Порез на приходе од давања у закуп покретних ствари - по основу самоопорезивања и по решењу Пореске управе ",100000,null,null,null,null,100000,{"$f":"H15/H135*100","v":9.4640508030247109E-3}]
[711146,"Порез на приход од пољопривреде и шумарства, по решењу Пореске управе",50000,null,null,null,null,50000,{"$f":"H16/H135*100","v":4.7320254015123554E-3}]
[711147,"Порез на земљиште",50000,null,null,null,null,50000,{"$f":"H17/H135*100","v":4.7320254015123554E-3}]
[711148,"Порез на приходе од непокретности, по решењу Пореске управе",50000,null,null,null,null,50000,{"$f":"H18/H135*100","v":4.7320254015123554E-3}]
[711160,"Porez na prihode od osigurawa lica",{"$f":"C20","v":0},{"$f":"D20","v":0},null,0,null,0,{"$f":"C19/C135*100","v":0}]
[711161,"Порез на приходе од осигурања лица",null,null,null,null,null,0,{"$f":"C20/C135*100","v":0}]
[711180,"Samodoprinosi",{"$f":"C22","v":0},{"$f":"D22","v":0},null,0,null,0,{"$f":"C21/C135*100","v":0}]
[711181,"Самодоприноси",null,null,null,null,null,0,{"$f":"C22/C135*100","v":0}]
[711190,"Porez na druge prihode",{"$f":"C24+C26+C25","v":27650000},{"$f":"D24+D26+D25","v":0},null,0,0,27650000,{"$f":"H23/H135*100","v":2.6168100470363322}]
[711191,"Порез на друге приходе",27450000,null,null,null,null,27450000,{"$f":"H24/H135*100","v":2.5978819454302831}]
[711192,"Porez na neprijavqeni prihod utvr|en unakrsnom procenom",100000,null,null,null,null,100000,{"$f":"H25/H135*100","v":9.4640508030247109E-3}]
[711193,"Porez na prihode sportista i sportskih stru~waka",100000,null,null,null,null,100000,{"$f":"H26/H135*100","v":9.4640508030247109E-3}]
[713000,"Porez na imovinu",{"$f":"C28+C32+C34+C39","v":66550000},{"$f":"D28+D32+D34+D39","v":0},null,0,0,66550000,{"$f":"H27/H135*100","v":6.2983258094129457}]
[713120,"Porez na imovinu",{"$f":"C29+C30+C31","v":38800000},{"$f":"D29+D30+D31","v":0},null,{"$f":"F29+F30+F31","v":0},0,38800000,{"$f":"H28/H135*100","v":3.6720517115735882}]
[713121,"Порез на имовину (осим на земљиште, акције и уделе) од физичких лица",19800000,null,null,null,null,19800000,{"$f":"H29/H135*100","v":1.8738820589988925}]
[713122,"Порез на имовину (осим на земљиште, акције и уделе) од правних лица",19000000,null,null,null,null,19000000,{"$f":"H30/H135*100","v":1.7981696525746951}]
[713125,"Порез на имовину обвезника који воде пословне књиге                                  ",null,null,null,null,null,0,{"$f":"C31/C135*100","v":0}]
[713310,"Porez na nasle|e i poklon",{"$f":"C33","v":5000000},{"$f":"D33","v":0},null,0,0,5000000,{"$f":"H32/H135*100","v":0.47320254015123553}]
[713311,"Порез на наслеђе и поклон по решењу Пореске управе",5000000,null,null,null,null,5000000,{"$f":"H33/H135*100","v":0.47320254015123553}]
[713420,"Porez na kapitalne transakcije",{"$f":"C35+C36+C37+C38","v":22750000},{"$f":"D35+D36+D37+D38","v":0},null,0,0,22750000,{"$f":"H34/H135*100","v":2.1530715576881216}]
[713421,"Порез на пренос апсолутних права на непокретности, по решењу Пореске управе",15500000,null,null,null,null,15500000,{"$f":"H35/H135*100","v":1.4669278744688301}]
[713422,"Порез на пренос апсолутних права на акцијама и другим хартијама од вредности, по решењу Пореске\nуправе",50000,null,null,null,null,50000,{"$f":"H36/H135*100","v":4.7320254015123554E-3}]
[713423,"Порез на пренос апсолутних права на моторним возилима, пловилима и ваздухопловима, по решењу Пореске управе        ",7200000,null,null,null,null,7200000,{"$f":"H37/H135*100","v":0.68141165781777913}]
[713424,"Порез на пренос апсолутних права у осталим случајевима, по решењу Пореске управе      ",null,null,null,null,null,0,{"$f":"C38/C135*100","v":0}]
[713610,"Porez na akcije na ime i udele",{"$f":"C40","v":0},{"$f":"D40","v":0},null,0,null,0,{"$f":"C39/C135*100","v":0}]
[713611,"Порез на акције на име и уделе",null,null,null,null,null,0,{"$f":"C40/C135*100","v":0}]
[714000,"Porez na dobra i usluge",{"$f":"C42+C44+C46+C49+C52+C54+C56","v":28100000},{"$f":"D42+D44+D46+D49+D52+D54+D56","v":0},null,{"$f":"F42+F44+F46+F49+F52+F54+F56","v":0},{"$f":"G42+G44+G46+G49+G52+G54+G56","v":0},28100000,{"$f":"H41/H135*100","v":2.6593982756499437}]
[714430,"Komunalna taksa za kori{}ewe reklamnih panoa",{"$f":"C43","v":200000},{"$f":"D43","v":0},null,0,0,200000,{"$f":"H42/H135*100","v":1.8928101606049422E-2}]
[714431,"Комунална такса за коришћење рекламних паноа, укључујући и истицање и исписивање фирме ван пословног простора на објектима и просторима који припадају јединици локалне самоуправе(коловози, тротоари, зелене површине, бандере и сл.)  ",200000,null,null,null,null,200000,{"$f":"H43/H135*100","v":1.8928101606049422E-2}]
[714440,"Sredstva za vanredne situacije",{"$f":"C45","v":0},{"$f":"D45","v":0},null,0,null,0,{"$f":"C44/C135*100","v":0}]
[714441,"Средства за противпожарну заштиту",null,null,null,null,null,0,{"$f":"C45/C135*100","v":0}]
[714510,"Porezi, takse I naknade na motorna vozila",{"$f":"C47+C48","v":21000000},{"$f":"D47+D48","v":0},null,0,0,21000000,{"$f":"H46/H135*100","v":1.9874506686351892}]
[714513,"Комунална такса за држање моторних друмских и прикључних возила, осим пољопривредних возила и машина",21000000,null,null,null,null,21000000,{"$f":"H47/H135*100","v":1.9874506686351892}]
[714514,"Годишња накнада за друм.мот. возила, тракторе и прикључна возила",null,null,null,null,null,0,{"$f":"C48/C135*100","v":0}]
[714540,"Naknade za kori{}ewe dobara od op{teg interesa",{"$f":"C50+C51","v":1600000},{"$f":"D50","v":0},null,{"$f":"F50","v":0},{"$f":"G50","v":0},1600000,{"$f":"H49/H135*100","v":0.15142481284839537}]
[714543,"Накнада за промену намене обрадивог пољопривредног земљишта",1600000,null,null,null,null,1600000,{"$f":"H50/H135*100","v":0.15142481284839537}]
[714548,"Naknade za supstance koje o{te}uju oznski omota~ i nak.za pl.kese",null,null,null,null,null,0,{"$f":"H51/H136*100","v":0}]
[714550,"Koncesione naknade i boravisne takse",{"$f":"C53","v":100000},{"$f":"D53","v":0},null,0,0,100000,{"$f":"H52/H135*100","v":9.4640508030247109E-3}]
[714552,"Боравишна такса",100000,null,null,null,null,100000,{"$f":"H53/H135*100","v":9.4640508030247109E-3}]
[714560,"Op{tinske i gradske naknade",{"$f":"C55","v":5000000},{"$f":"D55","v":0},null,0,0,5000000,{"$f":"H54/H135*100","v":0.47320254015123553}]
[714562,"Посебна накнада за заштиту и унапређење животне средине",5000000,null,null,null,null,5000000,{"$f":"H55/H135*100","v":0.47320254015123553}]
[714570,"Op{tinske i gradske komunalne naknade",{"$f":"C57","v":200000},{"$f":"D57","v":0},null,0,0,200000,{"$f":"H56/H135*100","v":1.8928101606049422E-2}]
[714572,"Комунална такса за држање средстава за игру („забавне игре“)",200000,null,null,null,null,200000,{"$f":"H57/H135*100","v":1.8928101606049422E-2}]
[716000,"Drugi porezi",{"$f":"C59","v":27000000},{"$f":"D59","v":0},null,0,0,27000000,{"$f":"H58/H135*100","v":2.5552937168166716}]
[716110,"Komunalna taksa na firmu",{"$f":"C60","v":27000000},0,null,0,0,27000000,{"$f":"H59/H135*100","v":2.5552937168166716}]
["716111","Комунална такса за истицање фирме на пословном простору",27000000,null,null,null,null,27000000,{"$f":"H60/H135*100","v":2.5552937168166716}]
["731000","Донације од иностраних држава",{"$f":"C62","v":0},{"$f":"D62","v":4700000},null,{"$f":"F62+F66","v":0},0,{"$f":"SUM(C61:G61)","v":4700000},{"$f":"H61/H135*100","v":0.44481038774216136}]
["731100","Текуће донације од иностраних држава",{"$f":"C63","v":0},4700000,null,{"$f":"F63+F64+F65","v":0},0,{"$f":"SUM(C62:G62)","v":4700000},{"$f":"H62/H135*100","v":0.44481038774216136}]
["731151","Текуће донације од иностраних држава у корист нивоа општина",null,4700000,null,null,null,{"$f":"SUM(C63:G63)","v":4700000},{"$f":"H63/H135*100","v":0.44481038774216136}]
["733000","Transferi od drugih nivoa vlasti",{"$f":"C65+C69","v":391927698},{"$f":"D65+D69","v":148930000},null,0,0,540857698,{"$f":"H64/H135*100","v":51.187047310789971}]
["733150","Teku}i transferi od drugih nivoa vlasti u korist nivoa op{tina",{"$f":"C66+C67+C68","v":391927698},{"$f":"D66+D67+D68","v":33930000},null,0,0,425857698,{"$f":"H65/H135*100","v":40.303388887311549}]
[733151,"Ненаменски трансфери од Републике у корист нивоа општина",391927698,null,null,null,null,391927698,{"$f":"H66/H135*100","v":37.092236449845259}]
[733152,"Други текући трансфери од Републике у корист нивоа општина",null,8200000,null,null,null,8200000,{"$f":"H67/H135*100","v":0.77605216584802628}]
["733154","Текући наменски трансфери, у ужем смислу, од Републике у корист нивоа општина",null,25730000,null,null,null,25730000,{"$f":"H68/H135*100","v":2.4351002716182584}]
["733250","Kapitalni  transferi od drugih nivoa vlasti u korist nivoa op{tina",{"$f":"C70","v":0},{"$f":"D70","v":115000000},null,0,0,115000000,{"$f":"H69/H135*100","v":10.883658423478417}]
["733251","Капитални трансфери од других нивоа власти у корист нивоа општина",null,115000000,null,null,null,115000000,{"$f":"H70/H135*100","v":10.883658423478417}]
["741000","Prihodi od imovine",{"$f":"C72+C74+C79+C76","v":73150000},{"$f":"D72+D74+D79+D76","v":0},null,0,0,{"$f":"C71+D71+E71+F71","v":73150000},{"$f":"H71/H135*100","v":6.9229531624125764}]
["741150","Kamate na sredstva konsolidovanog ra~una trezora op{tina",{"$f":"C73","v":0},{"$f":"D73","v":0},null,0,0,0,{"$f":"H72/H135*100","v":0}]
["741151","Приходи буџета општине од камата на средства консолидованог рачуна трезора укључена у депозит банака",null,null,null,null,null,0,{"$f":"H73/H135*100","v":0}]
["741410","Prihod od imovine ",{"$f":"C75","v":0},{"$f":"D75","v":0},null,0,null,0,{"$f":"C74/C135*100","v":0}]
["741411","Приход од имовине који припада имаоцима полисе осигурања",null,null,null,null,null,{"$f":"C75+D75+E75+F75","v":0},{"$f":"C75/C135*100","v":0}]
["741520","Накнада за коришћење шумског и пољопривредног земљишта",{"$f":"C77+C78","v":500000},{"$f":"D77+D78","v":0},null,0,0,500000,{"$f":"H76/H135*100","v":4.7320254015123554E-2}]
["741522","Sredstva ostvarena od davawa u zakup poqoprivrednog zemqi{ta, odnosno poqoprivrednog objekta u dr`avnoj svojini ",50000,null,null,null,null,50000,{"$f":"H77/H135*100","v":4.7320254015123554E-3}]
["741526","Naknada za kori{}ewe {uma i {umskog zemqi{ta",450000,null,null,null,null,450000,{"$f":"H78/H135*100","v":4.2588228613611195E-2}]
["741530","Naknada za kori{}ewe prostora i gra|evinskog zemqi{ta",{"$f":"C80+C81+C82+C83+C85+C84","v":72650000},{"$f":"D80+D81+D82+D83+D85","v":0},null,0,0,72650000,{"$f":"H79/H135*100","v":6.8756329083974528}]
["741531","Комунална такса за коришћење простора на јавним површинама или испред пословног простора у пословне сврхе, осим ради продаје штампе, књига и других публикација, производа старих и уметничких заната и домаће радиности",67800000,null,null,null,null,67800000,{"$f":"H80/H135*100","v":6.4166264444507544}]
["741532","Комунална такса за коришћење простора за паркирање друмских моторних и прикључних возила на уређеним и обележеним местима",null,null,null,null,null,0,{"$f":"H81/H135*100","v":0}]
["741533","Комунална такса за коришћење слободних површина за кампове, постављање шатора или друге облике привременог коришћења",50000,null,null,null,null,50000,{"$f":"H82/H135*100","v":4.7320254015123554E-3}]
["741534","Накнада за коришћење грађевинског земљишта",null,null,null,null,null,0,{"$f":"H83/H136*100","v":0}]
["741534","Naknada za kori{}ewe  gradskog gra|evinskog zemwi{ta",4500000,null,null,null,null,{"$f":"SUM(C84:G84)","v":4500000},{"$f":"H84/H135*100","v":0.42588228613611195}]
["741535","Комунална такса за заузеће јавне површине грађевинским материјалом",300000,null,null,null,null,300000,{"$f":"H85/H135*100","v":2.8392152409074133E-2}]
["741542","Накнада за коришћење природног лековитог фактора",null,null,null,null,null,0,{"$f":"C86/C135*100","v":0}]
["741560","Накнада за воде",null,null,null,null,null,0,{"$f":"C87/C135*100","v":0}]
["742000","Prihodi od prodaje dobara i usluga",{"$f":"C91+C99+C104+C89+C106","v":48210000},{"$f":"D91+D99+D104+D89","v":0},null,0,0,{"$f":"C88+D88+E88+F88","v":48210000},{"$f":"H88/H135*100","v":4.5626188921382127}]
["742120","Prihodi od prodaje dobara i usluga ili zakupa od strane tr`i{nih organizacija u korist nivoa Republike",{"$f":"C90","v":0},{"$f":"D90","v":0},null,0,0,0,{"$f":"H89/H135*100","v":0}]
["742126","Накнада конверзије права у корист нивоа Republike ",null,null,null,null,null,0,{"$f":"H90/H135*100","v":0}]
["742150","Prihodi od prodaje dobara i usluga ili zakupa od strane tr`i{nih organizacija u korist nivoa op{tina",{"$f":"C92+C94+C95+C96+C97+C93+C98","v":18610000},{"$f":"D92+D94+D95+D96+D97+D93+D98","v":0},0,0,0,18610000,{"$f":"H91/H135*100","v":1.7612598544428988}]
["742152","Приходи од davawa u zakup, odnosno na kori{}ewe nepokretnosti u dr`avnoj svojini koje koriste op{tine i indirektni korisnici wihovog buxeta",null,null,null,null,null,0,{"$f":"C92/C135*100","v":0}]
["742152","Приходи од davawa u zakup, odnosno na kori{}ewe nepokretnosti u dr`avnoj svojini koje koriste op{tine i indirektni korisnici wihovog buxeta",null,null,null,null,null,{"$f":"C93+D93+E93+F93","v":0},{"$f":"H93/H135*100","v":0}]
["742153","Приходи од закупнине за грађевинско земљиште у корист нивоа општина",1800000,null,null,null,null,1800000,{"$f":"H94/H135*100","v":0.17035291445444478}]
["742154","Накнада по основу конверзије права коришћења у право својине у корист нивоа општине",50000,null,null,null,null,50000,{"$f":"H95/H135*100","v":4.7320254015123554E-3}]
["742155","Приходи од давања у закуп, односно на коришћење непокретности у општинској својини које користе општине и индиректни корисници њиховог буџета",9140000,null,null,null,null,9140000,{"$f":"H96/H135*100","v":0.8650142433964586}]
["742156","Prihodi ostvareni po osnovu pru`awa usluga boravka dece u pred{kolskim ustanovama u korist nivoa op{tina",null,null,null,null,null,0,{"$f":"H97/H136*100","v":0}]
["742156","Prihodi ostvareni po osnovu pru`awa usluga boravka dece u pred{kolskim ustanovama u korist nivoa op{tina",7620000,null,null,null,null,7620000,{"$f":"H98/H135*100","v":0.72116067119048288}]
["742250","Takse u korist nivoa op{tina",{"$f":"C100+C101+C102+C103","v":29500000},{"$f":"D100+D101+D102+D103","v":0},null,0,0,29500000,{"$f":"H99/H135*100","v":2.7918949868922898}]
[742251,"Општинске административне таксе",6500000,null,null,null,null,6500000,{"$f":"H100/H135*100","v":0.6151633021966062}]
[742252,"Накнада за обавезни здравствени преглед биља",null,null,null,null,null,0,{"$f":"C101/C135*100","v":0}]
[742253,"Накнада за уређивање грађевинског земљишта",16500000,null,null,null,null,16500000,{"$f":"H102/H135*100","v":1.5615683824990771}]
[742255,"Такса за озакоњење објеката",6500000,null,null,null,null,6500000,{"$f":"H103/H135*100","v":0.6151633021966062}]
[742350,"Prihodi op{tinskih organa od sporedne prodaje dobara i usluga koje vr{e dr`avne netr`i{ne jedinice",{"$f":"C105","v":0},{"$f":"D105","v":0},null,0,0,0,{"$f":"H104/H135*100","v":0}]
[742351,"Приходи koji svojom delatno{}u ostvare organi i organizacije op{tina",null,null,null,null,null,0,{"$f":"H105/H135*100","v":0}]
[742370,"Prihodi indirektnih korisnika buxeta lokalne samouprave koji se ostvaruju dodatnim aktivnostima ",{"$f":"C107","v":100000},null,null,null,null,{"$f":"SUM(C106:G106)","v":100000},{"$f":"H106/H135*100","v":9.4640508030247109E-3}]
[742372,"Prihodi indirektnih korisnika buxeta lokalne samouprave koji se ostvaruju dodatnim aktivnostima ",100000,null,null,null,null,{"$f":"SUM(C107:G107)","v":100000},{"$f":"H107/H135*100","v":9.4640508030247109E-3}]
[743000,"Nov~ane kazne i oduzeta imovinska korist",{"$f":"C109+C111+C119","v":11680000},{"$f":"D109+D111","v":0},null,0,0,11680000,{"$f":"H108/H135*100","v":1.1054011337932861}]
[743320,"Prihodi od nov~anih kazni za prekr{aje u korist nivoa Republike",{"$f":"C110","v":10930000},{"$f":"D110","v":0},null,0,0,10930000,{"$f":"H109/H135*100","v":1.0344207527706009}]
["743324","Приходи од новчаних казни за прекршаје, предвиђене прописима о безбедности саобраћаја на путевима",10930000,null,null,null,null,10930000,{"$f":"H110/H135*100","v":1.0344207527706009}]
["743350","Приходи од новчаних казни izre~enih у прекршајном поступку за прекршаје прописане актом скупштине општине",{"$f":"C112+C118","v":250000},{"$f":"D112","v":0},null,0,0,250000,{"$f":"H111/H135*100","v":2.3660127007561777E-2}]
["743351","Приходи од новчаних казни изрe~ених у прекршајном поступку за прекршаје прописане актом скупштине општине",200000,null,null,null,null,200000,{"$f":"H112/H135*100","v":1.8928101606049422E-2}]
["744000","Dobrovoqni transferi od fizi~kih i pravnih lica",{"$f":"C114+C116","v":0},{"$f":"D114+D116","v":0},null,0,null,0,{"$f":"H113/H136*100","v":0}]
["744150","Teku}i dobrovoqni transferi od fizi~kih i pravnih lica u korist nivoa op{tina",{"$f":"C115","v":0},{"$f":"D115","v":0},null,0,null,0,{"$error":"#DIV/0!"}]
["744151","Текући добровољни трансфери од физичких и правних лица у корист нивоа op{tina",null,null,null,null,null,0,{"$error":"#DIV/0!"}]
["744250","Kapitalni dobrovoqni transferi od fizi~kih i pravnih lica u korist nivoa op{tina",{"$f":"C117","v":0},{"$f":"D117","v":0},null,0,null,0,{"$error":"#DIV/0!"}]
["744251","Капитални добровољни трансфери од физичких и правних лица у корист нивоа op{tina",null,null,null,null,null,0,{"$error":"#DIV/0!"}]
["743353","Prihodi od mandatnih kazni i kazni izre~enih u upravnom postupku u korist nivoa op{tine",50000,null,null,null,null,50000,{"$f":"H118/H135*100","v":4.7320254015123554E-3}]
["743920","Prihodi od poreskog duga 5% na dan prinudne naplate LPA",{"$f":"C120","v":500000},null,null,null,null,{"$f":"SUM(C119:G119)","v":500000},{"$f":"H119/H135*100","v":4.7320254015123554E-2}]
["743924","Prihodi od poreskog duga 5% na dan prinudne naplate LPA",{"$f":"500000","v":500000},null,null,null,null,{"$f":"SUM(C120:G120)","v":500000},{"$f":"H120/H135*100","v":4.7320254015123554E-2}]
["745000","Me{oviti i neodre|eni prihodi",{"$f":"C122","v":9082302},{"$f":"D122","v":0},null,0,0,9082302,{"$f":"H121/H135*100","v":0.85955367536412941}]
["745150","Me{oviti i neodre|eni prihodi u korist nivoa op{tina",{"$f":"C123+C124","v":9082302},{"$f":"D123+D124","v":0},null,0,0,9082302,{"$f":"H11/H135*100","v":0.68141165781777913}]
["745151","Остали приходи у корист нивоа општина",9082302,null,null,null,null,9082302,{"$f":"H123/H135*100","v":0.85955367536412941}]
["745152","Закупнина за стан у државној својини у корист нивоа општина",null,null,null,null,null,0,{"$f":"C124/C135*100","v":0}]
["772000","Меморандумске ставке за рефундацију расхода иѕ предходне године",{"$f":"C126","v":0},{"$f":"D126","v":0},null,0,0,0,{"$f":"H125/H135*100","v":0}]
["772110","Меморандумске ставке за рефундацију расхода иѕ предходне године",{"$f":"C127","v":0},0,null,0,0,0,{"$f":"H126/H135*100","v":0}]
["772111","Меморандумске ставке за рефундацију расхода иѕ предходне године",null,null,null,null,null,0,{"$f":"H127/H135*100","v":0}]
["791000","Приходи из буџета",{"$f":"C129","v":0},{"$f":"D129","v":0},null,0,0,0,{"$f":"H128/H135*100","v":0}]
["791110","Приходи из буџета",{"$f":"C130","v":0},0,null,0,0,0,{"$f":"H129/H135*100","v":0}]
["791111","Приходи из буџета",null,{"$f":"20000000-20000000","v":0},null,null,null,{"$f":"C130+D130+E130+G130","v":0},{"$f":"H130/H135*100","v":0}]
["811000","Primawa od prodaje osnovnih sredstava",{"$f":"C132","v":300000},{"$f":"D132","v":0},null,0,0,300000,{"$f":"H131/H135*100","v":2.8392152409074133E-2}]
["811150","Primawa od prodaje nepokretnosti u korist nivoa op{tina",{"$f":"C134+C133","v":300000},{"$f":"D134","v":0},null,{"$f":"F134","v":0},{"$f":"G134","v":0},300000,{"$f":"H132/H135*100","v":2.8392152409074133E-2}]
["811152","Prihodi od prodaje stanova u korist nivoa op{tine",null,null,null,null,null,{"$f":"SUM(C133:G133)","v":0},{"$f":"H133/H136*100","v":0}]
[811153,"Примања од отплате станова у корист нивоа општина",300000,null,null,null,null,300000,{"$f":"H134/H135*100","v":2.8392152409074133E-2}]
[null,"UKUPNO TEKU]I PRIHODI I PRIMAWA",{"$f":"C6+C27+C41+C58+C64+C71+C88+C108+C125+C128+C131+C121","v":903000000},{"$f":"D6+D27+D41+D58+D64+D71+D88+D108+D113+D125+D128+D131+D121+D61","v":153630000},{"$f":"E6+E27+E41+E58+E64+E71+E88+E108+E113+E125+E128+E131+E121+E61","v":0},{"$f":"F6+F27+F41+F58+F64+F71+F88+F108+F113+F125+F128+F131+F121","v":0},{"$f":"G6+G27+G41+G58+G64+G71+G88+G108+G113+G125+G128+G131+G121","v":0},{"$f":"C135+D135+E135+F135+G135","v":1056630000},{"$f":"(C135+D135+E135+G135)/H135*100","v":100}]
[null,"UKUPNO PRENETA SREDSTVA TEKU]I PRIHODI I PRIMAWA",{"$f":"C135+C4","v":906833520},153630000,0,0,0,1060463520,{"$f":"(C136+D136+E136+G136)/H136*100","v":100}]

{"sheet":"Функ.клас","index":2,"n_rows":65,"n_cols":12,"rows_kept":65,"cut":false,"hidden":false,"merged":[[1,0,1,5],[2,0,2,5],[59,0,59,5],[61,0,61,5],[64,0,67,5]]}
[]
["^lan  5."]
["       Izdaci buxeta, po funkcionalnoj klasifikaciji, utvr|eni su i raspore|eni u slede}im iznosima:"]
[]
["Функције","Функционална класификација","Средства из буџета","Структура %","Средства из осталих извора","Укупна средства"]
[1,2,3,4,5,6]
["000","СОЦИЈАЛНА ЗАШТИТА",{"$f":"SUBTOTAL(9,C8:C9)","v":22790000},{"$f":"C7/$C$57*100","v":2.4678390436176203},{"$f":"SUBTOTAL(9,E8:E9)","v":6250000},{"$f":"SUBTOTAL(9,F8:F9)","v":29040000}]
["070","Социјална помоћ угроженом становништву, некласификована на другом месту",10540000,1.1413349504049899,3200000,{"$f":"C8+E8","v":13740000}]
["090","Социјална заштита некласификована на другом месту",12250000,1.3265040932126306,3050000,{"$f":"C9+E9","v":15300000}]
["100","ОПШТЕ ЈАВНЕ УСЛУГЕ",{"$f":"SUBTOTAL(9,C11:C14)","v":279707600},30.288430718586216,null,{"$f":"SUBTOTAL(9,F11:F14)","v":279707600}]
["110","Извршни законодавни органи, финансијски и фискални послови и спољни послови",{"$f":"SUBTOTAL(9,C12)","v":37420000},4.0520639320829899,{"$f":"SUBTOTAL(9,E12)","v":0},{"$f":"SUBTOTAL(9,F12)","v":37420000}]
["111","Извршни и законодавни органи",37420000,4.0520639320829899,null,{"$f":"C12+E12","v":37420000}]
["130","Опште услуге",215872600,23.375990817343091,null,{"$f":"C13+E13","v":215872600},null,null,null,100]
["160","Опште јавне услуге некласификоване на другом месту",26415000,2.8603759691601334,null,{"$f":"C14+E14","v":26415000}]
["300","ЈАВНИ РЕД И БЕЗБЕДНОСТ",{"$f":"SUBTOTAL(9,C16)","v":5541000},0.60001299432581101,null,{"$f":"SUBTOTAL(9,F16)","v":5541000}]
[330,"Судови",5541000,0.60001299432581101,null,{"$f":"C16+E16","v":5541000},null,null,null,null,null,762961000]
[400,"ЕКОНОМСКИ ПОСЛОВИ",{"$f":"SUBTOTAL(9,C18:C25)","v":169699500},18.376088274786675,{"$f":"SUBTOTAL(9,E18:E25)","v":74000000},{"$f":"SUBTOTAL(9,F18:F25)","v":243699500}]
["410","Општи економски и комерцијални послови и послови по питању рада",{"$f":"SUBTOTAL(9,C19)","v":25000000},2.7071512106380213,{"$f":"SUBTOTAL(9,E19)","v":0},{"$f":"SUBTOTAL(9,F19)","v":25000000}]
["411","Општи економски и комерцијални послови",25000000,2.7071512106380213,null,{"$f":"C19+E19","v":25000000}]
["420","Пољопривреда, шумарство, лов и риболов",{"$f":"SUBTOTAL(9,C21)","v":22400000},2.4256074847316671,{"$f":"SUBTOTAL(9,E21)","v":0},{"$f":"SUBTOTAL(9,F21)","v":22400000}]
["421","Пољопривреда",22400000,2.4256074847316671,null,{"$f":"C21+E21","v":22400000}]
["450","Саобраћај",{"$f":"SUBTOTAL(9,C23)","v":113273000},12.265885563304025,{"$f":"SUBTOTAL(9,E23)","v":74000000},{"$f":"SUBTOTAL(9,F23)","v":187273000}]
["451","Друмски саобраћај",113273000,12.265885563304025,74000000,{"$f":"C23+E23","v":187273000}]
["470","Остале делатности",{"$f":"SUBTOTAL(9,C25)","v":9026500},0.97744401611296394,{"$f":"SUBTOTAL(9,E25)","v":0},{"$f":"SUBTOTAL(9,F25)","v":9026500}]
["473","Туризам",9026500,0.97744401611296394,null,{"$f":"C25+E25","v":9026500}]
["500","ЗАШТИТА ЖИВОТНЕ СРЕДИНЕ",{"$f":"SUBTOTAL(9,C27:C28)","v":21350000},2.3119071338848705,{"$f":"SUBTOTAL(9,E27:E28)","v":10000000},{"$f":"SUBTOTAL(9,F27:F28)","v":31350000}]
["550","Заштита животне средине - истраживање и развој",8450000,0.91501710919565127,null,{"$f":"C27+E27","v":8450000}]
["560","Заштита животне средине некласификована на другом месту",12900000,1.3968900246892191,10000000,{"$f":"C28+E28","v":22900000}]
["600","ПОСЛОВИ СТАНОВАЊА И ЗАЈЕДНИЦЕ",{"$f":"SUBTOTAL(9,C30:C33)","v":87569000},9.4825009745744353,null,{"$f":"SUBTOTAL(9,F30:F33)","v":118569000}]
["620","Развој заједнице",28597000,3.09665612682462,5000000,{"$f":"C30+E30","v":33597000}]
["630","Водоснабдевање",18622000,2.0165027937800493,11000000,{"$f":"C31+E31","v":29622000}]
["640","Улична расвета",27000000,2.923723307489063,15000000,{"$f":"C32+E32","v":42000000}]
["660","Послови становања и заједнице некласификоване на другом месту",13350000,1.4456187464807033,null,{"$f":"C33+E33","v":13350000}]
[]
[]
[]
[]
[]
["Функције","Функционална класификација","Средства из буџета","Структура %","Средства из осталих извора","Укупна средства"]
[1,2,3,4,5,6]
[]
["700","ЗДРАВСТВО",{"$f":"SUBTOTAL(9,C43:C44)","v":23000000},{"$f":"C42/$C$57*100","v":2.4905791137869797},{"$f":"SUBTOTAL(9,E43:E44)","v":0},{"$f":"SUBTOTAL(9,F43:F44)","v":23000000}]
["721","Опште медицинске услуге",400000,4.3314419370208343E-2,null,{"$f":"C43+E43","v":400000}]
["740","Услуге јавног здравства",22600000,2.4472646944167713,null,{"$f":"C44+E44","v":22600000}]
["800","РЕКРЕАЦИЈА, СПОРТ, КУЛТУРА И ВЕРЕ",{"$f":"SUBTOTAL(9,C46:C50)","v":92588200},10.026010308831811,{"$f":"SUBTOTAL(9,E46:E50)","v":3833520},{"$f":"SUBTOTAL(9,F46:F50)","v":96421720}]
["810","Услуге рекреације и спорта",35416200,3.8350803482479314,null,{"$f":"C46+E46","v":35416200}]
["820","Услуге културе",43542000,4.7149911205440294,3833520,{"$f":"C47+E47","v":47375520}]
["830","Услуге емитовања и штампања",5000000,0.54143024212760427,null,{"$f":"C48+E48","v":5000000}]
["840","Verske i ostale usluge zajednice",3300000,0.35734395980421879,null,{"$f":"C49+E49","v":3300000}]
["860","Rekreacija, sport, kultura i vere, neklasifikovano na drugom mestu",5330000,0.57716463810802621,null,{"$f":"C50+E50","v":5330000}]
["900","ОБРАЗОВАЊЕ",{"$f":"SUBTOTAL(9,C52:C56)","v":221234700},23.95663143760558,{"$f":"SUBTOTAL(9,E52:E56)","v":11900000},233134700]
["910","Предшколско и основно образовање",{"$f":"SUBTOTAL(9,C53:C54)","v":175941500},19.052009789058776,{"$f":"SUBTOTAL(9,E53:E54)","v":4700000},{"$f":"SUBTOTAL(9,F53:F54)","v":180641500}]
["911","Предшколско образовање",110543000,11.970264651102353,null,{"$f":"C53++E53","v":110543000}]
["912","Основно образовање",65398500,7.0817451379564256,4700000,{"$f":"C54+E54","v":70098500}]
["920","Средње образовање",24974500,2.7043899164031706,null,{"$f":"C55+E55","v":24974500}]
["960","Помоћне услуге образовању",20318700,2.2002317321436307,7200000,{"$f":"C56+E56","v":27518700}]
[null,"УКУПНО",{"$f":"SUBTOTAL(9,C7:C56)-3","v":923480000},100,{"$f":"SUBTOTAL(9,E7:E56)-5","v":136983520},{"$f":"SUBTOTAL(9,F7:F56)-6","v":1060463520}]
[]
[]
["II ПОСЕБАН ДЕО"]
[]
["^lan 6."]
[]
[]
["       Ukupni rashodi i izdaci, ukqu~uju}i rashode za otplatu glavnice duga, u iznosu od 1.060.463.520,00 динара, финансирани из свих извора финансирања распоређују се по корисницима и врстама издатака."]

{"sheet":"Прог.актив.","index":3,"n_rows":151,"n_cols":7,"rows_kept":151,"cut":false,"hidden":false,"merged":[[0,0,0,6],[1,0,2,6],[3,0,3,1],[3,2,4,2],[3,3,4,3],[3,4,4,4],[3,5,4,5],[3,6,4,6]]}
["^lan 7."]
["     Sredstva buxeta u iznosu od 923.480.000,00 dinara, sredstva iz осталих извора u iznosu od 136.983.520,00 dinara, utvr|eni su i raspore|eni po programskoj klasifikaciji u 2019. godinи:"]
[]
["Шифра",null,"Назив","Средства из буџета","Средства из осталих извора","Укупна средства","Надлежни орган"]
["Програм","Програмска активност/ Пројекат"]
[1,2,3,4,5,6,7]
[1101,null,"Програм 1. Локални развој и просторно планирање",{"$f":"SUBTOTAL(9,D8:D9)","v":41797000},{"$f":"SUBTOTAL(9,E8:E8)","v":0},{"$f":"SUBTOTAL(9,F8:F9)","v":41797000}]
[null,"1101-0001","Стратешко, просторно и урбанистичко планирање",41497000,null,{"$f":"D8+E8","v":41497000},"Општинска управа"]
[null,"1101-0002","Спровођење урбанистичких и просторних планова",300000,null,{"$f":"D9+E9","v":300000},"Општинска управа"]
["1102",null,"Програм 2. Комунална делатност",{"$f":"SUBTOTAL(9,D11:D17)","v":60772000},{"$f":"SUBTOTAL(9,E11:E16)","v":16000000},{"$f":"SUBTOTAL(9,F11:F17)","v":76772000}]
[null,"1102-0001","Јавна расвета",20000000,null,{"$f":"D11+E11","v":20000000},"Општинска управа"]
[null,"1102-0002","Уређење и одржавање зеленила",1350000,null,1350000,"Општинска управа"]
[null,"1102-0003","Јавна хигијена",12000000,null,12000000,"Општинска управа"]
[null,"1102-0004","Зоохигијена",1800000,null,1800000,"Општинска управа"]
[null,"1102-0005","Уређивање, одржавање и коришћење пијаца",null,5000000,5000000,"Општинска управа"]
[null,"1102-0008","Водоснабдевање",18622000,11000000,29622000,"Општинска управа"]
[null,"1102-01","Изградња далековода за трафо станицу у селу Билинце",7000000,null,7000000,"Општинска управа"]
["1501",null,"Програм 3. Локални економски развој",{"$f":"SUBTOTAL(9,D19:D20)","v":25000000},{"$f":"SUBTOTAL(9,E19:E20)","v":0},25000000]
[null,"1501-0002","Стручна пракса",15000000,null,{"$f":"D19+E19","v":15000000},"Општинска управа"]
[null,"1501-0003","Подстицај за развој предузетништва",10000000,null,{"$f":"D20+E20","v":10000000},"Општинска управа/KLER"]
["1502",null,"Програм 4. Развој туризма",{"$f":"SUBTOTAL(9,D22:D22)","v":9026500},{"$f":"SUBTOTAL(9,E22:E22)","v":0},{"$f":"SUBTOTAL(9,F22:F22)","v":9026500}]
[null,"1502-0001","Управљањем развојем туризма",9026500,null,{"$f":"D22+E22","v":9026500},"Туристичка организација"]
["0101",null,"Програм 5. Развој пољопривреде",{"$f":"SUBTOTAL(9,D24:D24)","v":22400000},{"$f":"SUBTOTAL(9,E24:E24)","v":0},{"$f":"SUBTOTAL(9,F24:F24)","v":22400000}]
[null,"0101-0002","Мере подршке руралном развоју",22400000,null,{"$f":"D24+E24","v":22400000},"ОU/Odeqewe za privredu"]
["0401",null,"Програм 6. Заштита животне средине",{"$f":"SUBTOTAL(9,D26:D29)","v":21350000},{"$f":"SUBTOTAL(9,E26:E29)","v":10000000},{"$f":"SUBTOTAL(9,F26:F29)","v":31350000}]
[null,"0401-0001","Управљање заштитом животне средине",8450000,null,{"$f":"D26+E26","v":8450000},"Општинска управа"]
[null,"0401-0004","Управљање отпадним водама",11400000,null,{"$f":"D27+E27","v":11400000},"Општинска управа"]
[null,"0401-0005","Управљање комуналним отпадом",null,10000000,{"$f":"D28+E28","v":10000000},"Општинска управа"]
[null,"0401-0006","Одрживо управљање осталим врстама отпада",1500000,null,{"$f":"D29+E29","v":1500000},"Општинска управа"]
["0701",null,"Програм 7. Путна инфраструктура",{"$f":"SUBTOTAL(9,D31:D106)","v":113273000},{"$f":"SUBTOTAL(9,E31:E106)","v":74000000},{"$f":"SUBTOTAL(9,F31:F106)","v":187273000}]
[null,"0701-01",{"$f":"VLOOKUP(B31,'Troškovi 2019'!C295:G742,5,FALSE)","v":"Асфалтирање улице код Данија у Бујановцу"},1150000,null,{"$f":"D31+E31","v":1150000},"Општинска управа"]
[null,"0701-02",{"$f":"VLOOKUP(B32,'Troškovi 2019'!C296:G749,5,FALSE)","v":"Асфалтирање улице код Ферида у Бујановцу"},500000,null,500000,"Општинска управа"]
[null,"0701-03",{"$f":"VLOOKUP(B33,'Troškovi 2019'!C298:G750,5,FALSE)","v":"Асфалтирање улице код џамије у Бујановцу"},950000,null,950000,"Општинска управа"]
[null,"0701-04","Афалтирање локалних путева на територији општине Бујановац",2970000,74000000,76970000,"Општинска управа"]
[null,"0701-05",{"$f":"VLOOKUP(B35,'Troškovi 2019'!C300:G752,5,FALSE)","v":"Асфалтирање пута у селу Жужељица до цркве, Л=210м, Б=2,5м"},1020000,null,1020000,"Општинска управа"]
[null,"0701-06",{"$f":"VLOOKUP(B36,'Troškovi 2019'!C301:G753,5,FALSE)","v":"Асфалтирање улице у селу Жбевац - Махала Нојчини - Рабушчијини, Л=430м, Б=3м"},2980000,null,2980000,"Општинска управа"]
[null,"0701-07",{"$f":"VLOOKUP(B37,'Troškovi 2019'!C302:G754,5,FALSE)","v":"Крпљење ударних рупа на територији општине Бујановац"},3000000,null,{"$f":"D37+E37","v":3000000},"Општинска управа"]
[null,"0701-08",{"$f":"VLOOKUP(B38,'Troškovi 2019'!C304:G755,5,FALSE)","v":"Зимско одржавање путева"},2000000,null,2000000,"Општинска управа"]
[null,"0701-09",{"$f":"VLOOKUP(B39,'Troškovi 2019'!C305:G756,5,FALSE)","v":"Стручни надзор"},2000000,null,2000000,"Општинска управа"]
[null,"0701-10",{"$f":"VLOOKUP(B40,'Troškovi 2019'!C306:G757,5,FALSE)","v":"Вертикална и хоризонтална сигнализација "},1200000,null,1200000,"Општинска управа"]
[null,"0701-11",{"$f":"VLOOKUP(B41,'Troškovi 2019'!C307:G758,5,FALSE)","v":"Текуће поправке и одржавање - Одржавање пружних прелаза"},1200000,null,1200000,"Општинска управа"]
[null,"0701-12",{"$f":"VLOOKUP(B42,'Troškovi 2019'!C308:G759,5,FALSE)","v":"Асфалтирање улице у Бујановачкој Бањи, Л=230м, Б=6м + тротоар"},5990000,null,5990000,"Општинска управа"]
[null,"0701-13",{"$f":"VLOOKUP(B43,'Troškovi 2019'!C310:G760,5,FALSE)","v":"Асфалтирање улице Шабан Бајрамовић у Бујановцу"},1500000,null,1500000,"Општинска управа"]
[null,"0701-14",{"$f":"VLOOKUP(B44,'Troškovi 2019'!C311:G761,5,FALSE)","v":"Асфалтирање улице код Афамо у Бујановцу"},600000,null,600000,"Општинска управа"]
[null,"0701-15",{"$f":"VLOOKUP(B45,'Troškovi 2019'!C312:G762,5,FALSE)","v":"Асфалтирање улице код Асдрени у Бујановцу"},500000,null,500000,"Општинска управа"]
[null,"0701-16",{"$f":"VLOOKUP(B46,'Troškovi 2019'!C313:G763,5,FALSE)","v":"Асфалтирање улице код Решата у Бујановцу"},500000,null,500000,"Општинска управа"]
[null,"0701-17",{"$f":"VLOOKUP(B47,'Troškovi 2019'!C314:G764,5,FALSE)","v":"Асфалтирање улице у Индустријској зони у Бујановцу"},500000,null,500000,"Општинска управа"]
[null,"0701-18",{"$f":"VLOOKUP(B48,'Troškovi 2019'!C315:G764,5,FALSE)","v":"Асфалтирање улице АЛ ЕУРОПА у Бујановцу"},900000,null,900000,"Општинска управа"]
[null,"0701-19",{"$f":"VLOOKUP(B49,'Troškovi 2019'!C316:G765,5,FALSE)","v":"Асфалтирање Врбанске улице у Бујановцу"},400000,null,400000,"Општинска управа"]
[null,"0701-20",{"$f":"VLOOKUP(B50,'Troškovi 2019'!C317:G766,5,FALSE)","v":"Асфалтирање улице код Исмаила у селу Добросин"},300000,null,300000,"Општинска управа"]
[null,"0701-21",{"$f":"VLOOKUP(B51,'Troškovi 2019'!C318:G767,5,FALSE)","v":"Асфалтирање улице код Боже у Бујановцу"},500000,null,500000,"Општинска управа"]
[null,"0701-22",{"$f":"VLOOKUP(B52,'Troškovi 2019'!C319:G768,5,FALSE)","v":"Асфалтирање улице у селу Велики Трновац код Буши Гаш"},400000,null,400000,"Општинска управа"]
[null,"0701-23",{"$f":"VLOOKUP(B53,'Troškovi 2019'!C319:G769,5,FALSE)","v":"Асфалтирање улице у селу Велики Трновац - код Шефика према Турији"},500000,null,500000,"Општинска управа"]
[null,"0701-24",{"$f":"VLOOKUP(B54,'Troškovi 2019'!C319:G770,5,FALSE)","v":"Асфалтирање улице у селу Велики Трновац - код Даоци"},500000,null,500000,"Општинска управа"]
[null,"0701-25",{"$f":"VLOOKUP(B55,'Troškovi 2019'!C319:G771,5,FALSE)","v":"Асфалтирање улице у селу Велики Трновац код Л. Гогу"},400000,null,400000,"Општинска управа"]
[null,"0701-26",{"$f":"VLOOKUP(B56,'Troškovi 2019'!C319:G772,5,FALSE)","v":"Асфалтирање десног прилаза улици Пчињска у Бујановцу, Л=50м, Б=3,5м"},600000,null,600000,"Општинска управа"]
[null,"0701-27",{"$f":"VLOOKUP(B57,'Troškovi 2019'!C319:G773,5,FALSE)","v":"Наставак асфалтирања паркинга у дворишту цркве у селу Раковац, П=300м2"},750000,null,750000,"Општинска управа"]
[null,"0701-28",{"$f":"VLOOKUP(B58,'Troškovi 2019'!C320:G774,5,FALSE)","v":"Реконструкција улице Пчињска у Бујановцу, Л=130м, Б=6м"},1850000,null,1850000,"Општинска управа"]
[null,"0701-29",{"$f":"VLOOKUP(B59,'Troškovi 2019'!C321:G775,5,FALSE)","v":"Асфалтирање улице у селу Велики Трновац код гробља у Струкарској махали"},600000,null,600000,"Општинска управа"]
[null,"0701-30",{"$f":"VLOOKUP(B60,'Troškovi 2019'!C322:G776,5,FALSE)","v":"Реконструкција дела улице Јосифа Јањића од раскрснице до подвожњака, Л=175м, Б=3,5м и од подвожњака до цркве, Л=100м, Б=3,3м"},2250000,null,2250000,"Општинска управа"]
[null,"0701-31",{"$f":"VLOOKUP(B61,'Troškovi 2019'!C324:G777,5,FALSE)","v":"Насипање пута у селу Боровац за Доњу махалу, Л=1,8км, Б=3,5м"},3780000,null,3780000,"Општинска управа"]
[null,"0701-32",{"$f":"VLOOKUP(B62,'Troškovi 2019'!C325:G778,5,FALSE)","v":"Рад механизације (булдожер, грејдер, ваљак и др.) на поправци сеоских путева у српској заједници"},4000000,null,4000000,"Општинска управа"]
[null,"0701-33",{"$f":"VLOOKUP(B63,'Troškovi 2019'!C326:G779,5,FALSE)","v":"Насипање пута од села Света Петка до села Дрежница - први део Л=600м, Б=3,5м и други део Л=400м, Б=3,5м"},2590000,null,2590000,"Општинска управа"]
[null,"0701-34",{"$f":"VLOOKUP(B64,'Troškovi 2019'!C327:G780,5,FALSE)","v":"Насипање пута у селу Узово до куће Слађана Стојановића, Л=800м, Б=3,5м"},1970000,null,1970000,"Општинска управа"]
[null,"0701-35",{"$f":"VLOOKUP(B65,'Troškovi 2019'!C328:G781,5,FALSE)","v":"Изградња тротоара од села Света петка до села Кленике (обострано)"},4050000,null,4050000,"Општинска управа"]
[null,"0701-36",{"$f":"VLOOKUP(B66,'Troškovi 2019'!C330:G782,5,FALSE)","v":"Насипање пута за Кочовску махалу у селу Сејаце, Л=1100м, Б=3,5м"},2290000,null,2290000,"Општинска управа"]
[null,"0701-37",{"$f":"VLOOKUP(B67,'Troškovi 2019'!C331:G783,5,FALSE)","v":"Асфалтирање сокака у улици Карађорђа Петровића, Л=100м, Б=3м"},1000000,null,1000000,"Општинска управа"]
[null,"0701-38",{"$f":"VLOOKUP(B68,'Troškovi 2019'!C332:G784,5,FALSE)","v":"Асфалтирање сокака у улици Карађорђа Петровића, Л=50м, Б=2,5м"},300000,null,300000,"Општинска управа"]
[null,"0701-39",{"$f":"VLOOKUP(B69,'Troškovi 2019'!C333:G785,5,FALSE)","v":"Изградња цевастог пропуста на реци у селу Кршевица (ФИ2000/3 реда * 4,5м)"},3500000,null,3500000,"Општинска управа"]
[null,"0701-40",{"$f":"VLOOKUP(B70,'Troškovi 2019'!C334:G786,5,FALSE)","v":"Изградња потпорног зида на бараљевској реци у селу Кленике, Л=25м, Х=2,5м"},1983000,null,1983000,"Општинска управа"]
[null,"0701-41",{"$f":"VLOOKUP(B71,'Troškovi 2019'!C336:G787,5,FALSE)","v":"Реконструкција улице Јована Цвијића у Бујановцу"},4000000,null,4000000,"Општинска управа"]
[null,"0701-42",{"$f":"VLOOKUP(B72,'Troškovi 2019'!C337:G788,5,FALSE)","v":"Асфалтирање улице у селу Велики Трновац код Дугана Центар, Л=170м, Б=4,5м"},1500000,null,1500000,"Општинска управа"]
[null,"0701-43",{"$f":"VLOOKUP(B73,'Troškovi 2019'!C338:G789,5,FALSE)","v":"Насипање улице шодером у с. Велики Трновац код Сејада"},300000,null,300000,"Општинска управа"]
[null,"0701-44",{"$f":"VLOOKUP(B74,'Troškovi 2019'!C339:G790,5,FALSE)","v":"Асфалтирање обилазнице у селу Турија према Лучану"},900000,null,900000,"Општинска управа"]
[null,"0701-45",{"$f":"VLOOKUP(B75,'Troškovi 2019'!C340:G791,5,FALSE)","v":"Асфалтирање улице у селу Лучане код Хисена"},500000,null,500000,"Општинска управа"]
[null,"0701-46",{"$f":"VLOOKUP(B76,'Troškovi 2019'!C341:G792,5,FALSE)","v":"Асфалтирање улице у селу Лучане код Шахиновита"},500000,null,500000,"Општинска управа"]
[null,"0701-47",{"$f":"VLOOKUP(B77,'Troškovi 2019'!C342:G793,5,FALSE)","v":"Асфалтирање обилазнице у селу Несалце"},2000000,null,2000000,"Општинска управа"]
[null,"0701-48",{"$f":"VLOOKUP(B78,'Troškovi 2019'!C343:G794,5,FALSE)","v":"Асфалтирање улице у селу Несалце код Артона"},1000000,null,1000000,"Општинска управа"]
[null,"0701-49",{"$f":"VLOOKUP(B79,'Troškovi 2019'!C344:G795,5,FALSE)","v":"Асфалтирање улице у селу Несалце код Рахима"},500000,null,500000,"Општинска управа"]
[null,"0701-50",{"$f":"VLOOKUP(B80,'Troškovi 2019'!C345:G796,5,FALSE)","v":"Асфалтирање улице у селу Несалце код Бесима"},500000,null,500000,"Општинска управа"]
[null,"0701-51",{"$f":"VLOOKUP(B81,'Troškovi 2019'!C346:G797,5,FALSE)","v":"Асфалтирање улице у селу Летовица код Цуфе"},650000,null,650000,"Општинска управа"]
[null,"0701-52",{"$f":"VLOOKUP(B82,'Troškovi 2019'!C347:G798,5,FALSE)","v":"Асфалтирање улице у селу Летовица код Ефраима"},500000,null,500000,"Општинска управа"]
[null,"0701-53",{"$f":"VLOOKUP(B83,'Troškovi 2019'!C348:G799,5,FALSE)","v":"Асфалтирање улице у селу Летовица код Хаџи Авдулаха"},500000,null,500000,"Општинска управа"]
[null,"0701-54",{"$f":"VLOOKUP(B84,'Troškovi 2019'!C354:G800,5,FALSE)","v":"Изградња парка у селу Велики Трновац код воденице"},5000000,null,5000000,"Општинска управа"]
[null,"0701-55",{"$f":"VLOOKUP(B85,'Troškovi 2019'!C355:G801,5,FALSE)","v":"Асфалтирање улице у селу Летовица код Зитових"},400000,null,400000,"Општинска управа"]
[null,"0701-56",{"$f":"VLOOKUP(B86,'Troškovi 2019'!C356:G802,5,FALSE)","v":"Асфалтирање улице у селу Летовица код Џевдета"},600000,null,600000,"Општинска управа"]
[null,"0701-57",{"$f":"VLOOKUP(B87,'Troškovi 2019'!C357:G803,5,FALSE)","v":"Проширење пута Несалце - Летовица, Л=2,6км, Б=1м"},13000000,null,13000000,"Општинска управа"]
[null,"0701-58",{"$f":"VLOOKUP(B88,'Troškovi 2019'!C358:G804,5,FALSE)","v":"Асфалтирање сеоског трга у селу Биљача"},500000,null,500000,"Општинска управа"]
[null,"0701-59",{"$f":"VLOOKUP(B89,'Troškovi 2019'!C359:G805,5,FALSE)","v":"Асфалтирање улице у селу Самољица код Ридвана"},600000,null,600000,"Општинска управа"]
[null,"0701-60",{"$f":"VLOOKUP(B90,'Troškovi 2019'!C360:G806,5,FALSE)","v":"Асфалтирање улице у селу Брезница код Шемовита"},800000,null,800000,"Општинска управа"]
[null,"0701-61",{"$f":"VLOOKUP(B91,'Troškovi 2019'!C361:G807,5,FALSE)","v":"Асфалтирање улице у селу Кончуљ код Башкима"},500000,null,500000,"Општинска управа"]
[null,"0701-62",{"$f":"VLOOKUP(B92,'Troškovi 2019'!C362:G808,5,FALSE)","v":"Асфалтирање улице у селу Кончуљ код Арсима"},300000,null,300000,"Општинска управа"]
[null,"0701-63",{"$f":"VLOOKUP(B93,'Troškovi 2019'!C363:G809,5,FALSE)","v":"Асфалтирање улице у селу Кончуљ код Арбена"},300000,null,300000,"Општинска управа"]
[null,"0701-64",{"$f":"VLOOKUP(B94,'Troškovi 2019'!C364:G810,5,FALSE)","v":"Уређење пута у селу Кончуљ код Ћазима"},400000,null,400000,"Општинска управа"]
[null,"0701-65",{"$f":"VLOOKUP(B95,'Troškovi 2019'!C365:G811,5,FALSE)","v":"Асфалтирање улице у селу Кончуљ код Рахмана"},400000,null,400000,"Општинска управа"]
[null,"0701-66",{"$f":"VLOOKUP(B96,'Troškovi 2019'!C366:G812,5,FALSE)","v":"Поплочавање улица бетонским плочама у албанској заједници"},6000000,null,6000000,"Општинска управа"]
[null,"0701-67",{"$f":"VLOOKUP(B97,'Troškovi 2019'!C367:G813,5,FALSE)","v":"Асфалтирање улице у селу Брезница - Муховац - Зарбинце, Л=600м, Б=4м"},2000000,null,2000000,"Општинска управа"]
[null,"0701-68",{"$f":"VLOOKUP(B98,'Troškovi 2019'!C368:G814,5,FALSE)","v":"Асфалтирање улице код Шуајба у с. Велики Трновац"},500000,null,500000,"Општинска управа"]
[null,"0701-69",{"$f":"VLOOKUP(B99,'Troškovi 2019'!C369:G815,5,FALSE)","v":"Асфалтирање улице код Феки у с. Несалце"},400000,null,400000,"Општинска управа"]
[null,"0701-70",{"$f":"VLOOKUP(B100,'Troškovi 2019'!C370:G816,5,FALSE)","v":"Асфалтирање улице код Агима у с. Биљача"},450000,null,450000,"Општинска управа"]
[null,"0701-71",{"$f":"VLOOKUP(B101,'Troškovi 2019'!C371:G817,5,FALSE)","v":"Асфалтирање улице код Фљорима у с. Самољица"},450000,null,450000,"Општинска управа"]
[null,"0701-72",{"$f":"VLOOKUP(B102,'Troškovi 2019'!C372:G818,5,FALSE)","v":"Асфалтирање улице код Ментора у с. Летовица"},450000,null,450000,"Општинска управа"]
[null,"0701-73",{"$f":"VLOOKUP(B103,'Troškovi 2019'!C373:G819,5,FALSE)","v":"Асфалтирање улице код Наипа у Летовици"},450000,null,450000,"Општинска управа"]
[null,"0701-74",{"$f":"VLOOKUP(B104,'Troškovi 2019'!C374:G820,5,FALSE)","v":"Асфалтирање улице код гробља у Доњој Брезници"},500000,null,500000,"Општинска управа"]
[null,"0701-75",{"$f":"VLOOKUP(B105,'Troškovi 2019'!C375:G821,5,FALSE)","v":"Реконструкција асфалтирања улице у селу Велики Трновац (од главне трафо-станице до пута у нову махалу)"},1000000,null,1000000,"Општинска управа"]
[null,"0701-76",{"$f":"VLOOKUP(B106,'Troškovi 2019'!C369:G815,5,FALSE)","v":"Повећање безбедности учесника у саобраћају и смањење броја саобраћајних незгода"},950000,null,950000,"Општинска управа"]
["2001",null,"Програм 8. Предшколско васпитање",{"$f":"SUBTOTAL(9,D108)","v":110543000},{"$f":"SUBTOTAL(9,E108)","v":0},110543000]
[null,"2001-0001","Функционисање предшколских установа",110543000,null,{"$f":"D108+E108","v":110543000},"ПУ \"Наша радост\""]
["2002",null,"Програм 9. Основно образовање",{"$f":"SUBTOTAL(9,D110)","v":73364200},{"$f":"SUBTOTAL(9,E110)","v":4700000},78064200]
[null,"2002-0001","Функционисање основних школа ",73364200,4700000,{"$f":"D110+E110","v":78064200},"Општинска управа"]
["2003",null,"Програм 10. Средње образовање",{"$f":"SUBTOTAL(9,D112)","v":37327500},{"$f":"SUBTOTAL(9,E112)","v":7200000},44527500]
[null,"2003-0001","Функционисање средњих школа ",37327500,7200000,{"$f":"D112+E112","v":44527500},"Општинска управа"]
["0901",null,"Програм 11. Социјална и дечија заштита",{"$f":"SUBTOTAL(9,D114:D118)","v":16590000},{"$f":"SUBTOTAL(9,E114:E118)","v":6250000},22840000]
[null,"0901-0001","Социјалне помоћи",9500000,null,{"$f":"D114+E114","v":9500000},"ОU/Centar za soc.rad"]
[null,"0901-0002","Прихватилишта, прихватне станице и друге врсте смештаја",3100000,null,{"$f":"D115+E115","v":3100000},"Општинска управа"]
[null,"0901-0005","Активности ОО Црвеног крста Бујановац ",500000,null,{"$f":"D116+E116","v":500000},"ОО Црвени крст"]
[null,"0901-0006","Подршка деци и породицама са децом",2950000,3050000,{"$f":"D117+E117","v":6000000},"Општинска управа"]
[null,"0901-0007","Подршка старијим лицима и/или особама са инвалидитетом",540000,3200000,{"$f":"D118+E118","v":3740000},"Општинска управа"]
["1801",null,"Програм 12. Примарна здравствена заштита",{"$f":"SUBTOTAL(9,D120:D121)","v":23000000},{"$f":"SUBTOTAL(9,E120:E121)","v":0},23000000]
[null,"1801-0001","Функционисање установа примарне здравствене заштите",22600000,null,{"$f":"D120+E120","v":22600000},"OU/DZ/Apoteka"]
[null,"1801-0002","Мртвозорство",400000,null,{"$f":"D121+E121","v":400000},"ОУ/ДЗ"]
["1201",null,"Програм 13. Развој културе",{"$f":"SUBTOTAL(9,D123:D129)","v":57172000},{"$f":"SUBTOTAL(9,E123:E129)","v":0},{"$f":"SUBTOTAL(9,F123:F129)","v":57172000}]
[null,"1201-0001","Функционисање локалних установа културе",42842000,null,{"$f":"D123+E123","v":42842000},"ДУ \"Вук Караџић\" и Библиотека"]
[null,"1201-0002","Јачање културне продукције и уметничког стваралаштва ",5330000,null,{"$f":"D124+E124","v":5330000},"Општинска управа"]
[null,"1201-0003","Унапређење система очувања и представљања културно-историјског наслеђа",3300000,null,{"$f":"D125+E125","v":3300000},"Општинска управа"]
[null,"1201-0004","Остваривање и унапређивање јавног интереса у области јавног информисања",5000000,null,5000000,"Општинска управа"]
[null,"1201-01","Манифестација вредне руке",150000,null,150000,"ДУ \"Вук Караџић\""]
[null,"1201-02","Манифестација најлепше ускршње јаје",150000,null,150000,"ДУ \"Вук Караџић\""]
[null,"1201-03","Манифестација културно лето",400000,null,400000,"ДУ \"Вук Караџић\""]
["1301",null,"Програм 14. Развој спорта и омладине",{"$f":"SUBTOTAL(9,D131:D136)","v":35416200},{"$f":"SUBTOTAL(9,E131:E134)","v":0},{"$f":"SUBTOTAL(9,F131:F136)","v":35416200}]
[null,"1301-0001","Подршка локалним спорским организацијама, удружењима и савезима",10650000,null,{"$f":"D131+E131","v":10650000},"Општинска управа"]
[null,"1301-0004","Функционисање локалних спортских установа",22056200,null,22056200,"СЦ \"Младост\""]
[null,"1301-0005","Спровођење омалдинске политике",800000,null,800000,"Општинска управа"]
[null,"1301-01","Асфалтирање спортског терена у дворишту ОШ у селу Мали Трновац",500000,null,500000,"Општинска управа"]
[null,"1301-02","Асфалтирање спортског терена у дворишту ОШ у селу Летовица",700000,null,700000,"Општинска управа"]
[null,"1301-03","Асфалтирање игралишта у селу Бараљевац",710000,null,710000,"Општинска управа"]
["0602",null,"Програм 15. Локална самоуправа",{"$f":"SUBTOTAL(9,D138:D144)","v":239028600},{"$f":"SUBTOTAL(9,E138:E144)","v":0},239028600]
[null,"0602-0001","Подршка раду извршних органа власти и скупштине",207770000,null,{"$f":"D138+E138","v":207770000},"Општинска управа"]
[null,"0602-0002","Функционисање месних заједница",6970000,null,{"$f":"D139+E139","v":6970000},"Општинска управа/Месне заједнице"]
[null,"0602-0004","Правобранилаштво општине Бујановац",5541000,null,{"$f":"D140+E140","v":5541000},"OJP"]
[null,"0602-0007","Функционисање националних савета националних мањина",6200000,null,6200000,"Општинска управа"]
[null,"0602-0009","Текућа буџетска резерва",10197600,null,10197600,"Општинска управа"]
[null,"0602-0010","Стална буџетска резерва",500000,null,500000,"Општинска управа"]
[null,"0602-0014","Ванредне ситуације",1850000,null,1850000,"Општинска управа"]
["2101",null,"Програм 16: Политички систем локалне самоуправе",{"$f":"SUBTOTAL(9,D146:D148)","v":37420000},{"$f":"SUBTOTAL(9,E146:E148)","v":0},37420000]
[null,"2101-0001","Функционисање скупштине",18694000,null,{"$f":"D146+E146","v":18694000},"Скупштина"]
[null,"2101-0002","Функционисање извршних органа",12376000,null,{"$f":"D147+E147","v":12376000},"Председник/Општинско веће"]
[null,"2101-0003","Подршка раду извршних органа власти и скупштине",6350000,null,{"$f":"D148+E148","v":6350000},"Скупштина"]
["0501",null,"Програм 17: Енергетска ефикасност и обновљиви извори енергије",{"$f":"SUBTOTAL(9,D150:D150)","v":0},{"$f":"SUBTOTAL(9,E150:E150)","v":18833520},{"$f":"SUBTOTAL(9,F150:F150)","v":18833520}]
[null,"0501-0001","Енергетски менаџмент",null,18833520,{"$f":"D150+E150","v":18833520},"Општинска управа"]
[null,null,"UKUPNO",{"$f":"SUBTOTAL(9,D7:D150)","v":923480000},{"$f":"SUBTOTAL(9,E7:E150)","v":136983520},{"$f":"SUBTOTAL(9,F7:F150)","v":1060463520}]

{"sheet":"Sheet1","index":4,"n_rows":360,"n_cols":2,"rows_kept":360,"cut":false,"hidden":true,"merged":[]}
[]
[]
["Row Labels","Sum of Укупно"]
[1,1240000]
[2,222000]
[3,20000]
[4,5000]
[5,50010]
[6,16500000]
[7,100000]
[8,170000]
[9,367000]
[10,2750000]
[11,200000]
[12,50000]
[13,50000]
[14,2821000]
[15,505000]
[16,50000]
[17,60000]
[18,150000]
[19,2720000]
[20,50000]
[21,350000]
[22,200000]
[23,200000]
[24,4620000]
[25,50000]
[26,3000000]
[27,1926000]
[28,345000]
[29,20000]
[30,20000]
[31,10000]
[32,220000]
[33,3000000]
[34,115025000]
[35,20590000]
[36,300000]
[37,1000000]
[38,6250000]
[39,1500000]
[40,13800000]
[41,2000000]
[42,15000000]
[43,2200000]
[44,2000000]
[45,9000000]
[46,10000000]
[47,600000]
[48,50000]
[49,10000]
[50,1000000]
[51,200000]
[52,3000000]
[53,200000]
[54,200000]
[55,50000]
[56,500000]
[57,1000000]
[58,100000]
[59,470000]
[60,1000000]
[61,3000000]
[62,10000000]
[63,500000]
[64,1000000]
[65,850000]
[66,12000000]
[67,3463000]
[69,18000000]
[70,2000000]
[71,1200000]
[72,12000000]
[73,200000]
[74,1600000]
[75,350000]
[76,10250000]
[77,15000000]
[78,10000000]
[79,20000000]
[80,2000000]
[81,400000]
[82,0]
[83,0]
[84,0]
[85,0]
[86,0]
[87,0]
[88,0]
[89,10000000]
[90,1500000]
[91,0]
[92,0]
[93,0]
[94,20000000]
[95,14000000]
[96,40000000]
[97,0]
[98,0]
[99,0]
[100,0]
[101,0]
[102,0]
[103,0]
[104,3000000]
[105,2000000]
[106,2000000]
[107,1200000]
[108,0]
[109,0]
[110,0]
[111,0]
[112,0]
[113,0]
[114,0]
[115,0]
[116,0]
[117,0]
[118,0]
[119,0]
[120,0]
[121,0]
[122,0]
[123,0]
[124,0]
[125,0]
[126,0]
[127,0]
[128,0]
[129,0]
[130,0]
[131,0]
[132,0]
[133,0]
[134,0]
[135,0]
[136,0]
[137,0]
[138,0]
[139,0]
[140,0]
[141,0]
[142,0]
[143,0]
[144,0]
[145,0]
[146,0]
[147,0]
[148,0]
[149,0]
[150,0]
[151,0]
[152,0]
[153,0]
[154,0]
[155,0]
[156,0]
[157,0]
[158,0]
[159,0]
[160,0]
[161,0]
[162,0]
[163,0]
[164,0]
[165,0]
[166,0]
[167,0]
[168,0]
[169,0]
[170,0]
[171,0]
[172,0]
[173,0]
[174,0]
[175,0]
[176,0]
[177,0]
[178,0]
[179,0]
[180,0]
[181,0]
[182,0]
[183,0]
[184,0]
[185,0]
[186,0]
[187,0]
[188,0]
[189,0]
[190,0]
[191,0]
[192,31487300]
[193,24608110]
[194,1730000]
[195,716500]
[196,5724000]
[197,4158500]
[198,0]
[199,0]
[200,4265559]
[201,600000]
[202,400000]
[203,600000]
[204,2000000]
[205,500000]
[206,400000]
[207,14053000]
[208,6321000]
[209,2213000]
[210,435500]
[211,907000]
[212,1119000]
[213,1453000]
[214,0]
[215,0]
[216,7200000]
[217,10000000]
[218,4500000]
[219,4000000]
[220,1000000]
[221,1800000]
[222,500000]
[223,700000]
[224,200000]
[225,3050000]
[226,0]
[227,3200000]
[228,540000]
[229,20250000]
[230,150000]
[231,700000]
[232,400000]
[233,2000000]
[234,3000000]
[235,130000]
[236,1600000]
[237,1700000]
[238,5000000]
[239,9500000]
[240,800000]
[241,0]
[242,140000]
[243,100000]
[244,700000]
[245,80000]
[246,1700000]
[247,1100000]
[248,50000]
[249,250000]
[250,250000]
[251,4537000]
[252,812500]
[253,110000]
[254,215000]
[255,375000]
[256,2154000]
[257,4000]
[258,98000]
[259,398000]
[260,1000]
[261,100000]
[262,70000]
[263,0]
[264,0]
[265,0]
[266,69122000]
[267,12373000]
[268,1050000]
[269,2000000]
[270,550000]
[271,7068500]
[272,285500]
[273,2730000]
[274,650000]
[275,735000]
[276,5972000]
[277,7000000]
[278,75000]
[279,750000]
[280,11000000]
[281,1886500]
[282,90000]
[283,389000]
[284,0]
[285,7300000]
[286,70000]
[287,2644000]
[288,30000]
[289,165000]
[290,205000]
[291,810000]
[292,150000]
[293,60000]
[294,100000]
[295,50000]
[296,100000]
[297,50000]
[298,300000]
[299,100000]
[300,0]
[301,0]
[302,11000000]
[303,1886500]
[304,60000]
[305,156000]
[306,145000]
[307,110000]
[308,20000]
[309,2670000]
[310,70000]
[311,150000]
[312,1100000]
[313,15000]
[314,170000]
[315,490000]
[316,11235000]
[317,2011065]
[318,100000]
[319,550000]
[321,1602000]
[322,50000]
[323,1365000]
[324,2750000]
[325,382200]
[326,625000]
[327,120000]
[328,385000]
[329,800000]
[330,32000]
[334,80000]
[335,125000]
[336,0]
[337,0]
[338,0]
[339,75000]
[340,0]
[341,200000]
[342,0]
[343,0]
[344,0]
[345,0]
[346,0]
[347,0]
[348,300000]
[349,0]
[350,1150000]
[353,0]
[354,0]
[355,0]
[356,0]
[357,0]
[358,0]
[359,0]
[360,0]
[361,0]
[362,182000]
[777,58343000]
["Grand Total",901820244]

{"sheet":"Sheet2","index":5,"n_rows":334,"n_cols":2,"rows_kept":334,"cut":false,"hidden":true,"merged":[]}
[]
[]
["Row Labels","Sum of Укупно"]
[1,1240000]
[2,222000]
[3,20000]
[4,5000]
[5,50010]
[6,16500000]
[7,100000]
[8,170000]
[9,387000]
[10,2750000]
[11,500000]
[12,50000]
[13,50000]
[14,2821000]
[15,505000]
[16,50000]
[17,60000]
[18,150000]
[19,2720000]
[20,50000]
[21,350000]
[22,200000]
[23,200000]
[24,200000]
[25,200000]
[26,200000]
[27,4620000]
[28,50000]
[29,3000000]
[30,1926000]
[31,345000]
[32,20000]
[33,20000]
[34,10000]
[35,220000]
[36,3000000]
[37,115025000]
[38,20590000]
[39,300000]
[40,1000000]
[41,6250000]
[42,1500000]
[43,13800000]
[44,2000000]
[45,15600000]
[46,2200000]
[47,2000000]
[48,9000000]
[49,10000000]
[50,600000]
[51,50000]
[52,10000]
[53,2050000]
[54,200000]
[55,3000000]
[56,200000]
[57,200000]
[58,50000]
[59,500000]
[60,1000000]
[61,100000]
[62,470000]
[63,75000]
[64,1000000]
[65,3000000]
[66,11797600]
[67,500000]
[68,1000000]
[69,850000]
[70,15200000]
[71,960000]
[72,2760000]
[73,206000]
[74,957000]
[75,3877000]
[76,168000]
[77,6000]
[78,5384000]
[79,13929000]
[80,50000]
[81,300000]
[82,18000000]
[83,2000000]
[84,1350000]
[85,12000000]
[86,200000]
[87,1600000]
[88,5000000]
[89,350000]
[90,1200000]
[91,10250000]
[92,200000]
[93,3000000]
[94,11000000]
[95,1500000]
[96,1500000]
[97,622000]
[98,400000]
[99,7000000]
[100,15000000]
[101,10000000]
[102,20000000]
[103,2000000]
[104,400000]
[105,2000000]
[106,400000]
[107,500000]
[108,850000]
[109,6000000]
[110,400000]
[111,300000]
[112,350000]
[113,300000]
[114,500000]
[115,500000]
[116,1350000]
[117,5000000]
[118,10000000]
[119,1500000]
[120,1150000]
[121,500000]
[122,950000]
[123,21470000]
[124,14000000]
[125,40000000]
[126,1020000]
[127,2980000]
[128,3000000]
[129,2000000]
[130,2000000]
[131,1200000]
[132,1200000]
[133,5990000]
[134,1500000]
[135,600000]
[136,500000]
[137,500000]
[138,500000]
[139,900000]
[140,400000]
[141,400000]
[142,500000]
[143,400000]
[144,500000]
[145,500000]
[146,400000]
[147,600000]
[148,750000]
[149,1850000]
[150,600000]
[151,2250000]
[152,3780000]
[153,4000000]
[154,2590000]
[155,1970000]
[156,4050000]
[157,2290000]
[158,1000000]
[159,300000]
[160,3500000]
[161,1983000]
[162,4000000]
[163,1500000]
[164,300000]
[165,900000]
[166,500000]
[167,500000]
[168,2000000]
[169,1000000]
[170,500000]
[171,500000]
[172,650000]
[173,500000]
[174,500000]
[175,5000000]
[176,400000]
[177,600000]
[178,14000000]
[179,500000]
[180,600000]
[181,800000]
[182,600000]
[183,300000]
[184,300000]
[185,600000]
[186,400000]
[187,6000000]
[188,2000000]
[189,1000000]
[190,950000]
[191,31487300]
[192,24608200]
[193,1730000]
[194,716500]
[195,5824000]
[196,4158500]
[197,4700000]
[198,4265700]
[199,600000]
[200,400000]
[201,600000]
[202,2000000]
[203,500000]
[204,400000]
[205,14053000]
[206,6321000]
[207,2213000]
[208,435500]
[209,907000]
[210,1119000]
[211,1453000]
[212,500000]
[213,400000]
[214,7200000]
[215,10000000]
[216,4500000]
[217,4000000]
[218,1000000]
[219,1800000]
[220,300000]
[221,500000]
[222,750000]
[223,200000]
[224,5050000]
[225,3200000]
[226,540000]
[227,21750000]
[228,150000]
[229,700000]
[230,400000]
[231,2000000]
[232,3000000]
[233,130000]
[234,200000]
[235,1600000]
[236,1700000]
[237,5000000]
[238,9500000]
[239,1150000]
[240,800000]
[241,500000]
[242,700000]
[243,710000]
[244,15000000]
[245,140000]
[246,100000]
[247,700000]
[248,80000]
[249,1700000]
[250,1100000]
[251,50000]
[252,250000]
[253,2600000]
[254,250000]
[255,4537000]
[256,812500]
[257,32000]
[258,110000]
[259,215000]
[260,375000]
[261,20000]
[262,2154000]
[263,4000]
[264,98000]
[265,398000]
[266,1000]
[267,100000]
[268,70000]
[269,69122000]
[270,12373000]
[271,1050000]
[272,2000000]
[273,550000]
[274,7068500]
[275,285500]
[276,2730000]
[277,650000]
[278,735000]
[279,5972000]
[280,7000000]
[281,75000]
[282,182000]
[283,750000]
[284,11000000]
[285,1886500]
[286,90000]
[287,389000]
[288,7300000]
[289,70000]
[290,2644000]
[291,30000]
[292,165000]
[293,205000]
[294,810000]
[295,150000]
[296,60000]
[297,100000]
[298,50000]
[299,100000]
[300,50000]
[301,300000]
[302,100000]
[303,11000000]
[304,1886500]
[305,60000]
[306,156000]
[307,145000]
[308,110000]
[309,20000]
[310,2670000]
[311,70000]
[312,150000]
[313,1100000]
[314,15000]
[315,170000]
[316,490000]
[317,11235000]
[318,2012000]
[319,80000]
[320,100000]
[321,550000]
[322,1602000]
[323,50000]
[324,1365000]
[325,2750000]
[326,382200]
[327,625000]
[328,120000]
[329,385000]
[330,800000]
["Grand Total",1056630010]

{"sheet":"Sheet3","index":6,"n_rows":125,"n_cols":4,"rows_kept":125,"cut":false,"hidden":true,"merged":[]}
[]
[]
[null,"Values"]
["Row Labels","Sum of Средства из буџета         ","Sum of Средства из осталих извора","Sum of Укупно"]
["Програмска активност 0101-0002:",22400000,0,22400000]
["Програмска активност 0401-0001:",8450000,0,8450000]
["Програмска активност 0401-0004:",11400000,0,11400000]
["Програмска активност 0401-0005:",0,10000000,10000000]
["Програмска активност 0401-0006:",1500000,0,1500000]
["Програмска активност 0501-0001:",0,18833520,18833520]
["Програмска активност 0602-0001:",207770000,0,207770000]
["Програмска активност 0602-0002:",6970000,0,6970000]
["Програмска активност 0602-0004:",5541000,0,5541000]
["Програмска активност 0602-0007:",6200000,0,6200000]
["Програмска активност 0602-0009:",10197600,0,10197600]
["Програмска активност 0602-0010:",500000,0,500000]
["Програмска активност 0602-0014:",1850000,0,1850000]
["Програмска активност 0901-0001:",9500000,0,9500000]
["Програмска активност 0901-0002:",3100000,0,3100000]
["Програмска активност 0901-0005:",500000,0,500000]
["Програмска активност 0901-0006:",2950000,3050000,6000000]
["Програмска активност 0901-0007:",540000,3200000,3740000]
["Програмска активност 1101-0001:",41497000,0,41497000]
["Програмска активност 1101-0002:",300000,0,300000]
["Програмска активност 1102-0001:",20000000,0,20000000]
["Програмска активност 1102-0002:",1350000,0,1350000]
["Програмска активност 1102-0003:",12000000,0,12000000]
["Програмска активност 1102-0004:",1800000,0,1800000]
["Програмска активност 1102-0005:",0,5000000,5000000]
["Програмска активност 1102-0008:",18622000,11000000,29622000]
["Програмска активност 1102-01:",7000000,0,7000000]
["Програмска активност 1201-0001:",42842000,0,42842000]
["Програмска активност 1201-0002:",5330000,0,5330000]
["Програмска активност 1201-0003:",3300000,0,3300000]
["Програмска активност 1201-0004:",5000000,0,5000000]
["Програмска активност 1301-0001:",10650000,0,10650000]
["Програмска активност 1301-0004:",22056200,0,22056200]
["Програмска активност 1301-0005:",800000,0,800000]
["Програмска активност 1501-0002:",15000000,0,15000000]
["Програмска активност 1501-0003:",10000000,0,10000000]
["Програмска активност 1502-0001:",9026500,0,9026500]
["Програмска активност 1801-0001:",22600000,0,22600000]
["Програмска активност 1801-0002:",400000,0,400000]
["Програмска активност 2001-0001:",110543000,0,110543000]
["Програмска активност 2002-0001:",73364200,4700000,78064200]
["Програмска активност 2003-0001:",37327500,7200000,44527500]
["Програмска активност 2101-0001:",18694000,0,18694000]
["Програмска активност 2101-0002:",12376000,0,12376000]
["Програмска активност 2101-0003:",6350000,0,6350000]
["Пројекат 0701-01",1150000,0,1150000]
["Пројекат 0701-02",500000,0,500000]
["Пројекат 0701-03",950000,0,950000]
["Пројекат 0701-04",2970000,74000000,76970000]
["Пројекат 0701-05",1020000,0,1020000]
["Пројекат 0701-06",2980000,0,2980000]
["Пројекат 0701-07",3000000,0,3000000]
["Пројекат 0701-08",2000000,0,2000000]
["Пројекат 0701-09",2000000,0,2000000]
["Пројекат 0701-10",1200000,0,1200000]
["Пројекат 0701-11",1200000,0,1200000]
["Пројекат 0701-12",5990000,0,5990000]
["Пројекат 0701-13",1500000,0,1500000]
["Пројекат 0701-14",600000,0,600000]
["Пројекат 0701-15",500000,0,500000]
["Пројекат 0701-16",500000,0,500000]
["Пројекат 0701-17",500000,0,500000]
["Пројекат 0701-18",900000,0,900000]
["Пројекат 0701-19",400000,0,400000]
["Пројекат 0701-20",300000,0,300000]
["Пројекат 0701-21",500000,0,500000]
["Пројекат 0701-22",400000,0,400000]
["Пројекат 0701-23",500000,0,500000]
["Пројекат 0701-24",500000,0,500000]
["Пројекат 0701-25",400000,0,400000]
["Пројекат 0701-26",600000,0,600000]
["Пројекат 0701-27",750000,0,750000]
["Пројекат 0701-28",1850000,0,1850000]
["Пројекат 0701-29",600000,0,600000]
["Пројекат 0701-30",2250000,0,2250000]
["Пројекат 0701-31",3780000,0,3780000]
["Пројекат 0701-32",4000000,0,4000000]
["Пројекат 0701-33",2590000,0,2590000]
["Пројекат 0701-34",1970000,0,1970000]
["Пројекат 0701-35",4050000,0,4050000]
["Пројекат 0701-36",2290000,0,2290000]
["Пројекат 0701-37",1000000,0,1000000]
["Пројекат 0701-38",300000,0,300000]
["Пројекат 0701-39",3500000,0,3500000]
["Пројекат 0701-40",1983000,0,1983000]
["Пројекат 0701-41",4000000,0,4000000]
["Пројекат 0701-42",1500000,0,1500000]
["Пројекат 0701-43",300000,0,300000]
["Пројекат 0701-44",900000,0,900000]
["Пројекат 0701-45",500000,0,500000]
["Пројекат 0701-46",500000,0,500000]
["Пројекат 0701-47",2000000,0,2000000]
["Пројекат 0701-48",1000000,0,1000000]
["Пројекат 0701-49",500000,0,500000]
["Пројекат 0701-50",500000,0,500000]
["Пројекат 0701-51",650000,0,650000]
["Пројекат 0701-52",500000,0,500000]
["Пројекат 0701-53",500000,0,500000]
["Пројекат 0701-54",5000000,0,5000000]
["Пројекат 0701-55",400000,0,400000]
["Пројекат 0701-56",600000,0,600000]
["Пројекат 0701-57",13000000,0,13000000]
["Пројекат 0701-58",500000,0,500000]
["Пројекат 0701-59",600000,0,600000]
["Пројекат 0701-60",800000,0,800000]
["Пројекат 0701-61",500000,0,500000]
["Пројекат 0701-62",300000,0,300000]
["Пројекат 0701-63",300000,0,300000]
["Пројекат 0701-64",400000,0,400000]
["Пројекат 0701-65",400000,0,400000]
["Пројекат 0701-66",6000000,0,6000000]
["Пројекат 0701-67",2000000,0,2000000]
["Пројекат 0701-68",500000,0,500000]
["Пројекат 0701-69",400000,0,400000]
["Пројекат 1201-01",150000,0,150000]
["Пројекат 1201-02",150000,0,150000]
["Пројекат 1201-03",400000,0,400000]
["Пројекат 1301-01:",500000,0,500000]
["Пројекат 1301-02:",700000,0,700000]
["Пројекат 1301-03:",710000,0,710000]
["Grand Total",919230000,136983520,1056213520]

{"sheet":"Sheet5","index":7,"n_rows":132,"n_cols":4,"rows_kept":132,"cut":false,"hidden":true,"merged":[]}
[]
[]
[null,"Values"]
["Row Labels","Sum of Средства из буџета         ","Sum of Средства из осталих извора","Sum of Укупно"]
["Програмска активност 0101-0002:",22400000,0,22400000]
["Програмска активност 0401-0001:",8450000,0,8450000]
["Програмска активност 0401-0004:",11400000,0,11400000]
["Програмска активност 0401-0005:",0,10000000,10000000]
["Програмска активност 0401-0006:",1500000,0,1500000]
["Програмска активност 0501-0001:",0,18833520,18833520]
["Програмска активност 0602-0001:",207770000,0,207770000]
["Програмска активност 0602-0002:",6970000,0,6970000]
["Програмска активност 0602-0004:",5541000,0,5541000]
["Програмска активност 0602-0007:",6200000,0,6200000]
["Програмска активност 0602-0009:",10197600,0,10197600]
["Програмска активност 0602-0010:",500000,0,500000]
["Програмска активност 0602-0014:",1850000,0,1850000]
["Програмска активност 0901-0001:",9500000,0,9500000]
["Програмска активност 0901-0002:",3100000,0,3100000]
["Програмска активност 0901-0005:",500000,0,500000]
["Програмска активност 0901-0006:",2950000,3050000,6000000]
["Програмска активност 0901-0007:",540000,3200000,3740000]
["Програмска активност 1101-0001:",41497000,0,41497000]
["Програмска активност 1101-0002:",300000,0,300000]
["Програмска активност 1102-0001:",20000000,0,20000000]
["Програмска активност 1102-0002:",1350000,0,1350000]
["Програмска активност 1102-0003:",12000000,0,12000000]
["Програмска активност 1102-0004:",1800000,0,1800000]
["Програмска активност 1102-0005:",0,5000000,5000000]
["Програмска активност 1102-0008:",18622000,11000000,29622000]
["Програмска активност 1102-01:",7000000,0,7000000]
["Програмска активност 1201-0001:",42842000,0,42842000]
["Програмска активност 1201-0002:",5330000,0,5330000]
["Програмска активност 1201-0003:",3300000,0,3300000]
["Програмска активност 1201-0004:",5000000,0,5000000]
["Програмска активност 1301-0001:",10650000,0,10650000]
["Програмска активност 1301-0004:",22056200,0,22056200]
["Програмска активност 1301-0005:",800000,0,800000]
["Програмска активност 1501-0002:",15000000,0,15000000]
["Програмска активност 1501-0003:",10000000,0,10000000]
["Програмска активност 1502-0001:",9026500,0,9026500]
["Програмска активност 1801-0001:",22600000,0,22600000]
["Програмска активност 1801-0002:",400000,0,400000]
["Програмска активност 2001-0001:",110543000,0,110543000]
["Програмска активност 2002-0001:",73364200,4700000,78064200]
["Програмска активност 2003-0001:",37327500,7200000,44527500]
["Програмска активност 2101-0001:",18694000,0,18694000]
["Програмска активност 2101-0002:",12376000,0,12376000]
["Програмска активност 2101-0003:",6350000,0,6350000]
["Пројекат 0701-01",1150000,0,1150000]
["Пројекат 0701-02",500000,0,500000]
["Пројекат 0701-03",950000,0,950000]
["Пројекат 0701-04",2970000,74000000,76970000]
["Пројекат 0701-05",1020000,0,1020000]
["Пројекат 0701-06",2980000,0,2980000]
["Пројекат 0701-07",3000000,0,3000000]
["Пројекат 0701-08",2000000,0,2000000]
["Пројекат 0701-09",2000000,0,2000000]
["Пројекат 0701-10",1200000,0,1200000]
["Пројекат 0701-11",1200000,0,1200000]
["Пројекат 0701-12",5990000,0,5990000]
["Пројекат 0701-13",1500000,0,1500000]
["Пројекат 0701-14",600000,0,600000]
["Пројекат 0701-15",500000,0,500000]
["Пројекат 0701-16",500000,0,500000]
["Пројекат 0701-17",500000,0,500000]
["Пројекат 0701-18",900000,0,900000]
["Пројекат 0701-19",400000,0,400000]
["Пројекат 0701-20",300000,0,300000]
["Пројекат 0701-21",500000,0,500000]
["Пројекат 0701-22",400000,0,400000]
["Пројекат 0701-23",500000,0,500000]
["Пројекат 0701-24",500000,0,500000]
["Пројекат 0701-25",400000,0,400000]
["Пројекат 0701-26",600000,0,600000]
["Пројекат 0701-27",750000,0,750000]
["Пројекат 0701-28",1850000,0,1850000]
["Пројекат 0701-29",600000,0,600000]
["Пројекат 0701-30",2250000,0,2250000]
["Пројекат 0701-31",3780000,0,3780000]
["Пројекат 0701-32",4000000,0,4000000]
["Пројекат 0701-33",2590000,0,2590000]
["Пројекат 0701-34",1970000,0,1970000]
["Пројекат 0701-35",4050000,0,4050000]
["Пројекат 0701-36",2290000,0,2290000]
["Пројекат 0701-37",1000000,0,1000000]
["Пројекат 0701-38",300000,0,300000]
["Пројекат 0701-39",3500000,0,3500000]
["Пројекат 0701-40",1983000,0,1983000]
["Пројекат 0701-41",4000000,0,4000000]
["Пројекат 0701-42",1500000,0,1500000]
["Пројекат 0701-43",300000,0,300000]
["Пројекат 0701-44",900000,0,900000]
["Пројекат 0701-45",500000,0,500000]
["Пројекат 0701-46",500000,0,500000]
["Пројекат 0701-47",2000000,0,2000000]
["Пројекат 0701-48",1000000,0,1000000]
["Пројекат 0701-49",500000,0,500000]
["Пројекат 0701-50",500000,0,500000]
["Пројекат 0701-51",650000,0,650000]
["Пројекат 0701-52",500000,0,500000]
["Пројекат 0701-53",500000,0,500000]
["Пројекат 0701-54",5000000,0,5000000]
["Пројекат 0701-55",400000,0,400000]
["Пројекат 0701-56",600000,0,600000]
["Пројекат 0701-57",13000000,0,13000000]
["Пројекат 0701-58",500000,0,500000]
["Пројекат 0701-59",600000,0,600000]
["Пројекат 0701-60",800000,0,800000]
["Пројекат 0701-61",500000,0,500000]
["Пројекат 0701-62",300000,0,300000]
["Пројекат 0701-63",300000,0,300000]
["Пројекат 0701-64",400000,0,400000]
["Пројекат 0701-65",400000,0,400000]
["Пројекат 0701-66",6000000,0,6000000]
["Пројекат 0701-67",2000000,0,2000000]
["Пројекат 0701-68",500000,0,500000]
["Пројекат 0701-69",400000,0,400000]
["Пројекат 1201-01",150000,0,150000]
["Пројекат 1201-02",150000,0,150000]
["Пројекат 1201-03",400000,0,400000]
["Пројекат 1301-01:",500000,0,500000]
["Пројекат 1301-02:",700000,0,700000]
["Пројекат 1301-03:",710000,0,710000]
["Пројекат 0701-70",450000,0,450000]
["Пројекат 0701-71",450000,0,450000]
["Пројекат 0701-72",450000,0,450000]
["Пројекат 0701-73",450000,0,450000]
["Пројекат 0701-74",500000,0,500000]
["Пројекат 0701-75",1000000,0,1000000]
["Пројекат 0701-76",950000,0,950000]
["Grand Total",923480000,136983520,1060463520]

{"sheet":"Troškovi 2019","index":8,"n_rows":1093,"n_cols":13,"rows_kept":1093,"cut":false,"hidden":false,"merged":[]}
["Раздео","Глава","Програмска активност","Функција","Позиција","Економска класификација","ОПИС","Средства из буџета         ","Средства из осталих извора","Укупно",null,"provera","БУЏЕТ 2018 Р2"]
[1,2,3,4,5,6,7,8,9,10]
[1,"1.01",null,null,null,null,"СКУПШТИНА ОПШТИНЕ",null,null,null,null,{"$f":"(H3+I3)-J3","v":0}]
[null,null,2101,null,null,null,"ПРОГРАМ 16: ПОЛИТИЧКИ СИСТЕМ ЛОКАЛНЕ САМОУПРАВЕ",null,null,null,null,{"$f":"(H4+I4)-J4","v":0}]
[null,null,"2101-0001",null,null,null,"Функционисање скупштине",null,null,null,null,{"$f":"(H5+I5)-J5","v":0}]
[null,null,null,111,null,null,"Извршни и законодавни органи, финансијски и фискални послови",null,null,null,null,{"$f":"(H6+I6)-J6","v":0}]
[null,null,null,null,1,411,"Плате, додаци и накнаде запосленима",1240000,null,{"$f":"H7+I7","v":1240000},{"$f":"H7+I7","v":1240000},{"$f":"(H7+I7)-J7","v":0},1497000]
[null,null,null,null,2,412,"Социјални доприноси на терет послодавца",222000,null,222000,222000,{"$f":"(H8+I8)-J8","v":0},267800]
[null,null,null,null,3,414,"Социјална давања запосленима",20000,null,20000,20000,0,160000]
[null,null,null,null,4,416,"Награде, бонуси и остали пословни расхода",5000,null,5000,5000,0,5000]
[null,null,null,null,5,422,"Трошкови путовања",{"$f":"100000-50000","v":50000},null,50000,50000,0,50000]
[null,null,null,null,6,423,"Услуге по уговору",{"$f":"14040000+300000+2000000+160000","v":16500000},null,16500000,16500000,0,16502000]
[null,null,null,null,7,426,"Материјал",{"$f":"50000+50000","v":100000},null,100000,100000,0,100000]
[null,null,null,null,8,465,"Остале текуће донације по закону",170000,null,170000,170000,0,350000]
[null,null,null,null,9,481,"Дотација - редован рад политичких странака (порески приходи*0,105%)",387000,null,387000,387000,0,367000]
[null,null,null,null,null,null,"Функција 111:",{"$f":"SUBTOTAL(9,H7:H15)","v":18694000},0,18694000,18694000,0,19298800]
[null,null,null,null,null,null,"Програмска активност 2101-0001:",{"$f":"SUBTOTAL(9,H7:H15)","v":18694000},0,18694000,18694000,0,19298800]
[null,null,null,null,null,null,null,null,null,null,0,0]
[null,2,"2101-0003",null,null,null,"Подршка раду извршних органа власти и скупштине",null,null,null,0,0]
[null,null,null,111,null,null,"Извршни и законодавни органи",null,null,null,0,0]
[null,null,null,null,10,423,"Услуге по уговору",2750000,null,{"$f":"H21+I21","v":2750000},2750000,0,2750000]
[null,null,null,null,11,481,"Дотације - Савет за безбедност општине Бујановац",500000,null,{"$f":"H22+I22","v":500000},500000,0,200000]
[null,null,null,null,12,481,"Дотације - Савет за међунационалне односе",{"$f":"200000-150000","v":50000},null,{"$f":"H23+I23","v":50000},50000,0,50000]
[null,null,null,null,13,481,"Дотације - Савет за родну равноправност",{"$f":"200000-150000","v":50000},null,{"$f":"H24+I24","v":50000},50000,0,50000]
[null,null,null,null,null,null,"Функција 111:",{"$f":"SUBTOTAL(9,H21:H24)","v":3350000},{"$f":"SUBTOTAL(9,I21:I24)","v":0},3350000,3350000,0,3050000]
[null,null,null,null,null,null,"Програмска активност 2101-0003:",{"$f":"SUBTOTAL(9,H21:H24)","v":3350000},{"$f":"SUBTOTAL(9,I21:I24)","v":0},3350000,3350000,0,3050000]
[null,null,null,null,null,null,"УКУПНО ЗА ГЛАВУ 1.01:",{"$f":"SUBTOTAL(9,H7:H26)","v":22044000},{"$f":"SUBTOTAL(9,I7:I26)","v":0},22044000,22044000,0,22348800]
[null,null,null,null,null,null,"УКУПНО ЗА РАЗДЕО 1:",{"$f":"SUBTOTAL(9,H7:H27)","v":22044000},{"$f":"SUBTOTAL(9,I7:I27)","v":0},22044000,22044000,0,22348800]
[null,null,null,null,null,null,null,null,null,null,0,0]
[2,"2.01",null,null,null,null,"ПРЕДСЕДНИК ОПШТИНЕ",null,null,null,0,0]
[null,null,2101,null,null,null,"ПРОГРАМ 16: ПОЛИТИЧКИ СИСТЕМ ЛОКАЛНЕ САМОУПРАВЕ",null,null,null,0,0]
[null,null,"2101-0002",null,null,null,"Функционисање извршних органа",null,null,null,0,0]
[null,null,null,111,null,null,"Извршни и законодавни органи",null,null,null,0,0]
[null,null,null,null,14,411,"Плате, додаци и накнаде запосленима",2821000,null,{"$f":"H34+I34","v":2821000},2821000,0,2635000]
[null,null,null,null,15,412,"Социјални доприноси на терет послодавца",505000,null,505000,505000,0,400000]
[null,null,null,null,16,414,"Социјална давања запосленима",50000,null,50000,50000,0,50000]
[null,null,null,null,17,416,"Награде, бонуси и остали пословни расхода",{"$f":"100000-40000","v":60000},null,60000,60000,0,60000]
[null,null,null,null,18,422,"Трошкови путовања",{"$f":"500000-350000","v":150000},null,150000,150000,0,150000]
[null,null,null,null,19,423,"Услуге по уговору",{"$f":"1518000+600000+602000","v":2720000},null,2720000,{"$f":"H39+I39","v":2720000},0,2720000]
[null,null,null,null,20,426,"Материјал",50000,null,50000,50000,0,50000]
[null,null,null,null,21,465,"Остале текуће донације по закону",350000,null,350000,350000,0,350000]
[null,null,null,null,null,null,"Функција 111:",{"$f":"SUBTOTAL(9,H34:H41)","v":6706000},0,6706000,6706000,0,6415000]
[null,null,null,null,null,null,"Програмска активност 2101-0002:",{"$f":"SUBTOTAL(9,H34:H41)","v":6706000},0,6706000,6706000,0,6415000]
[null,null,"2101-0002",null,null,null,"Функционисање извршних органа",null,null,null,0,0]
[null,null,null,111,null,null,"Извршни и законодавни органи",null,null,null,0,0]
[null,null,null,null,22,423,"Обележавање дана Општине Бујановац",200000,null,{"$f":"H46+I46","v":200000},200000,0,200000]
[null,null,null,null,23,423,"Обележавање дана дијаспоре",200000,null,{"$f":"H47+I47","v":200000},200000,0,150000]
[null,null,null,null,24,423,"Петровдански дани",200000,null,{"$f":"H48+I48","v":200000},200000,0,70000]
[null,null,null,null,25,423,"8. април Светски дан Рома",200000,null,{"$f":"H49+I49","v":200000},200000,0]
[null,null,null,null,26,423,"Мајске манифестације",200000,null,{"$f":"H50+I50","v":200000},200000,0]
[null,null,null,null,null,null,"Функција 111:",{"$f":"SUBTOTAL(9,H46:H50)","v":1000000},{"$f":"SUBTOTAL(9,I46:I50)","v":0},{"$f":"SUBTOTAL(9,J46:J50)","v":1000000},1000000,0,420000]
[null,null,null,null,null,null,"Програмска активност 2101-0002:",{"$f":"SUBTOTAL(9,H46:H50)","v":1000000},{"$f":"SUBTOTAL(9,I46:I50)","v":0},{"$f":"SUBTOTAL(9,J46:J50)","v":1000000},1000000,0,420000]
[null,null,null,null,null,null,"УКУПНО ЗА ГЛАВУ 2.01:",{"$f":"SUBTOTAL(9,H34:H52)","v":7706000},{"$f":"SUBTOTAL(9,I34:I52)","v":0},7706000,7706000,0,6835000]
[null,null,null,null,null,null,"УКУПНО ЗА РАЗДЕО 2:",{"$f":"SUBTOTAL(9,H34:H53)","v":7706000},{"$f":"SUBTOTAL(9,I34:I53)","v":0},7706000,7706000,0,6835000]
[null,null,null,null,null,null,null,null,null,null,0,0]
[3,"3.01",null,null,null,null,"ОПШТИНСКО ВЕЋЕ",null,null,null,0,0]
[null,null,2101,null,null,null,"ПРОГРАМ 16: ПОЛИТИЧКИ СИСТЕМ ЛОКАЛНЕ САМОУПРАВЕ",null,null,null,0,0]
[null,null,"2101-0002",null,null,null,"Функционисање извршних органа",null,null,null,0,0]
[null,null,null,111,null,null,"Извршни и законодавни органи",null,null,null,0,0]
[null,null,null,null,27,423,"Услуге по уговору",4620000,null,{"$f":"H60+I60","v":4620000},4620000,0,4315500]
[null,null,null,null,28,426,"Материјал",50000,null,{"$f":"H61+I61","v":50000},50000,0,50000]
[null,null,null,null,null,null,"Функција 111:",{"$f":"SUBTOTAL(9,H60:H61)","v":4670000},{"$f":"SUBTOTAL(9,I60:I61)","v":0},4670000,4670000,0,4365500]
[null,null,null,null,null,null,"Програмска активност 2101-0002:",{"$f":"SUBTOTAL(9,H60:H61)","v":4670000},{"$f":"SUBTOTAL(9,I60:I61)","v":0},4670000,4670000,0,4365500]
[null,null,null,null,null,null,null,null,null,null,0,0]
[null,null,"2101-0003",null,null,null,"Подршка раду извршних органа власти и скупштине",null,null,null,0,0]
[null,null,null,111,null,null,"Извршни и законодавни органи - рад комисија",null,null,null,0,0]
[null,null,null,null,29,423,"Услуге по уговору",3000000,null,{"$f":"H67+I67","v":3000000},3000000,0,3800000]
[null,null,null,null,null,null,"Функција 111:",{"$f":"SUBTOTAL(9,H67)","v":3000000},{"$f":"SUBTOTAL(9,I67)","v":0},3000000,3000000,0,3800000]
[null,null,null,null,null,null,"Програмска активност 2101-0003:",{"$f":"SUBTOTAL(9,H67)","v":3000000},{"$f":"SUBTOTAL(9,I67)","v":0},3000000,3000000,0,3800000]
[null,null,null,null,null,null,"УКУПНО ЗА ГЛАВУ 3.01:",{"$f":"SUBTOTAL(9,H60:H69)","v":7670000},{"$f":"SUBTOTAL(9,I60:I69)","v":0},7670000,7670000,0,8165500]
[null,null,null,null,null,null,"УКУПНО ЗА РАЗДЕО 3:",{"$f":"SUBTOTAL(9,H60:H70)","v":7670000},{"$f":"SUBTOTAL(9,I60:I70)","v":0},7670000,7670000,0,8165500]
[null,null,null,null,null,null,null,null,null,null,0,{"$f":"(H72+I72)-J72","v":0}]
[4,"4.01",null,null,null,null,"ПРАВОБРАНИЛАШТВО ОПШТИНЕ БУЈАНОВАЦ",null,null,null,{"$f":"H73+I73","v":0},0]
[null,null,"0602",null,null,null,"ПРОГРАМ 15: ЛОКАЛНА САМОУПРАВА",null,null,null,0,0]
[null,null,"0602-0004",null,null,null,"Правобранилаштво општине Бујановац",null,null,null,0,0]
[null,null,null,330,null,null,"Судови",null,null,null,0,0]
[null,null,null,null,30,411,"Плате, додаци и накнаде запосленима",1926000,null,{"$f":"H77+I77","v":1926000},1926000,0,1800000]
[null,null,null,null,31,412,"Социјални доприноси на терет послодавца",345000,null,345000,345000,0,322200]
[null,null,null,null,32,422,"Трошкови путовања",20000,null,20000,20000,0,20000]
[null,null,null,null,33,423,"Услуге по уговору",{"$f":"100000-80000","v":20000},null,20000,20000,0,20000]
[null,null,null,null,34,426,"Материјал",10000,null,10000,10000,0,10000]
[null,null,null,null,35,465,"Остале текуће донације по закону",220000,null,220000,220000,0,220000]
[null,null,null,null,36,483,"Новчане казне и пенали по решењу судова",3000000,null,3000000,3000000,0,3000000]
[null,null,null,null,null,null,"Функција 330:",{"$f":"SUBTOTAL(9,H77:H83)","v":5541000},{"$f":"SUBTOTAL(9,I77:I83)","v":0},5541000,5541000,0,5392200]
[null,null,null,null,null,null,"Програмска активност 0602-0004:",{"$f":"SUBTOTAL(9,H77:H83)","v":5541000},{"$f":"SUBTOTAL(9,I77:I83)","v":0},5541000,5541000,0,5392200]
[null,null,null,null,null,null,"УКУПНО ЗА ГЛАВУ 4.01:",{"$f":"SUBTOTAL(9,H77:H83)","v":5541000},{"$f":"SUBTOTAL(9,I77:I83)","v":0},5541000,5541000,0,5392200]
[null,null,null,null,null,null,"УКУПНО ЗА РАЗДЕО 4:",{"$f":"SUBTOTAL(9,H77:H86)","v":5541000},{"$f":"SUBTOTAL(9,I77:I86)","v":0},5541000,5541000,0,5392200]
[null,null,null,null,null,null,null,null,null,null,0,0]
[5,"5.01",null,null,null,null,"ОПШТИНСКА УПРАВА",null,null,null,0,0]
[null,null,"0602",null,null,null,"ПРОГРАМ 15: ЛОКАЛНА САМОУПРАВА",null,null,null,0,0]
[null,null,"0602-0001",null,null,null,"Функционисање локалне самоуправе  и градских општина",null,null,null,0,0]
[null,null,null,130,null,null,"Опште јавне услуге",null,null,null,0,0]
[null,null,null,null,37,411,"Плате, додаци и накнаде запосленима",115025000,null,{"$f":"H93+I93","v":115025000},115025000,0,107500000]
[null,null,null,null,38,412,"Социјални доприноси на терет послодавца",20590000,null,20590000,20590000,0,19245000]
[null,null,null,null,39,413,"Накнаде у натури",{"$f":"10000+760000-500000+30000","v":300000},null,300000,300000,0,300000]
[null,null,null,null,40,414,"Социјална давања запосленима",1000000,null,1000000,1000000,0,4500000]
[null,null,null,null,41,415,"Накнаде трошкова за запослене",6250000,null,6250000,6250000,0,5000000]
[null,null,null,null,42,416,"Награде, бонуси и остали пословни расхода",1500000,null,1500000,1500000,0,1500000]
[null,null,null,null,43,421,"Стални трошкови",{"$f":"12000000-500000-200000+2500000","v":13800000},null,13800000,13800000,0,13800000]
[null,null,null,null,44,422,"Трошкови путовања",{"$f":"2000000","v":2000000},null,2000000,2000000,0,2000000]
[null,null,null,null,45,423,"Услуге по уговору",{"$f":"15000000+600000","v":15600000},null,15600000,15600000,0,15800000]
[null,null,null,null,46,424,"Специјализоване услуге",{"$f":"500000+1200000+500000","v":2200000},null,2200000,2200000,0,2200000]
[null,null,null,null,47,425,"Текуће поправке и  одржавање",2000000,null,2000000,2000000,0,2670000]
[null,null,null,null,48,426,"Материјал",9000000,null,9000000,9000000,0,11000000]
[null,null,null,null,49,465,"Остале текуће донације по закону",10000000,null,10000000,{"$f":"H105+I105","v":10000000},0,11000000]
[null,null,null,null,50,482,"Порези , обавезне таксе и казне",{"$f":"700000-200000+100000","v":600000},null,600000,600000,0,600000]
[null,null,null,null,51,483,"Новчане казне и пенали по решењу судова",50000,null,50000,50000,0,50000]
[null,null,null,null,52,511,"Зграде и грађевински објекти",10000,null,10000,10000,0,10000]
[null,null,null,null,53,512,"Машине и опрема",{"$f":"1500000-500000+800000+250000","v":2050000},null,2050000,2050000,0,2800000]
[null,null,null,null,54,515,"Нематеријална имовина",200000,null,200000,200000,0,200000]
[null,null,null,null,55,541,"Набавка земљишта",3000000,null,3000000,3000000,0,2000000]
[null,null,null,null,null,null,"Функција 130:",{"$f":"SUBTOTAL(9,H93:H111)","v":205175000},{"$f":"SUBTOTAL(9,I93:I110)","v":0},{"$f":"SUBTOTAL(9,J93:J111)","v":205175000},205175000,0,202175000]
[null,null,null,null,null,null,"Програмска активност 0602-0001:",{"$f":"SUBTOTAL(9,H93:H111)","v":205175000},{"$f":"SUBTOTAL(9,I93:I110)","v":0},{"$f":"SUBTOTAL(9,J93:J111)","v":205175000},205175000,0,202175000]
[null,null,null,null,null,null,null,null,null,null,0,0]
[null,null,"0602-0001",null,null,null,"Подршка раду извршних органа власти и скупштине",null,null,null,0,0]
[null,null,null,160,null,null,"Опште јавне услуге које нису класификоване на другом месту",null,null,null,0,0]
[null,null,null,null,56,481,"Дотације - Унија бизниса Бујановца",200000,null,{"$f":"H117+I117","v":200000},200000,0,50000]
[null,null,null,null,57,481,"Дотација - Центар за развој Пчињског и Јабланичког округа",200000,null,200000,200000,0,200000]
[null,null,null,null,58,481,"Дотације  - Привредна комора ",50000,null,50000,50000,0,50000]
[null,null,null,null,59,481,"Дотација - Стална конференција градова и општина (чланарина)",500000,null,500000,500000,0,500000]
[null,null,null,null,60,481,"Дотација са страним донаторима - фондови ЕУ ",1000000,null,1000000,1000000,0,450000]
[null,null,null,null,61,481,"Дотација - Налед",100000,null,100000,100000,0,100000]
[null,null,null,null,62,481,"Дотације - Историјски архив Врање",470000,null,470000,470000,0,463000]
[null,null,null,null,63,481,"Дотација - АЛДА Европска асоцијација за локалну демократију",75000,null,75000,75000,0,75000]
[null,null,null,null,null,null,"Функција 160:",{"$f":"SUBTOTAL(9,H117:H124)","v":2595000},{"$f":"SUBTOTAL(9,I117:I124)","v":0},2595000,2595000,0,1888000]
[null,null,null,null,null,null,"Програмска активност 0602-0001:",{"$f":"SUBTOTAL(9,H117:H124)","v":2595000},{"$f":"SUBTOTAL(9,I117:I124)","v":0},2595000,2595000,0,1888000]
[null,null,null,null,null,null,null,null,null,null,0,0]
[null,null,"0602-0007",null,null,null,"Функционисање националних савета националних мањина",null,null,null,0,0]
[null,null,null,"090",null,null,"Социјална заштита некласификована на другом месту ",null,null,null,0,0]
[null,null,null,null,64,481,"Дотације невладиним организацијама - Декада Рома",{"$f":"1000000+200000","v":1200000},null,{"$f":"H130+I130","v":1200000},1200000,0,1000000]
[null,null,null,null,65,481,"Дотације невладиним организацијама - Национални савет Албанаца",5000000,null,{"$f":"H131+I131","v":5000000},5000000,0,2500000]
[null,null,null,null,null,null,"Функција 090:",{"$f":"SUBTOTAL(9,H130:H131)","v":6200000},0,6200000,6200000,0,3500000]
[null,null,null,null,null,null,"Програмска активност 0602-0007:",{"$f":"SUBTOTAL(9,H130:H131)","v":6200000},0,6200000,6200000,0,3500000]
[null,null,null,null,null,null,null,null,null,null,0,0]
[null,null,"0602-0009",null,null,null,"Текућа буџетска резерва",null,null,null,0,0]
[null,null,null,130,null,null,"Опште јавне услуге",null,null,null,0,{"$f":"(H136+I136)-J136","v":0}]
[null,null,null,null,66,49912,"Текућа резерва",{"$f":"10000000+2000000+47600-250000-100000-500000-1000000","v":10197600},null,{"$f":"H137+I137","v":10197600},{"$f":"H137+I137","v":10197600},0,7030800]
[null,null,null,null,null,null,"Функција 130:",{"$f":"SUBTOTAL(9,H137)","v":10197600},{"$f":"SUBTOTAL(9,I137)","v":0},10197600,10197600,0,7030800]
[null,null,null,null,null,null,"Програмска активност 0602-0009:",{"$f":"SUBTOTAL(9,H137)","v":10197600},{"$f":"SUBTOTAL(9,I137)","v":0},10197600,10197600,0,7030800]
[null,null,null,null,null,null,null,null,null,null,0,0]
[null,null,"0602-0010",null,null,null,"Стална буџетска резерва",null,null,null,0,0]
[null,null,null,130,null,null,"Опште јавне услуге",null,null,null,0,0]
[null,null,null,null,67,49911,"Стална резерва",500000,null,{"$f":"H143+I143","v":500000},500000,0,500000]
[null,null,null,null,null,null,"Функција 130:",{"$f":"SUBTOTAL(9,H143)","v":500000},{"$f":"SUBTOTAL(9,I143)","v":0},500000,500000,0,500000]
[null,null,null,null,null,null,"Програмска активност 0602-0010:",{"$f":"SUBTOTAL(9,H143)","v":500000},{"$f":"SUBTOTAL(9,I143)","v":0},500000,500000,0,500000]
[null,null,null,null,null,null,null,null,null,null,0,0]
[null,null,"0602-0014",null,null,null,"Ванредне ситуације",null,null,null,0,0]
[null,null,null,160,null,null,"Опште јавне услуге које нису класификоване на другом месту",null,null,null,0,0]
[null,null,null,null,68,423,"Услуге по уговору",1000000,null,{"$f":"H149+I149","v":1000000},1000000,0,650000]
[null,null,null,null,69,425,"Текуће поправке и одржавање",850000,null,{"$f":"H150+I150","v":850000},850000,0,850000]
[null,null,null,null,null,null,"Функција 160:",{"$f":"SUBTOTAL(9,H149:H150)","v":1850000},{"$f":"SUBTOTAL(9,I149:I150)","v":0},{"$f":"SUBTOTAL(9,J149:J150)","v":1850000},1850000,0,2026000]
[null,null,null,null,null,null,"Програмска активност 0602-0014:",{"$f":"SUBTOTAL(9,H149:H150)","v":1850000},{"$f":"SUBTOTAL(9,I149:I150)","v":0},{"$f":"SUBTOTAL(9,J149:J150)","v":1850000},1850000,0,2026000]
[null,null,null,null,null,null,null,null,null,null,0,0]
[null,null,null,null,null,null,"ПРОГРАМ 1: ЛОКАЛНИ РАЗВОЈ И ПРОСТОРНО ПЛАНИРАЊЕ",null,null,null,0,0]
[null,null,"1101-0001",null,null,null,"Просторно и урбанистичко планирање",null,null,null,0,0]
[null,null,null,160,null,null,"Опште јавне услуге које нису класификоване на другом месту",null,null,null,0,0]
[null,null,null,null,70,511,"Зграде и грађевински објекти - Израда пројектне документације",{"$f":"12000000+2000000+1200000-2000000","v":13200000},null,{"$f":"H157+I157","v":13200000},13200000,0,17630000]
[null,null,null,null,null,null,"Функција 160:",{"$f":"SUBTOTAL(9,H157)","v":13200000},{"$f":"SUBTOTAL(9,I157)","v":0},{"$f":"SUBTOTAL(9,J157)","v":13200000},13200000,0,17630000]
[null,null,null,null,null,null,null,null,null,null,0,0]
[null,null,null,620,null,null,"ЈП \"ДИРЕКЦИЈА ЗА ГРАЂЕВИНСКО ЗЕМЉИШТЕ, УРБАНИЗАМ, ПУТЕВЕ И СТАМБЕНЕ ПОСЛОВЕ ОПШТИНЕ БУЈАНОВАЦ\" - у Ликвидацији \nПо Закључку о давању сагласности СО Бујановац број 04-73/2017 од 05.10.2017. године на Почетни ликвидациони извештај - број решења АПР: БД 39792/2017 - део обавеза",null,null,null,0,0]
[null,null,null,null,71,423,"Услуге по уговору - накнада ликвидационом управнику",960000,null,{"$f":"H161+I161","v":960000},{"$f":"H161+I161","v":960000},0,960000]
[null,null,null,null,72,421,"Стални трошкови",2760000,null,{"$f":"H162+I162","v":2760000},null,0]
[null,null,null,null,73,423,"Услуге по уговору",206000,null,206000,null,0]
[null,null,null,null,74,424,"Специјализоване услуге",957000,null,957000,null,0]
[null,null,null,null,75,425,"Текуће поправке и одржавање",3877000,null,3877000,3877000,0,182000]
[null,null,null,null,76,426,"Материјал",168000,null,168000,null,0]
[null,null,null,null,77,482,"Порези , обавезне таксе и казне",6000,null,6000,null,0]
[null,null,null,null,78,483,"Новчане казне и пенали по решењу судова",5384000,null,5384000,null,0,14840000]
[null,null,null,null,79,511,"Зграде и грађевински објекти",13929000,null,13929000,null,0]
[null,null,null,null,80,512,"Машине и опрема",50000,null,50000,null,0]
[null,null,null,null,null,null,"Функција 620:",{"$f":"SUBTOTAL(9,H161:H170)","v":28297000},{"$f":"SUBTOTAL(9,I162:I168)","v":0},{"$f":"SUBTOTAL(9,J161:J170)","v":28297000},28297000,0,24072000]
[null,null,null,null,null,null,"Програмска активност 1101-0001:",{"$f":"SUBTOTAL(9,H157:H171)","v":41497000},{"$f":"SUBTOTAL(9,I157:I171)","v":0},{"$f":"SUBTOTAL(9,J157:J171)","v":41497000},41497000,0,41702000]
[null,null,null,null,null,null,null,null,null,null,null,0]
[null,null,"1101-0002",null,null,null,"Спровођење урбанистичких и просторних планова",null,null,null,{"$f":"H174+I174","v":0},0]
[null,null,null,620,null,null,"Развој заједнице",null,null,null,0,0]
[null,null,null,null,81,511,"Зграде и грађевински објекти - Уклањање архитектонских баријера у општини Бујановац",300000,null,{"$f":"H176+I176","v":300000},300000,0,17630000]
[null,null,null,null,null,null,"Функција 620:",{"$f":"SUBTOTAL(9,H176)","v":300000},{"$f":"SUBTOTAL(9,I176)","v":0},300000,300000,0,17630000]
[null,null,null,null,null,null,"Програмска активност 1101-0002:",{"$f":"SUBTOTAL(9,H174:H176)","v":300000},{"$f":"SUBTOTAL(9,I174:I176)","v":0},300000,300000,0,41702000]
[null,null,null,null,null,null,null,null,null,null,0,0]
[null,null,1102,null,null,null,"ПРОГРАМ 2: КОМУНАЛНА ДЕЛАТНОСТ",null,null,null,{"$f":"H180+I180","v":0},0]
[null,null,"1102-0001",null,null,null,"Јавна расвета",null,null,null,0,0]
[null,null,null,640,null,null,"Улична расвета",null,null,null,0,0]
[null,null,null,null,82,421,"Стални трошкови",18000000,null,{"$f":"H183+I183","v":18000000},18000000,0,19500000]
[null,null,null,null,83,425,"Текуће поправке и одржавање",2000000,null,{"$f":"H184+I184","v":2000000},2000000,0,4115000]
[null,null,null,null,null,null,"Функција 640:",{"$f":"SUBTOTAL(9,H183:H184)","v":20000000},0,20000000,20000000,0,23615000]
[null,null,null,null,null,null,"Програмска активност 1102-0001:",{"$f":"SUBTOTAL(9,H183:H184)","v":20000000},0,20000000,20000000,0,23615000]
[null,null,null,null,null,null,null,null,null,null,0,0]
[null,null,"1102-0002",null,null,null,"Уређење и одржавање зеленила",null,null,null,0,0]
[null,null,null,660,null,null,"Послови становања и заједнице некласификоване на другом месту",null,null,null,0,0]
[null,null,null,null,84,424,"Специјализоване услуге - одржавање зеленила",{"$f":"1200000+150000","v":1350000},null,{"$f":"H190+I190","v":1350000},1350000,0,2750000]
[null,null,null,null,null,null,"Функција 660:",{"$f":"SUBTOTAL(9,H190)","v":1350000},{"$f":"SUBTOTAL(9,I190)","v":0},1350000,1350000,0,2750000]
[null,null,null,null,null,null,"Програмска активност 1102-0002:",{"$f":"SUBTOTAL(9,H190)","v":1350000},{"$f":"SUBTOTAL(9,I190)","v":0},1350000,1350000,0,2750000]
[null,null,null,null,null,null,null,null,null,null,0,0]
[null,null,"1102-0003",null,null,null,"Јавна хигијена",null,null,null,0,0]
[null,null,null,660,null,null,"Послови становања и заједнице некласификоване на другом месту",null,null,null,0,0]
[null,null,null,null,85,424,"Специјализоване услуге - метење улица",12000000,null,{"$f":"H196+I196","v":12000000},12000000,0,16200000]
[null,null,null,null,null,null,"Функција 660:",{"$f":"SUBTOTAL(9,H196)","v":12000000},{"$f":"SUBTOTAL(9,I196)","v":0},12000000,12000000,0,16200000]
[null,null,null,null,null,null,"Програмска активност 1102-0003:",{"$f":"SUBTOTAL(9,H196)","v":12000000},{"$f":"SUBTOTAL(9,I196)","v":0},12000000,12000000,0,16200000]
[null,null,null,null,null,null,null,null,null,null,0,0]
[null,null,"1102-0004",null,null,null,"Зоохигијена",null,null,null,0,{"$f":"(H200+I200)-J200","v":0}]
[null,null,null,160,null,null,"Опште јавне услуге некласификоване на другом месту",null,null,null,0,0]
[null,null,null,null,86,483,"Новчане казне и пенали по решењу судова",200000,null,{"$f":"H202+I202","v":200000},200000,0,200000]
[null,null,null,null,87,485,"Накнаде штете за повреде или штете нанете од стране државних органа",1600000,null,{"$f":"H203+I203","v":1600000},1600000,0,1600000]
[null,null,null,null,null,null,"Функција 160:",{"$f":"SUBTOTAL(9,H202:H203)","v":1800000},{"$f":"SUBTOTAL(9,I202:I203)","v":0},1800000,1800000,0,1800000]
[null,null,null,null,null,null,"Програмска активност 1102-0004:",{"$f":"SUBTOTAL(9,H202:H203)","v":1800000},{"$f":"SUBTOTAL(9,I202:I203)","v":0},1800000,1800000,0,1800000]
[null,null,null,null,null,null,null,null,null,null,{"$f":"H206+I206","v":0},0]
[null,null,"1102-0005",null,null,null,"Уређивање, одржавање и коришћење пијаца",null,null,null,0,0]
[null,null,null,620,null,null,"Развој заједнице",null,null,null,0,0]
[null,null,null,null,88,511,"Зграде и грађевински објекти - Изградња сточне пијаце у Бујановцу",null,5000000,{"$f":"H209+I209","v":5000000},5000000,0]
[null,null,null,null,null,null,"Функција 620:",{"$f":"SUBTOTAL(9,H209:H209)","v":0},{"$f":"SUBTOTAL(9,I209:I209)","v":5000000},{"$f":"SUBTOTAL(9,J209:J209)","v":5000000},5000000,0]
[null,null,null,null,null,null,"Програмска активност 1102-0005:",{"$f":"SUBTOTAL(9,H209:H209)","v":0},{"$f":"SUBTOTAL(9,I209:I209)","v":5000000},{"$f":"SUBTOTAL(9,J209:J209)","v":5000000},5000000,0]
[null,null,null,null,null,null,null,null,null,null,0,0]
[null,null,"1102-0008",null,null,null,"Водоснабдевање",null,null,null,0,0]
[null,null,null,630,null,null,"Водоснабдевање",null,null,null,0,0]
[null,null,null,null,89,423,"Услуге по уговору - снабдевање пијаћом водом",350000,null,{"$f":"H215+I215","v":350000},350000,0,250000]
[null,null,null,null,90,"425","Текуће поправке и одржавање - Санација резервоара за водоснабдевање Доње махале села Жбевац ",1200000,null,{"$f":"H216+I216","v":1200000},null,0]
[null,null,null,null,91,451,"Реализација посебног програма ЈП \"Комуналац\" Бујановац",10250000,null,{"$f":"H217+I217","v":10250000},10250000,0,40000]
[null,null,null,null,92,"511","Регулација водоводне мреже код Мејдија у селу Велики Трновац",200000,null,{"$f":"H218+I218","v":200000},200000,0,12256000]
[null,null,null,null,93,511,"Ископ бунара за водоснабдевање у селу Самољица",3000000,null,{"$f":"H219+I219","v":3000000},3000000,0,1300000]
[null,null,null,null,94,511,"Изградња система за водоснабдевање насеља Велики Трновац",null,11000000,{"$f":"H220+I220","v":11000000},null,0]
[null,null,null,null,95,511,"Изградња бустер станице у селу Жужељица",1500000,null,1500000,null,0]
[null,null,null,null,96,511,"Изградња бустер станице у селу Божињевац",1500000,null,1500000,null,0]
[null,null,null,null,97,511,"Пијезометри - 2 x 300м у селу Жбевац",622000,null,{"$f":"H223+I223","v":622000},null,0,622000]
[null,null,null,null,null,null,"Функција 630:",{"$f":"SUBTOTAL(9,H215:H223)","v":18622000},{"$f":"SUBTOTAL(9,I215:I223)","v":11000000},{"$f":"SUBTOTAL(9,J215:J223)","v":29622000},{"$f":"H224+I224","v":29622000},0,14468000]
[null,null,null,null,null,null,"Програмска активност 1102-0008:",{"$f":"SUBTOTAL(9,H215:H223)","v":18622000},{"$f":"SUBTOTAL(9,I215:I223)","v":11000000},{"$f":"SUBTOTAL(9,J215:J223)","v":29622000},29622000,0,14468000]
[null,null,null,null,null,null,null,null,null,null,0,0]
[null,null,null,640,null,null,"Улична расвета",null,null,null,0,0]
[null,null,"1102-01",null,98,511,"Изградња далековода за трафо станицу у селу Билинце",7000000,null,{"$f":"H228+I228","v":7000000},7000000,0,2000000]
[null,null,null,null,null,null,"Функција 640:",{"$f":"SUBTOTAL(9,H228)","v":7000000},{"$f":"SUBTOTAL(9,I228)","v":0},{"$f":"SUBTOTAL(9,J228)","v":7000000},7000000,0,2000000]
[null,null,null,null,null,null,"Програмска активност 1102-01:",{"$f":"SUBTOTAL(9,H228)","v":7000000},{"$f":"SUBTOTAL(9,I228)","v":0},{"$f":"SUBTOTAL(9,J228)","v":7000000},7000000,0,2000000]
[null,null,null,null,null,null,null,null,null,null,0,0]
[null,null,1501,null,null,null,"ПРОГРАМ 3: ЛОКАЛНИ ЕКОНОМСКИ РАЗВОЈ",null,null,null,0,0]
[null,null,"1501-0002",null,null,null,"Стручна пракса 2019",null,null,null,0,0]
[null,null,null,411,null,null,"Општи економски и комерцијални послови",null,null,null,0,0]
[null,null,null,null,99,463,"Текући трансфери осталим нивоима власти",15000000,null,{"$f":"H235+I235","v":15000000},15000000,0,22500000]
[null,null,null,null,null,null,"Функција 411:",{"$f":"SUBTOTAL(9,H235)","v":15000000},{"$f":"SUBTOTAL(9,I235)","v":0},15000000,15000000,0,22500000]
[null,null,null,null,null,null,"Програмска активност 1501-0002:",{"$f":"SUBTOTAL(9,H235)","v":15000000},{"$f":"SUBTOTAL(9,I235)","v":0},15000000,15000000,0,22500000]
[null,null,null,null,null,null,null,null,null,null,0,0]
[null,null,"1501-0003",null,null,null,"Подстицај за развој предузетништва",null,null,null,0,0]
[null,null,null,null,null,null,"Текуће субвенције предузетницима",null,null,null,0,0]
[null,null,null,411,null,null,"Општи економски и комерцијални послови",null,null,null,0,0]
[null,null,null,null,100,454,"Текуће субвенције осталим јавним нефинансијским предузећима",10000000,null,{"$f":"H242+I242","v":10000000},10000000,0,8240000]
[null,null,null,null,null,null,"Функција 411:",{"$f":"SUBTOTAL(9,H242)","v":10000000},{"$f":"SUBTOTAL(9,I242)","v":0},10000000,10000000,0,8240000]
[0,null,null,null,null,null,"Програмска активност 1501-0003:",{"$f":"SUBTOTAL(9,H242)","v":10000000},{"$f":"SUBTOTAL(9,I242)","v":0},10000000,10000000,0,8240000]
[null,null,null,null,null,null,null,null,null,null,0,0]
[null,null,"0101",null,null,null,"ПРОГРАМ 5: РАЗВОЈ ПОЉОПРИВРЕДЕ",null,null,null,0,0]
[null,null,"0101-0002",null,null,null,"Мере подршке руралном развоју",null,null,null,0,0]
[null,null,null,421,null,null,"Пољопривреда",null,null,null,0,0]
[null,null,null,null,101,451,"Текуће субвенције пољопривреди",20000000,null,{"$f":"H249+I249","v":20000000},20000000,0,20120000]
[null,null,null,null,102,423,"Услуге по уговору",2000000,null,{"$f":"H250+I250","v":2000000},2000000,0,2000000]
[null,null,null,null,103,481,"Дотација - Четврта изложба говеда сименталске расе",400000,null,{"$f":"H251+I251","v":400000},400000,0,5000]
[null,null,null,null,null,null,"Функција 421:",{"$f":"SUBTOTAL(9,H249:H251)","v":22400000},{"$f":"SUBTOTAL(9,I249:I251)","v":0},{"$f":"SUBTOTAL(9,J249:J251)","v":22400000},22400000,0,22125000]
[null,null,null,null,null,null,"Програмска активност 0101-0002:",{"$f":"SUBTOTAL(9,H249:H251)","v":22400000},0,22400000,22400000,0,22125000]
[null,null,null,null,null,null,null,null,null,null,0,0]
[null,null,"0401",null,null,null,"ПРОГРАМ 6: ЗАШТИТА ЖИВОТНЕ СРЕДИНЕ",null,null,null,0,0]
[null,null,"0401-0001",null,null,null,"Управљање заштитом животне средине",null,null,null,0,0]
[null,null,null,550,null,null,"Заштита животне средине - истраживање и развој",null,null,null,0,0]
[null,null,null,null,104,425,"Текуће поправке и одржавање - Регулација Јошаничког потока у селу Раковац",2000000,null,{"$f":"H258+I258","v":2000000},2000000,0,5000]
[null,null,null,null,105,511,"Зграде и грађевински објекти - Уређење потока код Шефкета у селу Турија",400000,null,400000,null,0]
[null,null,null,null,106,511,"Зграде и грађевински објекти - Уређење потока код Имрана - Струкарска махала у селу Велики Трновац",500000,null,500000,500000,0,23946014]
[null,null,null,null,107,511,"Зграде и грађевински објекти - Наставак уређења корита реке код Хетема у селу Велики Трновац",850000,null,850000,null,0]
[null,null,null,null,108,511,"Зграде и грађевински објекти - Уређење корита реке у селу Велики Трновац код Нагипа, Л=370м, С=1м, косина = 0,8м, ширина обале корита 2м",{"$f":"6000000-2000000","v":4000000},null,4000000,4000000,0,1550000]
[null,null,null,null,109,511,"Зграде и грађевински објекти - Уређење канала код Енвера - махала Стеке у селу Велики Трновац",400000,null,400000,null,0]
[null,null,null,null,110,511,"Зграде и грађевински објекти - Уређење канала код Дуљи у селу Велики Трновац",300000,null,300000,null,{"$f":"(H264+I264)-J264","v":0}]
[null,null,null,null,null,null,"Функција 550:",{"$f":"SUBTOTAL(9,H258:H264)","v":8450000},{"$f":"SUBTOTAL(9,I260:I264)","v":0},{"$f":"SUBTOTAL(9,J258:J264)","v":8450000},8450000,0,25506014]
[null,null,null,null,null,null,"Програмска активност 0401-0001:",{"$f":"SUBTOTAL(9,H258:H264)","v":8450000},{"$f":"SUBTOTAL(9,I260:I264)","v":0},{"$f":"SUBTOTAL(9,J258:J264)","v":8450000},8450000,0,25506014]
[null,null,null,null,null,null,null,null,null,null,0,0]
[null,null,"0401-0004",null,null,null,"Управљање отпадним водама",null,null,null,0,0]
[null,null,null,560,null,null,"Заштита животне средине некласификована на другом месту",null,null,null,0,0]
[null,null,null,null,111,511,"Изградња канализационе мреже код Дани у Бујановцу",350000,null,{"$f":"H270+I270","v":350000},350000,0,250000]
[null,null,null,null,112,511,"Изградња канализационе мреже код Ферида у Бујановцу",300000,null,{"$f":"H271+I271","v":300000},300000,0,250000]
[null,null,null,null,113,511,"Изградња канализационе мреже код Екрема у селу Биљача",500000,null,{"$f":"H272+I272","v":500000},null,0]
[null,null,null,null,114,511,"Изградња канализационе мреже код Рафета у селу Биљача",500000,null,500000,null,0]
[null,null,null,null,115,511,"Изградња канализационе мреже код Сабита у селу Биљача",500000,null,500000,null,0]
[null,null,null,null,116,511,"Изградња канализационе мреже у улици Цара Лазара у Бујановцу",500000,null,500000,null,0]
[null,null,null,null,117,511,"Изградња канализационе мреже у селу Осларе",2000000,null,2000000,null,0]
[null,null,null,null,118,511,"Изградња канализационе мреже код Хоџе Алије у Бујановцу",400000,null,400000,null,0]
[null,null,null,null,119,511,"Изградња канализационе мреже - махала Сопај у селу Несалце",1350000,null,1350000,null,0]
[null,null,null,null,120,511,"Наставак изградње канализационе мреже у селу Несалце",5000000,null,5000000,5000000,0,4300000]
[null,null,null,null,null,null,"Функција 560:",{"$f":"SUBTOTAL(9,H270:H279)","v":11400000},{"$f":"SUBTOTAL(9,I271)","v":0},{"$f":"SUBTOTAL(9,J270:J279)","v":11400000},{"$f":"H280+I280","v":11400000},0,8710000]
[null,null,null,null,null,null,"Програмска активност 0401-0004:",{"$f":"SUBTOTAL(9,H270:H279)","v":11400000},{"$f":"SUBTOTAL(9,I271)","v":0},{"$f":"SUBTOTAL(9,J270:J279)","v":11400000},11400000,0,8710000]
[null,null,null,null,null,null,null,null,null,null,0,0]
[null,null,"0401-0005",null,null,null,"Управљање комуналним отпадом",null,null,null,0,0]
[null,null,null,560,null,null,"Заштита животне средине некласификована на другом месту",null,null,null,0,0]
[null,null,null,null,121,511,"Изградња спољних прикључака за трансфер станицу",null,10000000,{"$f":"H285+I285","v":10000000},10000000,0,1610]
[null,null,null,null,null,null,"Функција 560:",{"$f":"SUBTOTAL(9,H285:H285)","v":0},{"$f":"SUBTOTAL(9,I285:I285)","v":10000000},{"$f":"SUBTOTAL(9,J285:J285)","v":10000000},10000000,0,37901610]
[null,null,null,null,null,null,"Програмска активност 0401-0005:",{"$f":"SUBTOTAL(9,H285:H285)","v":0},{"$f":"SUBTOTAL(9,I285:I285)","v":10000000},{"$f":"SUBTOTAL(9,J285:J285)","v":10000000},10000000,0,37901610]
[null,null,null,null,null,null,null,null,null,null,0,0]
[null,null,"0401-0006",null,null,null,"Одрживо управљање осталим врстама отпада",null,null,null,0,0]
[null,null,null,560,null,null,"Заштита животне средине некласификована на другом месту",null,null,null,0,0]
[null,null,null,null,122,423,"Чишћење дивљих депонија на територији општине Бујановац",1500000,null,{"$f":"H291+I291","v":1500000},1500000,0,2000000]
[null,null,null,null,null,null,"Функција 560:",{"$f":"SUBTOTAL(9,H291)","v":1500000},{"$f":"SUBTOTAL(9,I291:I291)","v":0},{"$f":"SUBTOTAL(9,J291:J291)","v":1500000},1500000,0,2000000]
[null,null,null,null,null,null,"Програмска активност 0401-0006:",{"$f":"SUBTOTAL(9,H291)","v":1500000},{"$f":"SUBTOTAL(9,I291)","v":0},1500000,1500000,0,2000000]
[null,null,null,null,null,null,null,null,null,null,0,0]
[null,null,"0701",null,null,null,"ПРОГРАМ 7: ПУТНА ИНФРАСТРУКТУРА",null,null,null,0,0]
[null,null,null,451,null,null,"Друмски саобраћај",null,null,null,0,0]
[null,null,"0701-01",null,null,null,"Асфалтирање улице код Данија у Бујановцу",null,null,null,null,0]
[null,null,null,null,123,"511","Зграде и грађевински објекти",1150000,null,{"$f":"H298+I298","v":1150000},1150000,0,33463676]
[null,null,null,null,null,null,"Функција 451:",{"$f":"SUBTOTAL(9,H298)","v":1150000},{"$f":"SUBTOTAL(9,I298)","v":0},1150000,1150000,0,33463676]
[null,null,null,null,null,null,"Пројекат 0701-01",{"$f":"SUBTOTAL(9,H298)","v":1150000},{"$f":"SUBTOTAL(9,I298)","v":0},1150000,1150000,0,33463676]
[null,null,null,null,null,null,null,null,null,null,0,0]
[null,null,null,451,null,null,"Друмски саобраћај",null,null,null,0,0]
[null,null,"0701-02",null,null,null,"Асфалтирање улице код Ферида у Бујановцу",null,null,null,null,0]
[null,null,null,null,124,511,"Зграде и грађевински објекти",500000,null,{"$f":"H304+I304","v":500000},500000,0,3852600]
[null,null,null,null,null,null,"Функција 451:",{"$f":"SUBTOTAL(9,H304)","v":500000},{"$f":"SUBTOTAL(9,I304)","v":0},500000,500000,0,3852600]
[null,null,null,null,null,null,"Пројекат 0701-02",{"$f":"SUBTOTAL(9,H304)","v":500000},{"$f":"SUBTOTAL(9,I304)","v":0},500000,500000,0,3852600]
[null,null,null,null,null,null,null,null,null,null,0,0]
[null,null,null,451,null,null,"Друмски саобраћај",null,null,null,0,0]
[null,null,"0701-03",null,null,null,"Асфалтирање улице код џамије у Бујановцу",null,null,null,null,0]
[null,null,null,null,125,511,"Зграде и грађевински објекти",950000,null,{"$f":"H310+I310","v":950000},950000,0,26000000]
[null,null,null,null,null,null,"Функција 451:",{"$f":"SUBTOTAL(9,H310)","v":950000},{"$f":"SUBTOTAL(9,I310)","v":0},950000,950000,0,26000000]
[null,null,null,null,null,null,"Пројекат 0701-03",{"$f":"SUBTOTAL(9,H310)","v":950000},{"$f":"SUBTOTAL(9,I310)","v":0},950000,950000,0,26000000]
[null,null,null,null,null,null,null,null,null,null,0,0]
[null,null,"0701-04",451,null,null,"Друмски саобраћај",null,null,null,0,0]
[null,null,null,null,null,null,"Афалтирање локалних путева на територији општине Бујановац",null,null,null,0,0]
[null,null,null,null,126,511,"Реконструкција пута од Новог Насеља и Раковца до државног пута",{"$f":"1470000+1500000","v":2970000},20000000,{"$f":"H316+I316","v":22970000},22970000,0,1000000]
[null,null,null,null,127,511,"Реконструкција пута: од државног пута - Српска Кућа - Карадник - Вртогошки пут",null,14000000,14000000,14000000,0,1000000]
[null,null,null,null,128,511,"Асфалтирање пута Муховац - Зарбинце",null,40000000,40000000,40000000,0,3000000]
[null,null,null,null,null,null,"Функција 451:",{"$f":"SUBTOTAL(9,H316:H318)","v":2970000},{"$f":"SUBTOTAL(9,I316:I318)","v":74000000},{"$f":"SUBTOTAL(9,J316:J318)","v":76970000},76970000,0,26547000]
[null,null,null,null,null,null,"Пројекат 0701-04",{"$f":"SUBTOTAL(9,H316:H319)","v":2970000},{"$f":"SUBTOTAL(9,I316:I319)","v":74000000},{"$f":"SUBTOTAL(9,J316:J319)","v":76970000},76970000,0,26547000]
[null,null,null,null,null,null,null,null,null,null,0,0]
[null,null,null,451,null,null,"Друмски саобраћај",null,null,null,0,0]
[null,null,"0701-05",null,null,null,"Асфалтирање пута у селу Жужељица до цркве, Л=210м, Б=2,5м",null,null,null,null,0]
[null,null,null,null,129,511,"Зграде и грађевински објекти",1020000,null,{"$f":"H324+I324","v":1020000},1020000,0,8000000]
[null,null,null,null,null,null,"Функција 451:",{"$f":"SUBTOTAL(9,H324)","v":1020000},{"$f":"SUBTOTAL(9,I324)","v":0},1020000,1020000,0,8000000]
[null,null,null,null,null,null,"Пројекат 0701-05",{"$f":"SUBTOTAL(9,H324)","v":1020000},{"$f":"SUBTOTAL(9,I324)","v":0},1020000,1020000,0,8000000]
[null,null,null,null,null,null,null,null,null,null,0,0]
[null,null,null,451,null,null,"Друмски саобраћај",null,null,null,0,{"$f":"(H328+I328)-J328","v":0}]
[null,null,"0701-06",null,null,null,"Асфалтирање улице у селу Жбевац - Махала Нојчини - Рабушчијини, Л=430м, Б=3м",null,null,null,null,0]
[null,null,null,null,130,511,"Зграде и грађевински објекти",2980000,null,{"$f":"H330+I330","v":2980000},2980000,0,1000000]
[null,null,null,null,null,null,"Функција 451:",{"$f":"SUBTOTAL(9,H330)","v":2980000},{"$f":"SUBTOTAL(9,I330)","v":0},2980000,2980000,0,1000000]
[null,null,null,null,null,null,"Пројекат 0701-06",{"$f":"SUBTOTAL(9,H330)","v":2980000},{"$f":"SUBTOTAL(9,I330)","v":0},2980000,2980000,0,1000000]
[null,null,null,null,null,null,null,null,null,null,0,0]
[null,null,null,451,null,null,"Друмски саобраћај",null,null,null,0,0]
[null,null,"0701-07",null,null,null,"Крпљење ударних рупа на територији општине Бујановац",null,null,null,null,0]
[null,null,null,null,131,425,"Текуће поправке и одржавање",3000000,null,{"$f":"H336+I336","v":3000000},3000000,0,3000000]
[null,null,null,null,null,null,"Функција 451:",{"$f":"SUBTOTAL(9,H336)","v":3000000},{"$f":"SUBTOTAL(9,I336)","v":0},3000000,3000000,0,3000000]
[null,null,null,null,null,null,"Пројекат 0701-07",{"$f":"SUBTOTAL(9,H336)","v":3000000},{"$f":"SUBTOTAL(9,I336)","v":0},3000000,3000000,0,3000000]
[null,null,null,null,null,null,null,null,null,null,0,0]
[null,null,null,451,null,null,"Друмски саобраћај",null,null,null,0,0]
[null,null,"0701-08",null,132,425,"Зимско одржавање путева",2000000,null,{"$f":"H341+I341","v":2000000},2000000,0,3000000]
[null,null,null,null,null,null,"Функција 451:",{"$f":"SUBTOTAL(9,H341)","v":2000000},{"$f":"SUBTOTAL(9,I341)","v":0},2000000,2000000,0,3000000]
[null,null,null,null,null,null,"Пројекат 0701-08",{"$f":"SUBTOTAL(9,H341)","v":2000000},{"$f":"SUBTOTAL(9,I341)","v":0},2000000,{"$f":"H343+I343","v":2000000},0,3000000]
[null,null,null,null,null,null,null,null,null,null,0,0]
[null,null,null,451,null,null,"Друмски саобраћај",null,null,null,0,0]
[null,null,"0701-09",null,133,511,"Стручни надзор",2000000,null,{"$f":"H346+I346","v":2000000},2000000,0,2000000]
[null,null,null,null,null,null,"Функција 451:",{"$f":"SUBTOTAL(9,H346)","v":2000000},{"$f":"SUBTOTAL(9,I346)","v":0},2000000,2000000,0,2000000]
[null,null,null,null,null,null,"Пројекат 0701-09",{"$f":"SUBTOTAL(9,H346)","v":2000000},{"$f":"SUBTOTAL(9,I346)","v":0},2000000,2000000,0,2000000]
[null,null,null,null,null,null,null,null,null,null,{"$f":"H349+I349","v":0},0]
[null,null,null,451,null,null,"Друмски саобраћај",null,null,null,0,0]
[null,null,"0701-10",null,134,424,"Вертикална и хоризонтална сигнализација ",1200000,null,{"$f":"H351+I351","v":1200000},1200000,0]
[null,null,null,null,null,null,"Функција 451:",{"$f":"SUBTOTAL(9,H351)","v":1200000},{"$f":"SUBTOTAL(9,I351)","v":0},1200000,1200000,0]
[null,null,null,null,null,null,"Пројекат 0701-10",{"$f":"SUBTOTAL(9,H351)","v":1200000},{"$f":"SUBTOTAL(9,I351)","v":0},1200000,1200000,0]
[null,null,null,null,null,null,null,null,null,null,0,0]
[null,null,null,451,null,null,"Друмски саобраћај",null,null,null,0,0]
[null,null,"0701-11",null,135,425,"Текуће поправке и одржавање - Одржавање пружних прелаза",1200000,null,{"$f":"H356+I356","v":1200000},1200000,0,3050000]
[null,null,null,null,null,null,"Функција 451:",{"$f":"SUBTOTAL(9,H356)","v":1200000},{"$f":"SUBTOTAL(9,I356)","v":0},1200000,1200000,0,3050000]
[null,null,null,null,null,null,"Пројекат 0701-11",{"$f":"SUBTOTAL(9,H356)","v":1200000},{"$f":"SUBTOTAL(9,I356)","v":0},1200000,1200000,0,3050000]
[null,null,null,null,null,null,null,null,null,null,0,0]
[null,null,null,451,null,null,"Друмски саобраћај",null,null,null,0,0]
[null,null,"0701-12",null,null,null,"Асфалтирање улице у Бујановачкој Бањи, Л=230м, Б=6м + тротоар",null,null,null,0,0]
[null,null,null,null,136,511,"Зграде и грађевински објекти",5990000,null,{"$f":"H362+I362","v":5990000},5990000,0,1725000]
[null,null,null,null,null,null,"Функција 451:",{"$f":"SUBTOTAL(9,H362)","v":5990000},{"$f":"SUBTOTAL(9,I362)","v":0},5990000,5990000,0,1725000]
[null,null,null,null,null,null,"Пројекат 0701-12",{"$f":"SUBTOTAL(9,H362)","v":5990000},{"$f":"SUBTOTAL(9,I362)","v":0},5990000,5990000,0,1725000]
[null,null,null,null,null,null,null,null,null,null,0,0]
[null,null,null,451,null,null,"Друмски саобраћај",null,null,null,0,0]
[null,null,"0701-13",null,null,null,"Асфалтирање улице Шабан Бајрамовић у Бујановцу",null,null,null,0,0]
[null,null,null,null,137,511,"Зграде и грађевински објекти",1500000,null,{"$f":"H368+I368","v":1500000},1500000,0,500000]
[null,null,null,null,null,null,"Функција 451:",{"$f":"SUBTOTAL(9,H368)","v":1500000},{"$f":"SUBTOTAL(9,I368)","v":0},1500000,1500000,0,500000]
[null,null,null,null,null,null,"Пројекат 0701-13",{"$f":"SUBTOTAL(9,H368)","v":1500000},{"$f":"SUBTOTAL(9,I368)","v":0},1500000,1500000,0,500000]
[null,null,null,null,null,null,null,null,null,null,0,0]
[null,null,null,451,null,null,"Друмски саобраћај",null,null,null,0,0]
[null,null,"0701-14",null,null,null,"Асфалтирање улице код Афамо у Бујановцу",null,null,null,0,0]
[null,null,null,null,138,511,"Зграде и грађевински објекти",600000,null,{"$f":"H374+I374","v":600000},600000,0,600000]
[null,null,null,null,null,null,"Функција 451:",{"$f":"SUBTOTAL(9,H374)","v":600000},{"$f":"SUBTOTAL(9,I374)","v":0},600000,600000,0,600000]
[null,null,null,null,null,null,"Пројекат 0701-14",{"$f":"SUBTOTAL(9,H374)","v":600000},{"$f":"SUBTOTAL(9,I374)","v":0},600000,600000,0,600000]
[null,null,null,null,null,null,null,null,null,null,0,0]
[null,null,null,451,null,null,"Друмски саобраћај",null,null,null,0,0]
[null,null,"0701-15",null,null,null,"Асфалтирање улице код Асдрени у Бујановцу",null,null,null,0,0]
[null,null,null,null,139,511,"Зграде и грађевински објекти",500000,null,{"$f":"H380+I380","v":500000},500000,0,600000]
[null,null,null,null,null,null,"Функција 451:",{"$f":"SUBTOTAL(9,H380)","v":500000},{"$f":"SUBTOTAL(9,I380)","v":0},500000,500000,0,600000]
[null,null,null,null,null,null,"Пројекат 0701-15",{"$f":"SUBTOTAL(9,H380)","v":500000},{"$f":"SUBTOTAL(9,I380)","v":0},500000,500000,0,600000]
[null,null,null,null,null,null,null,null,null,null,0,0]
[null,null,null,451,null,null,"Друмски саобраћај",null,null,null,0,0]
[null,null,"0701-16",null,null,null,"Асфалтирање улице код Решата у Бујановцу",null,null,null,0,0]
[null,null,null,null,140,511,"Зграде и грађевински објекти",500000,null,{"$f":"H386+I386","v":500000},500000,0,500000]
[null,null,null,null,null,null,"Функција 451:",{"$f":"SUBTOTAL(9,H386)","v":500000},{"$f":"SUBTOTAL(9,I386)","v":0},500000,500000,0,500000]
[null,null,null,null,null,null,"Пројекат 0701-16",{"$f":"SUBTOTAL(9,H386)","v":500000},{"$f":"SUBTOTAL(9,I386)","v":0},500000,500000,0,500000]
[null,null,null,null,null,null,null,null,null,null,0,0]
[null,null,null,451,null,null,"Друмски саобраћај",null,null,null,0,0]
[null,null,"0701-17",null,null,null,"Асфалтирање улице у Индустријској зони у Бујановцу",null,null,null,0,0]
[null,null,null,null,141,511,"Зграде и грађевински објекти",500000,null,{"$f":"H392+I392","v":500000},500000,{"$f":"(H392+I392)-J392","v":0},350000]
[null,null,null,null,null,null,"Функција 451:",{"$f":"SUBTOTAL(9,H392)","v":500000},{"$f":"SUBTOTAL(9,I392)","v":0},500000,500000,0,350000]
[null,null,null,null,null,null,"Пројекат 0701-17",{"$f":"SUBTOTAL(9,H392)","v":500000},{"$f":"SUBTOTAL(9,I392)","v":0},500000,500000,0,350000]
[null,null,null,null,null,null,null,null,null,null,0,0]
[null,null,null,451,null,null,"Друмски саобраћај",null,null,null,0,0]
[null,null,"0701-18",null,null,null,"Асфалтирање улице АЛ ЕУРОПА у Бујановцу",null,null,null,0,0]
[null,null,null,null,142,511,"Зграде и грађевински објекти",900000,null,{"$f":"H398+I398","v":900000},900000,0,650000]
[null,null,null,null,null,null,"Функција 451:",{"$f":"SUBTOTAL(9,H398)","v":900000},{"$f":"SUBTOTAL(9,I398)","v":0},900000,900000,0,650000]
[null,null,null,null,null,null,"Пројекат 0701-18",{"$f":"SUBTOTAL(9,H398)","v":900000},{"$f":"SUBTOTAL(9,I398)","v":0},900000,900000,0,650000]
[null,null,null,null,null,null,null,null,null,null,0,0]
[null,null,null,451,null,null,"Друмски саобраћај",null,null,null,0,0]
[null,null,"0701-19",null,null,null,"Асфалтирање Врбанске улице у Бујановцу",null,null,null,0,0]
[null,null,null,null,143,511,"Зграде и грађевински објекти",400000,null,{"$f":"H404+I404","v":400000},400000,0,650000]
[null,null,null,null,null,null,"Функција 451:",{"$f":"SUBTOTAL(9,H404)","v":400000},{"$f":"SUBTOTAL(9,I404)","v":0},400000,400000,0,650000]
[null,null,null,null,null,null,"Пројекат 0701-19",{"$f":"SUBTOTAL(9,H404)","v":400000},{"$f":"SUBTOTAL(9,I404)","v":0},400000,400000,0,650000]
[null,null,null,null,null,null,null,null,null,null,0,0]
[null,null,null,451,null,null,"Друмски саобраћај",null,null,null,0,0]
[null,null,"0701-20",null,null,null,"Асфалтирање улице код Исмаила у селу Добросин",null,null,null,0,0]
[null,null,null,null,144,511,"Зграде и грађевински објекти",300000,null,{"$f":"H410+I410","v":300000},300000,0,300000]
[null,null,null,null,null,null,"Функција 451:",{"$f":"SUBTOTAL(9,H410)","v":300000},{"$f":"SUBTOTAL(9,I410)","v":0},300000,300000,0,300000]
[null,null,null,null,null,null,"Пројекат 0701-20",{"$f":"SUBTOTAL(9,H410)","v":300000},{"$f":"SUBTOTAL(9,I410)","v":0},300000,{"$f":"H412+I412","v":300000},0,300000]
[null,null,null,null,null,null,null,null,null,null,0,0]
[null,null,null,451,null,null,"Друмски саобраћај",null,null,null,0,0]
[null,null,"0701-21",null,null,null,"Асфалтирање улице код Боже у Бујановцу",null,null,null,0,0]
[null,null,null,null,145,511,"Зграде и грађевински објекти",500000,null,{"$f":"H416+I416","v":500000},500000,0,500000]
[null,null,null,null,null,null,"Функција 451:",{"$f":"SUBTOTAL(9,H416)","v":500000},{"$f":"SUBTOTAL(9,I416)","v":0},500000,500000,0,500000]
[null,null,null,null,null,null,"Пројекат 0701-21",{"$f":"SUBTOTAL(9,H416)","v":500000},{"$f":"SUBTOTAL(9,I416)","v":0},500000,500000,0,500000]
[null,null,null,null,null,null,null,null,null,null,0,0]
[null,null,null,451,null,null,"Друмски саобраћај",null,null,null,0,0]
[null,null,"0701-22",null,null,null,"Асфалтирање улице у селу Велики Трновац код Буши Гаш",null,null,null,0,0]
[null,null,null,null,146,511,"Зграде и грађевински објекти",400000,null,{"$f":"H422+I422","v":400000},400000,0,650000]
[null,null,null,null,null,null,"Функција 451:",{"$f":"SUBTOTAL(9,H422)","v":400000},{"$f":"SUBTOTAL(9,I422)","v":0},400000,400000,0,650000]
[null,null,null,null,null,null,"Пројекат 0701-22",{"$f":"SUBTOTAL(9,H422)","v":400000},{"$f":"SUBTOTAL(9,I422)","v":0},400000,400000,0,650000]
[null,null,null,null,null,null,null,null,null,null,0,0]
[null,null,null,451,null,null,"Друмски саобраћај",null,null,null,0,0]
[null,null,"0701-23",null,null,null,"Асфалтирање улице у селу Велики Трновац - код Шефика према Турији",null,null,null,0,0]
[null,null,null,null,147,511,"Зграде и грађевински објекти",500000,null,{"$f":"H428+I428","v":500000},500000,0,500000]
[null,null,null,null,null,null,"Функција 451:",{"$f":"SUBTOTAL(9,H428)","v":500000},{"$f":"SUBTOTAL(9,I428)","v":0},500000,500000,0,500000]
[null,null,null,null,null,null,"Пројекат 0701-23",{"$f":"SUBTOTAL(9,H428)","v":500000},{"$f":"SUBTOTAL(9,I428)","v":0},500000,500000,0,500000]
[null,null,null,null,null,null,null,null,null,null,0,0]
[null,null,null,451,null,null,"Друмски саобраћај",null,null,null,0,0]
[null,null,"0701-24",null,null,null,"Асфалтирање улице у селу Велики Трновац - код Даоци",null,null,null,0,0]
[null,null,null,null,148,511,"Зграде и грађевински објекти",500000,null,{"$f":"H434+I434","v":500000},500000,0,500000]
[null,null,null,null,null,null,"Функција 451:",{"$f":"SUBTOTAL(9,H434)","v":500000},{"$f":"SUBTOTAL(9,I434)","v":0},500000,500000,0,500000]
[null,null,null,null,null,null,"Пројекат 0701-24",{"$f":"SUBTOTAL(9,H434)","v":500000},{"$f":"SUBTOTAL(9,I434)","v":0},500000,500000,0,500000]
[null,null,null,null,null,null,null,null,null,null,0,0]
[null,null,null,451,null,null,"Друмски саобраћај",null,null,null,0,0]
[null,null,"0701-25",null,null,null,"Асфалтирање улице у селу Велики Трновац код Л. Гогу",null,null,null,0,0]
[null,null,null,null,149,511,"Зграде и грађевински објекти",400000,null,{"$f":"H440+I440","v":400000},400000,0,650000]
[null,null,null,null,null,null,"Функција 451:",{"$f":"SUBTOTAL(9,H440)","v":400000},{"$f":"SUBTOTAL(9,I440)","v":0},400000,400000,0,650000]
[null,null,null,null,null,null,"Пројекат 0701-25",{"$f":"SUBTOTAL(9,H440)","v":400000},{"$f":"SUBTOTAL(9,I440)","v":0},400000,400000,0,650000]
[null,null,null,null,null,null,null,null,null,null,0,0]
[null,null,null,451,null,null,"Друмски саобраћај",null,null,null,0,0]
[null,null,"0701-26",null,null,null,"Асфалтирање десног прилаза улици Пчињска у Бујановцу, Л=50м, Б=3,5м",null,null,null,0,0]
[null,null,null,null,150,511,"Зграде и грађевински објекти",600000,null,{"$f":"H446+I446","v":600000},600000,0,2480000]
[null,null,null,null,null,null,"Функција 451:",{"$f":"SUBTOTAL(9,H446)","v":600000},{"$f":"SUBTOTAL(9,I446)","v":0},600000,600000,0,2480000]
[null,null,null,null,null,null,"Пројекат 0701-26",{"$f":"SUBTOTAL(9,H446)","v":600000},{"$f":"SUBTOTAL(9,I446)","v":0},600000,600000,0,2480000]
[null,null,null,null,null,null,null,null,null,null,0,0]
[null,null,null,451,null,null,"Друмски саобраћај",null,null,null,0,0]
[null,null,"0701-27",null,null,null,"Наставак асфалтирања паркинга у дворишту цркве у селу Раковац, П=300м2",null,null,null,0,0]
[null,null,null,null,151,511,"Зграде и грађевински објекти",750000,null,{"$f":"H452+I452","v":750000},750000,0,1095000]
[null,null,null,null,null,null,"Функција 451:",{"$f":"SUBTOTAL(9,H452)","v":750000},{"$f":"SUBTOTAL(9,I452)","v":0},750000,750000,0,1095000]
[null,null,null,null,null,null,"Пројекат 0701-27",{"$f":"SUBTOTAL(9,H452)","v":750000},{"$f":"SUBTOTAL(9,I452)","v":0},750000,750000,0,1095000]
[null,null,null,null,null,null,null,null,null,null,0,0]
[null,null,null,451,null,null,"Друмски саобраћај",null,null,null,0,{"$f":"(H456+I456)-J456","v":0}]
[null,null,"0701-28",null,null,null,"Реконструкција улице Пчињска у Бујановцу, Л=130м, Б=6м",null,null,null,0,0]
[null,null,null,null,152,511,"Зграде и грађевински објекти",1850000,null,{"$f":"H458+I458","v":1850000},1850000,0,2592000]
[null,null,null,null,null,null,"Функција 451:",{"$f":"SUBTOTAL(9,H458)","v":1850000},{"$f":"SUBTOTAL(9,I458)","v":0},1850000,1850000,0,2592000]
[null,null,null,null,null,null,"Пројекат 0701-28",{"$f":"SUBTOTAL(9,H458)","v":1850000},{"$f":"SUBTOTAL(9,I458)","v":0},1850000,1850000,0,2592000]
[null,null,null,null,null,null,null,null,null,null,0,0]
[null,null,null,451,null,null,"Друмски саобраћај",null,null,null,0,0]
[null,null,"0701-29",null,null,null,"Асфалтирање улице у селу Велики Трновац код гробља у Струкарској махали",null,null,null,0,0]
[null,null,null,null,153,511,"Зграде и грађевински објекти",600000,null,{"$f":"H464+I464","v":600000},600000,0,700000]
[null,null,null,null,null,null,"Функција 451:",{"$f":"SUBTOTAL(9,H464)","v":600000},{"$f":"SUBTOTAL(9,I464)","v":0},600000,600000,0,700000]
[null,null,null,null,null,null,"Пројекат 0701-29",{"$f":"SUBTOTAL(9,H464)","v":600000},{"$f":"SUBTOTAL(9,I464)","v":0},600000,600000,0,700000]
[null,null,null,null,null,null,null,null,null,null,0,0]
[null,null,null,451,null,null,"Друмски саобраћај",null,null,null,0,0]
[null,null,"0701-30",null,null,null,"Реконструкција дела улице Јосифа Јањића од раскрснице до подвожњака, Л=175м, Б=3,5м и од подвожњака до цркве, Л=100м, Б=3,3м",null,null,null,0,0]
[null,null,null,null,154,511,"Зграде и грађевински објекти",2250000,null,{"$f":"H470+I470","v":2250000},2250000,0,5000]
[null,null,null,null,null,null,"Функција 451:",{"$f":"SUBTOTAL(9,H470)","v":2250000},{"$f":"SUBTOTAL(9,I470)","v":0},2250000,2250000,0,5000]
[null,null,null,null,null,null,"Пројекат 0701-30",{"$f":"SUBTOTAL(9,H470)","v":2250000},{"$f":"SUBTOTAL(9,I470)","v":0},2250000,2250000,0,5000]
[null,null,null,null,null,null,null,null,null,null,0,0]
[null,null,null,451,null,null,"Друмски саобраћај",null,null,null,0,0]
[null,null,"0701-31",null,null,null,"Насипање пута у селу Боровац за Доњу махалу, Л=1,8км, Б=3,5м",null,null,null,0,0]
[null,null,null,null,155,425,"Текуће поправке и одржавање",3780000,null,{"$f":"H476+I476","v":3780000},{"$f":"H476+I476","v":3780000},0,350000]
[null,null,null,null,null,null,"Функција 451:",{"$f":"SUBTOTAL(9,H476)","v":3780000},{"$f":"SUBTOTAL(9,I476)","v":0},3780000,3780000,0,350000]
[null,null,null,null,null,null,"Пројекат 0701-31",{"$f":"SUBTOTAL(9,H476)","v":3780000},{"$f":"SUBTOTAL(9,I476)","v":0},3780000,3780000,0,350000]
[null,null,null,null,null,null,null,null,null,null,0,0]
[null,null,null,451,null,null,"Друмски саобраћај",null,null,null,0,0]
[null,null,"0701-32",null,null,null,"Рад механизације (булдожер, грејдер, ваљак и др.) на поправци сеоских путева у српској заједници",null,null,null,0,0]
[null,null,null,null,156,423,"Услуге по уговору",4000000,null,{"$f":"H482+I482","v":4000000},4000000,0,1600000]
[null,null,null,null,null,null,"Функција 451:",{"$f":"SUBTOTAL(9,H482)","v":4000000},{"$f":"SUBTOTAL(9,I482)","v":0},4000000,4000000,0,1600000]
[null,null,null,null,null,null,"Пројекат 0701-32",{"$f":"SUBTOTAL(9,H482)","v":4000000},{"$f":"SUBTOTAL(9,I482)","v":0},4000000,4000000,0,1600000]
[null,null,null,null,null,null,null,null,null,null,0,0]
[null,null,null,451,null,null,"Друмски саобраћај",null,null,null,0,0]
[null,null,"0701-33",null,null,null,"Насипање пута од села Света Петка до села Дрежница - први део Л=600м, Б=3,5м и други део Л=400м, Б=3,5м",null,null,null,0,0]
[null,null,null,null,157,425,"Текуће поправке и одржавање",2590000,null,{"$f":"H488+I488","v":2590000},2590000,0,2245000]
[null,null,null,null,null,null,"Функција 451:",{"$f":"SUBTOTAL(9,H488)","v":2590000},{"$f":"SUBTOTAL(9,I488)","v":0},2590000,2590000,0,2245000]
[null,null,null,null,null,null,"Пројекат 0701-33",{"$f":"SUBTOTAL(9,H488)","v":2590000},{"$f":"SUBTOTAL(9,I488)","v":0},2590000,2590000,0,2245000]
[null,null,null,null,null,null,null,null,null,null,0,0]
[null,null,null,451,null,null,"Друмски саобраћај",null,null,null,0,0]
[null,null,"0701-34",null,null,null,"Насипање пута у селу Узово до куће Слађана Стојановића, Л=800м, Б=3,5м",null,null,null,0,0]
[null,null,null,null,158,425,"Текуће поправке и одржавање",1970000,null,{"$f":"H494+I494","v":1970000},1970000,0,467000]
[null,null,null,null,null,null,"Функција 451:",{"$f":"SUBTOTAL(9,H494)","v":1970000},{"$f":"SUBTOTAL(9,I494)","v":0},1970000,1970000,0,467000]
[null,null,null,null,null,null,"Пројекат 0701-34",{"$f":"SUBTOTAL(9,H494)","v":1970000},{"$f":"SUBTOTAL(9,I494)","v":0},1970000,1970000,0,467000]
[null,null,null,null,null,null,null,null,null,null,0,0]
[null,null,null,451,null,null,"Друмски саобраћај",null,null,null,0,0]
[null,null,"0701-35",null,null,null,"Изградња тротоара од села Света петка до села Кленике (обострано)",null,null,null,0,0]
[null,null,null,null,159,511,"Зграде и грађевински објекти",4050000,null,{"$f":"H500+I500","v":4050000},4050000,0,1150000]
[null,null,null,null,null,null,"Функција 451:",{"$f":"SUBTOTAL(9,H500)","v":4050000},{"$f":"SUBTOTAL(9,I500)","v":0},4050000,4050000,0,1150000]
[null,null,null,null,null,null,"Пројекат 0701-35",{"$f":"SUBTOTAL(9,H500)","v":4050000},{"$f":"SUBTOTAL(9,I500)","v":0},4050000,4050000,0,1150000]
[null,null,null,null,null,null,null,null,null,null,0,0]
[null,null,null,451,null,null,"Друмски саобраћај",null,null,null,0,0]
[null,null,"0701-36",null,null,null,"Насипање пута за Кочовску махалу у селу Сејаце, Л=1100м, Б=3,5м",null,null,null,0,0]
[null,null,null,null,160,425,"Текуће поправке и одржавање",2290000,null,{"$f":"H506+I506","v":2290000},2290000,0,900000]
[null,null,null,null,null,null,"Функција 451:",{"$f":"SUBTOTAL(9,H506)","v":2290000},{"$f":"SUBTOTAL(9,I506)","v":0},2290000,2290000,0,900000]
[null,null,null,null,null,null,"Пројекат 0701-36",{"$f":"SUBTOTAL(9,H506)","v":2290000},{"$f":"SUBTOTAL(9,I506)","v":0},2290000,2290000,0,900000]
[null,null,null,null,null,null,null,null,null,null,0,0]
[null,null,null,451,null,null,"Друмски саобраћај",null,null,null,0,0]
[null,null,"0701-37",null,null,null,"Асфалтирање сокака у улици Карађорђа Петровића, Л=100м, Б=3м",null,null,null,0,0]
[null,null,null,null,161,511,"Зграде и грађевински објекти",1000000,null,{"$f":"H512+I512","v":1000000},1000000,0,768000]
[null,null,null,null,null,null,"Функција 451:",{"$f":"SUBTOTAL(9,H512)","v":1000000},{"$f":"SUBTOTAL(9,I512)","v":0},1000000,1000000,0,768000]
[null,null,null,null,null,null,"Пројекат 0701-37",{"$f":"SUBTOTAL(9,H512)","v":1000000},{"$f":"SUBTOTAL(9,I512)","v":0},1000000,1000000,0,768000]
[null,null,null,null,null,null,null,null,null,null,0,0]
[null,null,null,451,null,null,"Друмски саобраћај",null,null,null,0,0]
[null,null,"0701-38",null,null,null,"Асфалтирање сокака у улици Карађорђа Петровића, Л=50м, Б=2,5м",null,null,null,0,0]
[null,null,null,null,162,425,"Текуће поправке и одржавање",300000,null,{"$f":"H518+I518","v":300000},300000,0,329000]
[null,null,null,null,null,null,"Функција 451:",{"$f":"SUBTOTAL(9,H518)","v":300000},{"$f":"SUBTOTAL(9,I518)","v":0},300000,300000,0,329000]
[null,null,null,null,null,null,"Пројекат 0701-38",{"$f":"SUBTOTAL(9,H518)","v":300000},{"$f":"SUBTOTAL(9,I518)","v":0},300000,300000,{"$f":"(H520+I520)-J520","v":0},329000]
[null,null,null,null,null,null,null,null,null,null,0,0]
[null,null,null,451,null,null,"Друмски саобраћај",null,null,null,0,0]
[null,null,"0701-39",null,null,null,"Изградња цевастог пропуста на реци у селу Кршевица (ФИ2000/3 реда * 4,5м)",null,null,null,0,0]
[null,null,null,null,163,511,"Зграде и грађевински објекти",3500000,null,{"$f":"H524+I524","v":3500000},3500000,0,1230000]
[null,null,null,null,null,null,"Функција 451:",{"$f":"SUBTOTAL(9,H524)","v":3500000},{"$f":"SUBTOTAL(9,I524)","v":0},3500000,3500000,0,1230000]
[null,null,null,null,null,null,"Пројекат 0701-39",{"$f":"SUBTOTAL(9,H524)","v":3500000},{"$f":"SUBTOTAL(9,I524)","v":0},3500000,3500000,0,1230000]
[null,null,null,null,null,null,null,null,null,null,0,0]
[null,null,null,451,null,null,"Друмски саобраћај",null,null,null,0,0]
[null,null,"0701-40",null,null,null,"Изградња потпорног зида на бараљевској реци у селу Кленике, Л=25м, Х=2,5м",null,null,null,0,0]
[null,null,null,null,164,511,"Зграде и грађевински објекти",1983000,null,{"$f":"H530+I530","v":1983000},1983000,0,1983000]
[null,null,null,null,null,null,"Функција 451:",{"$f":"SUBTOTAL(9,H530)","v":1983000},{"$f":"SUBTOTAL(9,I530)","v":0},1983000,1983000,0,1983000]
[null,null,null,null,null,null,"Пројекат 0701-40",{"$f":"SUBTOTAL(9,H530)","v":1983000},{"$f":"SUBTOTAL(9,I530)","v":0},1983000,1983000,0,1983000]
[null,null,null,null,null,null,null,null,null,null,0,0]
[null,null,null,451,null,null,"Друмски саобраћај",null,null,null,{"$f":"H534+I534","v":0},0]
[null,null,"0701-41",null,null,null,"Реконструкција улице Јована Цвијића у Бујановцу",null,null,null,0,0]
[null,null,null,null,165,511,"Зграде и грађевински објекти",4000000,null,{"$f":"H536+I536","v":4000000},4000000,0,2583000]
[null,null,null,null,null,null,"Функција 451:",{"$f":"SUBTOTAL(9,H536)","v":4000000},{"$f":"SUBTOTAL(9,I536)","v":0},4000000,4000000,0,2583000]
[null,null,null,null,null,null,"Пројекат 0701-41",{"$f":"SUBTOTAL(9,H536)","v":4000000},{"$f":"SUBTOTAL(9,I536)","v":0},4000000,4000000,0,2583000]
[null,null,null,null,null,null,null,null,null,null,0,0]
[null,null,null,451,null,null,"Друмски саобраћај",null,null,null,0,0]
[null,null,"0701-42",null,null,null,"Асфалтирање улице у селу Велики Трновац код Дугана Центар, Л=170м, Б=4,5м",null,null,null,0,0]
[null,null,null,null,166,511,"Зграде и грађевински објекти",1500000,null,{"$f":"H542+I542","v":1500000},1500000,0,600000]
[null,null,null,null,null,null,"Функција 451:",{"$f":"SUBTOTAL(9,H542)","v":1500000},{"$f":"SUBTOTAL(9,I542)","v":0},1500000,1500000,0,600000]
[null,null,null,null,null,null,"Пројекат 0701-42",{"$f":"SUBTOTAL(9,H542)","v":1500000},{"$f":"SUBTOTAL(9,I542)","v":0},1500000,1500000,0,600000]
[null,null,null,null,null,null,null,null,null,null,0,0]
[null,null,null,451,null,null,"Друмски саобраћај",null,null,null,0,0]
[null,null,"0701-43",null,null,null,"Насипање улице шодером у с. Велики Трновац код Сејада",null,null,null,0,0]
[null,null,null,null,167,425,"Текуће поправке и одржавање",300000,null,{"$f":"H548+I548","v":300000},300000,0,580000]
[null,null,null,null,null,null,"Функција 451:",{"$f":"SUBTOTAL(9,H548)","v":300000},{"$f":"SUBTOTAL(9,I548)","v":0},300000,300000,0,580000]
[null,null,null,null,null,null,"Пројекат 0701-43",{"$f":"SUBTOTAL(9,H548)","v":300000},{"$f":"SUBTOTAL(9,I548)","v":0},300000,300000,0,580000]
[null,null,null,null,null,null,null,null,null,null,0,0]
[null,null,null,451,null,null,"Друмски саобраћај",null,null,null,0,0]
[null,null,"0701-44",null,null,null,"Асфалтирање обилазнице у селу Турија према Лучану",null,null,null,0,0]
[null,null,null,null,168,511,"Зграде и грађевински објекти",900000,null,{"$f":"H554+I554","v":900000},900000,0,300000]
[null,null,null,null,null,null,"Функција 451:",{"$f":"SUBTOTAL(9,H554)","v":900000},{"$f":"SUBTOTAL(9,I554)","v":0},900000,900000,0,300000]
[null,null,null,null,null,null,"Пројекат 0701-44",{"$f":"SUBTOTAL(9,H554)","v":900000},{"$f":"SUBTOTAL(9,I554)","v":0},900000,900000,0,300000]
[null,null,null,null,null,null,null,null,null,null,0,0]
[null,null,null,451,null,null,"Друмски саобраћај",null,null,null,0,0]
[null,null,"0701-45",null,null,null,"Асфалтирање улице у селу Лучане код Хисена",null,null,null,0,0]
[null,null,null,null,169,511,"Зграде и грађевински објекти",500000,null,{"$f":"H560+I560","v":500000},500000,0,400000]
[null,null,null,null,null,null,"Функција 451:",{"$f":"SUBTOTAL(9,H560)","v":500000},{"$f":"SUBTOTAL(9,I560)","v":0},500000,500000,0,400000]
[null,null,null,null,null,null,"Пројекат 0701-45",{"$f":"SUBTOTAL(9,H560)","v":500000},{"$f":"SUBTOTAL(9,I560)","v":0},500000,500000,0,400000]
[null,null,null,null,null,null,null,null,null,null,0,0]
[null,null,null,451,null,null,"Друмски саобраћај",null,null,null,0,0]
[null,null,"0701-46",null,null,null,"Асфалтирање улице у селу Лучане код Шахиновита",null,null,null,0,0]
[null,null,null,null,170,511,"Зграде и грађевински објекти",500000,null,{"$f":"H566+I566","v":500000},500000,0,450000]
[null,null,null,null,null,null,"Функција 451:",{"$f":"SUBTOTAL(9,H566)","v":500000},{"$f":"SUBTOTAL(9,I566)","v":0},500000,500000,0,450000]
[null,null,null,null,null,null,"Пројекат 0701-46",{"$f":"SUBTOTAL(9,H566)","v":500000},{"$f":"SUBTOTAL(9,I566)","v":0},500000,500000,0,450000]
[null,null,null,null,null,null,null,null,null,null,0,0]
[null,null,null,451,null,null,"Друмски саобраћај",null,null,null,0,0]
[null,null,"0701-47",null,null,null,"Асфалтирање обилазнице у селу Несалце",null,null,null,0,0]
[null,null,null,null,171,511,"Зграде и грађевински објекти",2000000,null,{"$f":"H572+I572","v":2000000},2000000,0,400000]
[null,null,null,null,null,null,"Функција 451:",{"$f":"SUBTOTAL(9,H572)","v":2000000},{"$f":"SUBTOTAL(9,I572)","v":0},2000000,2000000,0,400000]
[null,null,null,null,null,null,"Пројекат 0701-47",{"$f":"SUBTOTAL(9,H572)","v":2000000},{"$f":"SUBTOTAL(9,I572)","v":0},2000000,{"$f":"H574+I574","v":2000000},0,400000]
[null,null,null,null,null,null,null,null,null,null,0,0]
[null,null,null,451,null,null,"Друмски саобраћај",null,null,null,0,0]
[null,null,"0701-48",null,null,null,"Асфалтирање улице у селу Несалце код Артона",null,null,null,0,0]
[null,null,null,null,172,511,"Зграде и грађевински објекти",1000000,null,{"$f":"H578+I578","v":1000000},1000000,0,520000]
[null,null,null,null,null,null,"Функција 451:",{"$f":"SUBTOTAL(9,H578)","v":1000000},{"$f":"SUBTOTAL(9,I578)","v":0},1000000,1000000,0,520000]
[null,null,null,null,null,null,"Пројекат 0701-48",{"$f":"SUBTOTAL(9,H578)","v":1000000},{"$f":"SUBTOTAL(9,I578)","v":0},1000000,1000000,0,520000]
[null,null,null,null,null,null,null,null,null,null,0,0]
[null,null,null,451,null,null,"Друмски саобраћај",null,null,null,0,0]
[null,null,"0701-49",null,null,null,"Асфалтирање улице у селу Несалце код Рахима",null,null,null,0,0]
[null,null,null,null,173,511,"Зграде и грађевински објекти",500000,null,{"$f":"H584+I584","v":500000},500000,{"$f":"(H584+I584)-J584","v":0},250000]
[null,null,null,null,null,null,"Функција 451:",{"$f":"SUBTOTAL(9,H584)","v":500000},{"$f":"SUBTOTAL(9,I584)","v":0},500000,500000,0,250000]
[null,null,null,null,null,null,"Пројекат 0701-49",{"$f":"SUBTOTAL(9,H584)","v":500000},{"$f":"SUBTOTAL(9,I584)","v":0},500000,500000,0,250000]
[null,null,null,null,null,null,null,null,null,null,0,0]
[null,null,null,451,null,null,"Друмски саобраћај",null,null,null,0,0]
[null,null,"0701-50",null,null,null,"Асфалтирање улице у селу Несалце код Бесима",null,null,null,0,0]
[null,null,null,null,174,511,"Зграде и грађевински објекти",500000,null,{"$f":"H590+I590","v":500000},500000,0,830000]
[null,null,null,null,null,null,"Функција 451:",{"$f":"SUBTOTAL(9,H590)","v":500000},{"$f":"SUBTOTAL(9,I590)","v":0},500000,500000,0,830000]
[null,null,null,null,null,null,"Пројекат 0701-50",{"$f":"SUBTOTAL(9,H590)","v":500000},{"$f":"SUBTOTAL(9,I590)","v":0},500000,500000,0,830000]
[null,null,null,null,null,null,null,null,null,null,0,0]
[null,null,null,451,null,null,"Друмски саобраћај",null,null,null,0,0]
[null,null,"0701-51",null,null,null,"Асфалтирање улице у селу Летовица код Цуфе",null,null,null,0,0]
[null,null,null,null,175,511,"Зграде и грађевински објекти",650000,null,{"$f":"H596+I596","v":650000},650000,0,600000]
[null,null,null,null,null,null,"Функција 451:",{"$f":"SUBTOTAL(9,H596)","v":650000},{"$f":"SUBTOTAL(9,I596)","v":0},650000,650000,0,600000]
[null,null,null,null,null,null,"Пројекат 0701-51",{"$f":"SUBTOTAL(9,H596)","v":650000},{"$f":"SUBTOTAL(9,I596)","v":0},650000,650000,0,600000]
[null,null,null,null,null,null,null,null,null,null,0,0]
[null,null,null,451,null,null,"Друмски саобраћај",null,null,null,0,0]
[null,null,"0701-52",null,null,null,"Асфалтирање улице у селу Летовица код Ефраима",null,null,null,0,0]
[null,null,null,null,176,511,"Зграде и грађевински објекти",500000,null,{"$f":"H602+I602","v":500000},500000,0,400000]
[null,null,null,null,null,null,"Функција 451:",{"$f":"SUBTOTAL(9,H602)","v":500000},{"$f":"SUBTOTAL(9,I602)","v":0},500000,500000,0,400000]
[null,null,null,null,null,null,"Пројекат 0701-52",{"$f":"SUBTOTAL(9,H602)","v":500000},{"$f":"SUBTOTAL(9,I602)","v":0},500000,500000,0,400000]
[null,null,null,null,null,null,null,null,null,null,0,0]
[null,null,null,451,null,null,"Друмски саобраћај",null,null,null,0,0]
[null,null,"0701-53",null,null,null,"Асфалтирање улице у селу Летовица код Хаџи Авдулаха",null,null,null,0,0]
[null,null,null,null,177,511,"Зграде и грађевински објекти",500000,null,{"$f":"H608+I608","v":500000},500000,0,400000]
[null,null,null,null,null,null,"Функција 451:",{"$f":"SUBTOTAL(9,H608)","v":500000},{"$f":"SUBTOTAL(9,I608)","v":0},500000,500000,0,400000]
[null,null,null,null,null,null,"Пројекат 0701-53",{"$f":"SUBTOTAL(9,H608)","v":500000},{"$f":"SUBTOTAL(9,I608)","v":0},500000,500000,0,400000]
[null,null,null,null,null,null,null,null,null,null,0,0]
[null,null,null,451,null,null,"Друмски саобраћај",null,null,null,0,0]
[null,null,"0701-54",null,null,null,"Изградња парка у селу Велики Трновац код воденице",null,null,null,0,0]
[null,null,null,null,178,511,"Зграде и грађевински објекти",5000000,null,{"$f":"H614+I614","v":5000000},5000000,0,1300000]
[null,null,null,null,null,null,"Функција 451:",{"$f":"SUBTOTAL(9,H614)","v":5000000},{"$f":"SUBTOTAL(9,I614)","v":0},5000000,5000000,0,1300000]
[null,null,null,null,null,null,"Пројекат 0701-54",{"$f":"SUBTOTAL(9,H614)","v":5000000},{"$f":"SUBTOTAL(9,I614)","v":0},5000000,5000000,0,1300000]
[null,null,null,null,null,null,null,null,null,null,0,0]
[null,null,null,451,null,null,"Друмски саобраћај",null,null,null,0,0]
[null,null,"0701-55",null,null,null,"Асфалтирање улице у селу Летовица код Зитових",null,null,null,0,0]
[null,null,null,null,179,511,"Зграде и грађевински објекти",400000,null,{"$f":"H620+I620","v":400000},400000,0,1000000]
[null,null,null,null,null,null,"Функција 451:",{"$f":"SUBTOTAL(9,H620)","v":400000},{"$f":"SUBTOTAL(9,I620)","v":0},400000,400000,0,1000000]
[null,null,null,null,null,null,"Пројекат 0701-55",{"$f":"SUBTOTAL(9,H620)","v":400000},{"$f":"SUBTOTAL(9,I620)","v":0},400000,400000,0,1000000]
[null,null,null,null,null,null,null,null,null,null,0,0]
[null,null,null,451,null,null,"Друмски саобраћај",null,null,null,0,0]
[null,null,"0701-56",null,null,null,"Асфалтирање улице у селу Летовица код Џевдета",null,null,null,0,0]
[null,null,null,null,180,511,"Зграде и грађевински објекти",600000,null,{"$f":"H626+I626","v":600000},600000,0,480000]
[null,null,null,null,null,null,"Функција 451:",{"$f":"SUBTOTAL(9,H626)","v":600000},{"$f":"SUBTOTAL(9,I626)","v":0},600000,600000,0,480000]
[null,null,null,null,null,null,"Пројекат 0701-56",{"$f":"SUBTOTAL(9,H626)","v":600000},{"$f":"SUBTOTAL(9,I626)","v":0},600000,600000,0,480000]
[null,null,null,null,null,null,null,null,null,null,0,0]
[null,null,null,451,null,null,"Друмски саобраћај",null,null,null,0,0]
[null,null,"0701-57",null,null,null,"Проширење пута Несалце - Летовица, Л=2,6км, Б=1м",null,null,null,0,0]
[null,null,null,null,181,511,"Зграде и грађевински објекти",{"$f":"14000000-1000000","v":13000000},null,{"$f":"H632+I632","v":13000000},13000000,0,9699000]
[null,null,null,null,null,null,"Функција 451:",{"$f":"SUBTOTAL(9,H632)","v":13000000},{"$f":"SUBTOTAL(9,I632)","v":0},13000000,13000000,0,9699000]
[null,null,null,null,null,null,"Пројекат 0701-57",{"$f":"SUBTOTAL(9,H632)","v":13000000},{"$f":"SUBTOTAL(9,I632)","v":0},13000000,13000000,0,9699000]
[null,null,null,null,null,null,null,null,null,null,0,0]
[null,null,null,451,null,null,"Друмски саобраћај",null,null,null,0,0]
[null,null,"0701-58",null,null,null,"Асфалтирање сеоског трга у селу Биљача",null,null,null,0,0]
[null,null,null,null,182,511,"Зграде и грађевински објекти",500000,null,{"$f":"H638+I638","v":500000},{"$f":"H638+I638","v":500000},0,500000]
[null,null,null,null,null,null,"Функција 451:",{"$f":"SUBTOTAL(9,H638)","v":500000},{"$f":"SUBTOTAL(9,I638)","v":0},500000,500000,0,500000]
[null,null,null,null,null,null,"Пројекат 0701-58",{"$f":"SUBTOTAL(9,H638)","v":500000},{"$f":"SUBTOTAL(9,I638)","v":0},500000,500000,0,500000]
[null,null,null,null,null,null,null,null,null,null,0,0]
[null,null,null,451,null,null,"Друмски саобраћај",null,null,null,0,0]
[null,null,"0701-59",null,null,null,"Асфалтирање улице у селу Самољица код Ридвана",null,null,null,0,0]
[null,null,null,null,183,511,"Зграде и грађевински објекти",600000,null,{"$f":"H644+I644","v":600000},600000,0,400000]
[null,null,null,null,null,null,"Функција 451:",{"$f":"SUBTOTAL(9,H644)","v":600000},{"$f":"SUBTOTAL(9,I644)","v":0},600000,600000,0,400000]
[null,null,null,null,null,null,"Пројекат 0701-59",{"$f":"SUBTOTAL(9,H644)","v":600000},{"$f":"SUBTOTAL(9,I644)","v":0},600000,600000,0,400000]
[null,null,null,null,null,null,null,null,null,null,0,0]
[null,null,null,451,null,null,"Друмски саобраћај",null,null,null,0,{"$f":"(H648+I648)-J648","v":0}]
[null,null,"0701-60",null,null,null,"Асфалтирање улице у селу Брезница код Шемовита",null,null,null,0,0]
[null,null,null,null,184,511,"Зграде и грађевински објекти",800000,null,{"$f":"H650+I650","v":800000},800000,0,500000]
[null,null,null,null,null,null,"Функција 451:",{"$f":"SUBTOTAL(9,H650)","v":800000},{"$f":"SUBTOTAL(9,I650)","v":0},800000,800000,0,500000]
[null,null,null,null,null,null,"Пројекат 0701-60",{"$f":"SUBTOTAL(9,H650)","v":800000},{"$f":"SUBTOTAL(9,I650)","v":0},800000,800000,0,500000]
[null,null,null,null,null,null,null,null,null,null,0,0]
[null,null,null,451,null,null,"Друмски саобраћај",null,null,null,0,0]
[null,null,"0701-61",null,null,null,"Асфалтирање улице у селу Кончуљ код Башкима",null,null,null,0,0]
[null,null,null,null,185,511,"Зграде и грађевински објекти",500000,null,{"$f":"H656+I656","v":500000},500000,0,500000]
[null,null,null,null,null,null,"Функција 451:",{"$f":"SUBTOTAL(9,H656)","v":500000},{"$f":"SUBTOTAL(9,I656)","v":0},500000,500000,0,500000]
[null,null,null,null,null,null,"Пројекат 0701-61",{"$f":"SUBTOTAL(9,H656)","v":500000},{"$f":"SUBTOTAL(9,I656)","v":0},500000,500000,0,500000]
[null,null,null,null,null,null,null,null,null,null,0,0]
[null,null,null,451,null,null,"Друмски саобраћај",null,null,null,0,0]
[null,null,"0701-62",null,null,null,"Асфалтирање улице у селу Кончуљ код Арсима",null,null,null,0,0]
[null,null,null,null,186,511,"Зграде и грађевински објекти",300000,null,{"$f":"H662+I662","v":300000},300000,0,600000]
[null,null,null,null,null,null,"Функција 451:",{"$f":"SUBTOTAL(9,H662)","v":300000},{"$f":"SUBTOTAL(9,I662)","v":0},300000,300000,0,600000]
[null,null,null,null,null,null,"Пројекат 0701-62",{"$f":"SUBTOTAL(9,H662)","v":300000},{"$f":"SUBTOTAL(9,I662)","v":0},300000,300000,0,600000]
[null,null,null,null,null,null,null,null,null,null,0,0]
[null,null,null,451,null,null,"Друмски саобраћај",null,null,null,0,0]
[null,null,"0701-63",null,null,null,"Асфалтирање улице у селу Кончуљ код Арбена",null,null,null,0,0]
[null,null,null,null,187,511,"Зграде и грађевински објекти",300000,null,{"$f":"H668+I668","v":300000},300000,0,450000]
[null,null,null,null,null,null,"Функција 451:",{"$f":"SUBTOTAL(9,H668)","v":300000},{"$f":"SUBTOTAL(9,I668)","v":0},300000,300000,0,450000]
[null,null,null,null,null,null,"Пројекат 0701-63",{"$f":"SUBTOTAL(9,H668)","v":300000},{"$f":"SUBTOTAL(9,I668)","v":0},300000,300000,0,450000]
[null,null,null,null,null,null,null,null,null,null,0,0]
[null,null,null,451,null,null,"Друмски саобраћај",null,null,null,0,0]
[null,null,"0701-64",null,null,null,"Уређење пута у селу Кончуљ код Ћазима",null,null,null,0,0]
[null,null,null,null,188,511,"Зграде и грађевински објекти",400000,null,{"$f":"H674+I674","v":400000},400000,0,430000]
[null,null,null,null,null,null,"Функција 451:",{"$f":"SUBTOTAL(9,H674)","v":400000},{"$f":"SUBTOTAL(9,I674)","v":0},400000,400000,0,430000]
[null,null,null,null,null,null,"Пројекат 0701-64",{"$f":"SUBTOTAL(9,H674)","v":400000},{"$f":"SUBTOTAL(9,I674)","v":0},400000,400000,0,430000]
[null,null,null,null,null,null,null,null,null,null,0,0]
[null,null,null,451,null,null,"Друмски саобраћај",null,null,null,0,0]
[null,null,"0701-65",null,null,null,"Асфалтирање улице у селу Кончуљ код Рахмана",null,null,null,0,0]
[null,null,null,null,189,511,"Зграде и грађевински објекти",400000,null,{"$f":"H680+I680","v":400000},400000,0,450000]
[null,null,null,null,null,null,"Функција 451:",{"$f":"SUBTOTAL(9,H680)","v":400000},{"$f":"SUBTOTAL(9,I680)","v":0},400000,400000,0,450000]
[null,null,null,null,null,null,"Пројекат 0701-65",{"$f":"SUBTOTAL(9,H680)","v":400000},{"$f":"SUBTOTAL(9,I680)","v":0},400000,400000,0,450000]
[null,null,null,null,null,null,null,null,null,null,0,0]
[null,null,null,451,null,null,"Друмски саобраћај",null,null,null,0,0]
[null,null,"0701-66",null,null,null,"Поплочавање улица бетонским плочама у албанској заједници",null,null,null,0,0]
[null,null,null,null,190,511,"Зграде и грађевински објекти",6000000,null,{"$f":"H686+I686","v":6000000},6000000,0,400000]
[null,null,null,null,null,null,"Функција 451:",{"$f":"SUBTOTAL(9,H686)","v":6000000},{"$f":"SUBTOTAL(9,I686)","v":0},6000000,6000000,0,400000]
[null,null,null,null,null,null,"Пројекат 0701-66",{"$f":"SUBTOTAL(9,H686)","v":6000000},{"$f":"SUBTOTAL(9,I686)","v":0},6000000,6000000,0,400000]
[null,null,null,null,null,null,null,null,null,null,{"$f":"H689+I689","v":0},0]
[null,null,null,451,null,null,"Друмски саобраћај",null,null,null,0,0]
[null,null,"0701-67",null,null,null,"Асфалтирање улице у селу Брезница - Муховац - Зарбинце, Л=600м, Б=4м",null,null,null,0,0]
[null,null,null,null,191,511,"Зграде и грађевински објекти",2000000,null,{"$f":"H692+I692","v":2000000},2000000,0,2000000]
[null,null,null,null,null,null,"Функција 451:",{"$f":"SUBTOTAL(9,H692)","v":2000000},{"$f":"SUBTOTAL(9,I692)","v":0},2000000,2000000,0,2000000]
[null,null,null,null,null,null,"Пројекат 0701-67",{"$f":"SUBTOTAL(9,H692)","v":2000000},{"$f":"SUBTOTAL(9,I692)","v":0},2000000,2000000,0,2000000]
[null,null,null,null,null,null,null,null,null,null,0,0]
[null,null,null,451,null,null,"Друмски саобраћај",null,null,null,0,0]
[null,null,"0701-68",null,null,null,"Асфалтирање улице код Шуајба у с. Велики Трновац",null,null,null,0,0]
[null,null,null,null,192,511,"Зграде и грађевински објекти",500000,null,{"$f":"H698+I698","v":500000},500000,0,2000000]
[null,null,null,null,null,null,"Функција 451:",{"$f":"SUBTOTAL(9,H698)","v":500000},{"$f":"SUBTOTAL(9,I698)","v":0},500000,500000,0,2000000]
[null,null,null,null,null,null,"Пројекат 0701-68",{"$f":"SUBTOTAL(9,H698)","v":500000},{"$f":"SUBTOTAL(9,I698)","v":0},500000,500000,0,2000000]
[null,null,null,null,null,null,null,null,null,null,0,0]
[null,null,null,451,null,null,"Друмски саобраћај",null,null,null,0,0]
[null,null,"0701-69",null,null,null,"Асфалтирање улице код Феки у с. Несалце",null,null,null,0,0]
[null,null,null,null,193,511,"Зграде и грађевински објекти",400000,null,{"$f":"H704+I704","v":400000},400000,0,2000000]
[null,null,null,null,null,null,"Функција 451:",{"$f":"SUBTOTAL(9,H704)","v":400000},{"$f":"SUBTOTAL(9,I704)","v":0},400000,400000,0,2000000]
[null,null,null,null,null,null,"Пројекат 0701-69",{"$f":"SUBTOTAL(9,H704)","v":400000},{"$f":"SUBTOTAL(9,I704)","v":0},400000,400000,0,2000000]
[null,null,null,null,null,null,null,null,null,null,{"$f":"H707+I707","v":0},0]
[null,null,null,451,null,null,"Друмски саобраћај",null,null,null,0,0]
[null,null,"0701-70",null,null,null,"Асфалтирање улице код Агима у с. Биљача",null,null,null,0,0]
[null,null,null,null,194,511,"Зграде и грађевински објекти",450000,null,{"$f":"H710+I710","v":450000},450000,0,2000000]
[null,null,null,null,null,null,"Функција 451:",{"$f":"SUBTOTAL(9,H710)","v":450000},{"$f":"SUBTOTAL(9,I710)","v":0},450000,450000,0,2000000]
[null,null,null,null,null,null,"Пројекат 0701-70",{"$f":"SUBTOTAL(9,H710)","v":450000},{"$f":"SUBTOTAL(9,I710)","v":0},450000,450000,{"$f":"(H712+I712)-J712","v":0},2000000]
[null,null,null,null,null,null,null,null,null,null,0,0]
[null,null,null,451,null,null,"Друмски саобраћај",null,null,null,0,0]
[null,null,"0701-71",null,null,null,"Асфалтирање улице код Фљорима у с. Самољица",null,null,null,0,0]
[null,null,null,null,195,511,"Зграде и грађевински објекти",450000,null,{"$f":"H716+I716","v":450000},450000,0,2000000]
[null,null,null,null,null,null,"Функција 451:",{"$f":"SUBTOTAL(9,H716)","v":450000},{"$f":"SUBTOTAL(9,I716)","v":0},450000,450000,0,2000000]
[null,null,null,null,null,null,"Пројекат 0701-71",{"$f":"SUBTOTAL(9,H716)","v":450000},{"$f":"SUBTOTAL(9,I716)","v":0},450000,450000,0,2000000]
[null,null,null,null,null,null,null,null,null,null,{"$f":"H719+I719","v":0},0]
[null,null,null,451,null,null,"Друмски саобраћај",null,null,null,0,0]
[null,null,"0701-72",null,null,null,"Асфалтирање улице код Ментора у с. Летовица",null,null,null,0,0]
[null,null,null,null,196,511,"Зграде и грађевински објекти",450000,null,{"$f":"H722+I722","v":450000},450000,0,2000000]
[null,null,null,null,null,null,"Функција 451:",{"$f":"SUBTOTAL(9,H722)","v":450000},{"$f":"SUBTOTAL(9,I722)","v":0},450000,450000,0,2000000]
[null,null,null,null,null,null,"Пројекат 0701-72",{"$f":"SUBTOTAL(9,H722)","v":450000},{"$f":"SUBTOTAL(9,I722)","v":0},450000,450000,0,2000000]
[null,null,null,null,null,null,null,null,null,null,0,0]
[null,null,null,451,null,null,"Друмски саобраћај",null,null,null,0,0]
[null,null,"0701-73",null,null,null,"Асфалтирање улице код Наипа у Летовици",null,null,null,0,0]
[null,null,null,null,197,511,"Зграде и грађевински објекти",450000,null,{"$f":"H728+I728","v":450000},450000,0,2000000]
[null,null,null,null,null,null,"Функција 451:",{"$f":"SUBTOTAL(9,H728)","v":450000},{"$f":"SUBTOTAL(9,I728)","v":0},450000,450000,0,2000000]
[null,null,null,null,null,null,"Пројекат 0701-73",{"$f":"SUBTOTAL(9,H728)","v":450000},{"$f":"SUBTOTAL(9,I728)","v":0},450000,450000,0,2000000]
[null,null,null,null,null,null,null,null,null,null,{"$f":"H731+I731","v":0},0]
[null,null,null,451,null,null,"Друмски саобраћај",null,null,null,0,0]
[null,null,"0701-74",null,null,null,"Асфалтирање улице код гробља у Доњој Брезници",null,null,null,0,0]
[null,null,null,null,198,511,"Зграде и грађевински објекти",500000,null,{"$f":"H734+I734","v":500000},500000,0,2000000]
[null,null,null,null,null,null,"Функција 451:",{"$f":"SUBTOTAL(9,H734)","v":500000},{"$f":"SUBTOTAL(9,I734)","v":0},500000,500000,0,2000000]
[null,null,null,null,null,null,"Пројекат 0701-74",{"$f":"SUBTOTAL(9,H734)","v":500000},{"$f":"SUBTOTAL(9,I734)","v":0},500000,500000,0,2000000]
[null,null,null,null,null,null,null,null,null,null,0,0]
[null,null,null,451,null,null,"Друмски саобраћај",null,null,null,0,0]
[null,null,"0701-75",null,null,null,"Реконструкција асфалтирања улице у селу Велики Трновац (од главне трафо-станице до пута у нову махалу)",null,null,null,0,0]
[null,null,null,null,199,511,"Зграде и грађевински објекти",1000000,null,{"$f":"H740+I740","v":1000000},1000000,0,2000000]
[null,null,null,null,null,null,"Функција 451:",{"$f":"SUBTOTAL(9,H740)","v":1000000},{"$f":"SUBTOTAL(9,I740)","v":0},1000000,1000000,0,2000000]
[null,null,null,null,null,null,"Пројекат 0701-75",{"$f":"SUBTOTAL(9,H740)","v":1000000},{"$f":"SUBTOTAL(9,I740)","v":0},1000000,1000000,0,2000000]
[null,null,null,null,null,null,null,null,null,null,{"$f":"H743+I743","v":0},0]
[null,null,null,451,null,null,"Друмски саобраћај",null,null,null,0,0]
[null,null,"0701-76",null,null,null,"Повећање безбедности учесника у саобраћају и смањење броја саобраћајних незгода",null,null,null,0,0]
[null,null,null,null,200,512,"Машине и опрема - Саобраћајна полиција ПС Бујановац",950000,null,{"$f":"H746+I746","v":950000},950000,0,500000]
[null,null,null,null,null,null,"Функција 451:",{"$f":"SUBTOTAL(9,H746)","v":950000},{"$f":"SUBTOTAL(9,I746)","v":0},950000,950000,0,500000]
[null,null,null,null,null,null,"Пројекат 0701-76",{"$f":"SUBTOTAL(9,H746)","v":950000},{"$f":"SUBTOTAL(9,I746)","v":0},950000,950000,0,500000]
[null,null,null,null,null,null,null,null,null,null,0,0]
[5,null,2002,null,null,null,"ПРОГРАМ 9: ОСНОВНО ОБРАЗОВАЊЕ",null,null,null,0,0]
[null,null,"2002-0001",null,null,null,"Функционисање основних школа ",null,null,null,0,0]
[null,null,null,912,null,null,"Основно образовање",null,null,null,0,0]
[null,null,null,null,201,463,"Трансфер 421 Стални трошкови",{"$f":"Osn.skole!K109","v":30210000},null,{"$f":"H753+I753","v":30210000},30210000,0,28853600]
[null,null,null,null,202,463,"Трансфер 422 Трошкови путовања",{"$f":"Osn.skole!K110","v":23526000},null,23526000,23526000,0,20107200]
[null,null,null,null,203,463,"Трансфер 423 Услуге по уговору",{"$f":"Osn.skole!K111","v":1642000},null,1642000,1642000,0,1401700]
[null,null,null,null,204,463,"Трансфер 424 Специјализоване услуге",{"$f":"Osn.skole!K112","v":716500},null,716500,716500,0,656200]
[null,null,null,null,205,463,"Трансфер 425 Текуће поправке и одржавање",{"$f":"Osn.skole!K113","v":5453000},null,5453000,5453000,0,5790500]
[null,null,null,null,206,463,"Трансфер 426 Материјал",{"$f":"Osn.skole!K114","v":3851000},null,3851000,3851000,0,4110500]
[null,null,null,null,null,null,"Функција 912:",{"$f":"SUBTOTAL(9,H753:H758)","v":65398500},{"$f":"SUBTOTAL(9,I753:I758)","v":0},65398500,65398500,0,60919700]
[null,null,null,null,null,null,"Програмска активност 2002-0001:",{"$f":"SUBTOTAL(9,H753:H758)","v":65398500},{"$f":"SUBTOTAL(9,I753:I758)","v":0},65398500,65398500,0,60919700]
[null,null,null,null,null,null,null,null,null,null,0,0]
[null,null,"2002-0001",null,null,null,"Функционисање основних школа ",null,null,null,0,0]
[null,null,null,912,null,null,"Основно образовање",null,null,null,0,0]
[null,null,null,null,207,425,"\"Десанка Максимовић\" Биљача - одељење у Самољици",null,4700000,{"$f":"H764+I764","v":4700000},null,0,4700000]
[null,null,null,null,null,null,"Функција 912:",{"$f":"SUBTOTAL(9,H764)","v":0},{"$f":"SUBTOTAL(9,I764:I764)","v":4700000},{"$f":"SUBTOTAL(9,J764:J764)","v":4700000},{"$f":"H765+I765","v":4700000},0,204700000]
[null,null,null,null,null,null,"Програмска активност 2002-0001:",{"$f":"SUBTOTAL(9,H764:H765)","v":0},{"$f":"SUBTOTAL(9,I764:I764)","v":4700000},{"$f":"SUBTOTAL(9,J764:J764)","v":4700000},4700000,0,204700000]
[null,null,null,null,null,null,null,null,null,null,0,0]
[null,null,"2002-0001",null,null,null,"Функционисање основних школа ",null,null,null,0,0]
[null,null,null,960,null,null,"Помоћне услуге у образовању",null,null,null,0,0]
[null,null,null,null,208,463,"Трансфер 416 - Јубиларне награде (основно образовање)",{"$f":"SUBTOTAL(9,H771:H782)","v":4265700},{"$f":"SUBTOTAL(9,I771:I782)","v":0},4265700,4265700,0,5467000]
[null,null,null,null,null,null,"Ова апропријација је намењена:",null,null,null,0,0]
[null,null,null,null,null,null,"ОШ ''Б. Радичевић'' Бујановац",936600,null,{"$f":"H772+I772","v":936600},936600,0,1545000]
[null,null,null,null,null,null,"ОШ ''М. Кадриу'' В. Трновац",700000,null,700000,700000,0,900000]
[null,null,null,null,null,null,"ОШ ''Б. Станковић'' Кленике",600000,null,600000,600000,0,400000]
[null,null,null,null,null,null,"ОШ ''В. С. Караџић'' Левосоје",175100,null,175100,175100,0,270000]
[null,null,null,null,null,null,"ОШ ''Д. Максимовић'' Биљача",429000,null,429000,429000,{"$f":"(H776+I776)-J776","v":0},217000]
[null,null,null,null,null,null,"ОШ ''Н. Фрашери'' Бујановац",490000,null,490000,490000,0,528000]
[null,null,null,null,null,null,"ОШ ''Миђени'' Муховац",300000,null,300000,300000,0,470000]
[null,null,null,null,null,null,"ОШ ''Д. Трајковић'' Жбевац",270000,null,270000,270000,0,535000]
[null,null,null,null,null,null,"ОШ ''С. Фрашери'' Лучане",220000,null,220000,220000,0,220000]
[null,null,null,null,null,null,"ОШ ''А. Бекташи'' Несалце",105000,null,105000,105000,0,342000]
[null,null,null,null,null,null,"Основна музичка школа Бујановац",40000,null,40000,40000,0,40000]
[null,null,null,null,209,463,"Текући трансфери  образовању - такмичења",{"$f":"600000-200000","v":400000},null,400000,400000,0,600000]
[null,null,null,null,210,463,"Текући трансфери  образовању - стручно усавршавање",400000,null,400000,400000,0,400000]
[null,null,null,null,211,463,"Трансфер 483 Новчане казне и пенали по решењу судова",{"$f":"600000-100000-100000","v":400000},null,400000,400000,0,600000]
[null,null,null,null,212,463,"Капитални трансфери образовању (набавка машина и опреме)",{"$f":"2000000-300000","v":1700000},null,1700000,1700000,0,2537000]
[null,null,null,null,213,463,"Текући трансфери образовању - помоћ у случају смрти члана или члана уже породице",{"$f":"500000-200000","v":300000},null,300000,300000,0,630000]
[null,null,null,null,214,463,"Текући трансфери образовању - помоћ у медицинском лечењу ",{"$f":"400000+100000","v":500000},null,500000,500000,0,1400000]
[null,null,null,null,null,null,"Функција 960:",{"$f":"SUBTOTAL(9,H770:H788)","v":7965700},{"$f":"SUBTOTAL(9,I770:I788)","v":0},{"$f":"SUBTOTAL(9,J770:J788)","v":7965700},{"$f":"H789+I789","v":7965700},0,11864000]
[null,null,null,null,null,null,"Програмска активност 2002-0001:",{"$f":"SUBTOTAL(9,H770:H788)","v":7965700},{"$f":"SUBTOTAL(9,I770:I788)","v":0},{"$f":"SUBTOTAL(9,J770:J788)","v":7965700},7965700,0,11864000]
[null,null,null,null,null,null,null,null,null,null,0,0]
[null,null,2003,null,null,null,"ПРОГРАМ 10: СРЕДЊЕ ОБРАЗОВАЊЕ",null,null,null,0,0]
[null,null,"2003-0001",null,null,null,"Функционисање средњих школа ",null,null,null,0,0]
[null,null,null,920,null,null,"Средње образовање",null,null,null,0,0]
[null,null,null,null,215,463,"Трансфер 421 Стални трошкови",{"$f":"Sred.skole!V17","v":14000000},null,{"$f":"H795+I795","v":14000000},14000000,0,13581200]
[null,null,null,null,216,463,"Трансфер 422 Трошкови путовања",{"$f":"Sred.skole!V18","v":6300000},null,6300000,6300000,0,6120000]
[null,null,null,null,217,463,"Трансфер 423 Услуге по уговору",{"$f":"Sred.skole!V19","v":2213000},null,2213000,2213000,0,1653000]
[null,null,null,null,218,463,"Трансфер 424 Специјализоване услуге",{"$f":"Sred.skole!V20","v":435500},null,435500,435500,0,435500]
[null,null,null,null,219,463,"Трансфер 425 Текуће поправке и одржавање",{"$f":"Sred.skole!V21","v":907000},null,907000,907000,0,1497000]
[null,null,null,null,220,463,"Трансфер 426 Материјал",{"$f":"Sred.skole!V22","v":1119000},null,1119000,1119000,0,1119000]
[null,null,null,null,null,null,"Функција 920:",{"$f":"SUBTOTAL(9,H795:H800)","v":24974500},0,24974500,24974500,0,24405700]
[null,null,null,null,null,null,"Програмска активност 2003-0001:",{"$f":"SUBTOTAL(9,H795:H801)","v":24974500},0,24974500,24974500,0,24405700]
[null,null,null,null,null,null,null,null,null,null,0,0]
[null,null,"2003-0001",null,null,null,"Функционисање средњих школа ",null,null,null,0,0]
[null,null,null,960,null,null,"Помоћне услуге у образовању",null,null,null,0,0]
[null,null,null,null,221,463,"Трансфер 416 - Јубиларне награде (средње образовање)",{"$f":"SUBTOTAL(9,H807:H808)","v":1453000},{"$f":"SUBTOTAL(9,I807:I808)","v":0},1453000,1453000,0,2283000]
[null,null,null,null,null,null,"ССШ ''Свети Сава'' Бујановац",453000,null,{"$f":"H807+I807","v":453000},453000,0,953000]
[null,null,null,null,null,null,"СШ ''Сезаи Сурои'' Бујановац",1000000,null,1000000,1000000,0,1330000]
[null,null,null,null,222,463,"Трансфер 483 Новчане казне и пенали по решењу судова",500000,null,500000,500000,0,635000]
[null,null,null,null,223,463,"Капитални трансфери образовању (набавка машина и опреме)",400000,null,400000,400000,0,660000]
[null,null,null,null,224,472,"Стипендије за ученике Средњих школа из Координационог тела",null,7200000,7200000,7200000,0,6696000]
[null,null,null,null,225,472,"Једнократна новчана помоћ студентима",10000000,null,10000000,10000000,0,10000000]
[null,null,null,null,null,null,"Функција 960:",{"$f":"SUBTOTAL(9,H806:H812)","v":12353000},{"$f":"SUBTOTAL(9,I806:I812)","v":7200000},{"$f":"SUBTOTAL(9,J806:J812)","v":19553000},19553000,0,22914000]
[null,null,null,null,null,null,"Програмска активност 2003-0001:",{"$f":"SUBTOTAL(9,H806:H812)","v":12353000},{"$f":"SUBTOTAL(9,I806:I812)","v":7200000},{"$f":"SUBTOTAL(9,J806:J812)","v":19553000},19553000,0,22914000]
[null,null,null,null,null,null,null,null,null,null,0,0]
[null,null,"0901",null,null,null,"ПРОГРАМ 11: СОЦИЈАЛНА И ДЕЧЈА ЗАШТИТА",null,null,null,0,0]
[null,null,"0901-0001",null,null,null,"Једнократне помоћи и други облици помоћи",null,null,null,0,0]
[null,null,null,"070",null,null,"Социјална помоћ некласификована на другом месту",null,null,null,0,0]
[null,null,null,null,226,463,"Текући трансфер- Центар за социјални рад",4500000,null,{"$f":"H819+I819","v":4500000},4500000,0,8584000]
[null,null,null,null,227,472,"Накнаде за социјалну заштиту из буџета - Центар за социјални рад",4000000,null,{"$f":"H820+I820","v":4000000},4000000,0,3500000]
[null,null,null,null,228,472,"Једнократна помоћ - Набавка уџбеника",1000000,null,{"$f":"H821+I821","v":1000000},null,0]
[null,null,null,null,null,null,"Функција 070:",{"$f":"SUBTOTAL(9,H819:H821)","v":9500000},{"$f":"SUBTOTAL(9,I819:I821)","v":0},{"$f":"SUBTOTAL(9,J819:J821)","v":9500000},9500000,0,13084000]
[null,null,null,null,null,null,"Програмска активност 0901-0001:",{"$f":"SUBTOTAL(9,H819:H821)","v":9500000},{"$f":"SUBTOTAL(9,I819:I821)","v":0},{"$f":"SUBTOTAL(9,J819:J821)","v":9500000},9500000,0,13084000]
[null,null,null,null,null,null,null,null,null,null,0,0]
[null,null,"0901-0002",null,null,null,"Прихватилишта, прихватне станице и друге врсте смештаја",null,null,null,0,0]
[null,null,null,"090",null,null,"Социјална заштита некласификована на другом месту",null,null,null,0,0]
[null,null,null,null,229,472,"Накнаде за социјалну заштиту из буџета - Смештај хендикепиране деце",1000000,null,{"$f":"H827+I827","v":1000000},1000000,0,1200000]
[null,null,null,null,230,472,"Накнаде за социјалну заштиту из буџета - Превоз хендикепиране деце",{"$f":"180000*10","v":1800000},null,{"$f":"H828+I828","v":1800000},1800000,0,2000000]
[null,null,null,null,231,472,"Трошкови смештаја и исхране - Центар за развој локалних услуга",300000,null,{"$f":"H829+I829","v":300000},300000,0,300000]
[null,null,null,null,null,null,"Функција 090:",{"$f":"SUBTOTAL(9,H827:H829)","v":3100000},{"$f":"SUBTOTAL(9,I827:I828)","v":0},{"$f":"SUBTOTAL(9,J827:J829)","v":3100000},3100000,0,3500000]
[null,null,null,null,null,null,"Програмска активност 0901-0002:",{"$f":"SUBTOTAL(9,H827:H829)","v":3100000},{"$f":"SUBTOTAL(9,I827:I828)","v":0},{"$f":"SUBTOTAL(9,J827:J829)","v":3100000},3100000,0,3500000]
[null,null,null,null,null,null,null,null,null,null,0,0]
[null,null,"0901-0005",null,null,null,"Активности ОО Црвеног крста Бујановац ",null,null,null,0,0]
[null,null,null,"070",null,null,"Социјална помоћ некласификована на другом месту",null,null,null,0,0]
[null,null,null,null,232,481,"Активности ОО Црвеног крста Бујановац ",500000,null,{"$f":"H835+I835","v":500000},500000,0,500000]
[null,null,null,null,null,null,"Функција 070:",{"$f":"SUBTOTAL(9,H835)","v":500000},{"$f":"SUBTOTAL(9,I835)","v":0},500000,500000,0,500000]
[null,null,null,null,null,null,"Програмска активност 0901-0005:",{"$f":"SUBTOTAL(9,H835)","v":500000},{"$f":"SUBTOTAL(9,I835)","v":0},500000,500000,0,500000]
[null,null,null,null,null,null,null,null,null,null,0,0]
[null,null,"0901-0006",null,null,null,"Подршка деци и породицама са децом",null,null,null,0,0]
[null,null,null,"090",null,null,"Социјална заштита некласификована на другом месту",null,null,null,0,{"$f":"(H840+I840)-J840","v":0}]
[null,null,null,null,233,423,"Услуге по уговору - Услуге личног пратиоца ученика у специјалним школама",750000,null,{"$f":"H841+I841","v":750000},750000,0,700000]
[null,null,null,null,234,423,"Услуге по уговору - Рад Интерресорне комисије",200000,null,{"$f":"H842+I842","v":200000},200000,0,200000]
[null,null,null,null,235,423,"Услуге по уговору - Персонални асистенти у редовним основним школама и предшколској установи",2000000,3050000,{"$f":"H843+I843","v":5050000},5050000,0,6167500]
[null,null,null,null,null,null,"Функција 090:",{"$f":"SUBTOTAL(9,H841:H843)","v":2950000},{"$f":"SUBTOTAL(9,I841:I843)","v":3050000},6000000,6000000,0,7067500]
[null,null,null,null,null,null,"Програмска активност 0901-0006:",{"$f":"SUBTOTAL(9,H841:H843)","v":2950000},{"$f":"SUBTOTAL(9,I841:I843)","v":3050000},6000000,6000000,0,7067500]
[null,null,null,null,null,null,null,null,null,null,0,0]
[null,null,"0901-0007",null,null,null,"Подршка старијим лицима и/или особама са инвалидитетом",null,null,null,0,0]
[null,null,null,"070",null,null,"Социјална помоћ некласификована на другом месту",null,null,null,0,0]
[null,null,null,null,236,423,"Помоћ у кући",null,3200000,{"$f":"H849+I849","v":3200000},3200000,0,3645000]
[null,null,null,null,237,472,"Превоз лица ометених у развоју",{"$f":"12*45000","v":540000},null,{"$f":"H850+I850","v":540000},540000,0,495000]
[null,null,null,null,null,null,"Функција 070:",{"$f":"SUBTOTAL(9,H849:H850)","v":540000},{"$f":"SUBTOTAL(9,I849:I850)","v":3200000},{"$f":"SUBTOTAL(9,J849:J850)","v":3740000},{"$f":"H851+I851","v":3740000},0,4291000]
[null,null,null,null,null,null,"Програмска активност 0901-0007:",{"$f":"SUBTOTAL(9,H849:H850)","v":540000},{"$f":"SUBTOTAL(9,I849:I850)","v":3200000},{"$f":"SUBTOTAL(9,J849:J850)","v":3740000},3740000,0,4291000]
[null,null,null,null,null,null,null,null,null,null,0,0]
[null,null,1801,null,null,null,"ПРОГРАМ 12: ЗДРАВСТВЕНА ЗАШТИТА",null,null,null,0,0]
[null,null,"1801-0001",null,null,null,"Функционисање установа примарне здравствене заштите",null,null,null,0,0]
[null,null,null,740,null,null,"Услуге јавног здравства",null,null,null,0,0]
[null,null,null,null,238,464,"Трансфер - Дом здравља Бујановац",{"$f":"20250000+1500000","v":21750000},null,{"$f":"H857+I857","v":21750000},21750000,0,24750000]
[null,null,null,null,239,423,"Услуге по уговору - Комисије за рад у здравству",150000,null,{"$f":"H858+I858","v":150000},150000,0,150000]
[null,null,null,null,240,464,"Трансфер - Апотека Бујановац",700000,null,{"$f":"H859+I859","v":700000},700000,0,700000]
[null,null,null,null,null,null,"Функција 740:",{"$f":"SUBTOTAL(9,H857:H859)","v":22600000},{"$f":"SUBTOTAL(9,I857:I859)","v":0},{"$f":"SUBTOTAL(9,J857:J859)","v":22600000},22600000,0,25750000]
[null,null,null,null,null,null,"Програмска активност 1801-0001:",{"$f":"SUBTOTAL(9,H857:H859)","v":22600000},{"$f":"SUBTOTAL(9,I857:I859)","v":0},{"$f":"SUBTOTAL(9,J857:J859)","v":22600000},22600000,0,25750000]
[null,null,null,null,null,null,null,null,null,null,0,0]
[null,null,"1801-0002",null,null,null,"Мртвозорство",null,null,null,0,0]
[null,null,null,721,null,null,"Услуге јавног здравства",null,null,null,0,0]
[null,null,null,null,241,423,"Услуге по уговору - Комисије за рад у здравству",400000,null,{"$f":"H865+I865","v":400000},400000,0,400000]
[null,null,null,null,null,null,"Функција 721:",{"$f":"SUBTOTAL(9,H865)","v":400000},{"$f":"SUBTOTAL(9,I865)","v":0},400000,400000,0,400000]
[null,null,null,null,null,null,"Програмска активност 1801-0002:",{"$f":"SUBTOTAL(9,H865)","v":400000},{"$f":"SUBTOTAL(9,I865)","v":0},400000,400000,0,400000]
[null,null,null,null,null,null,null,null,null,null,0,0]
[null,null,null,null,null,null,"ПРОГРАМ 13: РАЗВОЈ КУЛТУРЕ",null,null,null,0,0]
[null,null,"1201-0002",null,null,null,"Јачање културне продукције и уметничког стваралаштва ",null,null,null,0,0]
[null,null,null,860,null,null,"Рекреација, спорт, култура и вере, некласифик. на другом месту",null,null,null,0,0]
[null,null,null,null,242,481,"Дотације невладиним организацијама - КУД, аматерска позоришта",2000000,null,{"$f":"H872+I872","v":2000000},2000000,0,1800000]
[null,null,null,null,243,481,"Дотације невладиним организацијама",3000000,null,{"$f":"H873+I873","v":3000000},3000000,0,3000000]
[null,null,null,null,244,481,"Дотације невладиним организацијама - манифестација Шкембијада",130000,null,{"$f":"H874+I874","v":130000},130000,0,130000]
[null,null,null,null,245,481,"Дотације невладиним организацијама - Учешће у реализацији програма \"Наш град, наше школе\"",200000,null,{"$f":"H875+I875","v":200000},200000,0,200000]
[null,null,null,null,null,null,"Функција 860:",{"$f":"SUBTOTAL(9,H872:H875)","v":5330000},{"$f":"SUBTOTAL(9,I872:I875)","v":0},5330000,5330000,0,5130000]
[null,null,null,null,null,null,"Програмска активност 1201-0002:",{"$f":"SUBTOTAL(9,H872:H875)","v":5330000},{"$f":"SUBTOTAL(9,I872:I875)","v":0},5330000,5330000,0,5130000]
[null,null,null,null,null,null,null,null,null,null,0,0]
[null,null,"1201-0003",null,null,null,"Унапређење система очувања и представљања културно-историјског наслеђа",null,null,null,0,0]
[null,null,null,840,null,null,"Верске и остале услуге заједнице",null,null,null,0,0]
[null,null,null,null,246,481,"Дотације невладиним организацијама - Православна верска заједница",1600000,null,{"$f":"H881+I881","v":1600000},1600000,0,1400000]
[null,null,null,null,247,481,"Дотације невладиним организацијама - Исламска верска заједница",1700000,null,{"$f":"H882+I882","v":1700000},1700000,0,1500000]
[null,null,null,null,null,null,"Функција 840:",{"$f":"SUBTOTAL(9,H881:H882)","v":3300000},{"$f":"SUBTOTAL(9,I881:I882)","v":0},3300000,3300000,0,2900000]
[null,null,null,null,null,null,"Програмска активност 1201-0003:",{"$f":"SUBTOTAL(9,H881:H882)","v":3300000},{"$f":"SUBTOTAL(9,I881:I882)","v":0},3300000,3300000,0,2900000]
[null,null,null,null,null,null,null,null,null,null,0,0]
[null,null,"1201-0004",null,null,null,"Остваривање и унапређивање јавног интереса у области јавног информисања",null,null,null,0,0]
[null,null,null,830,null,null,"Услуге емитовања и штампања",null,null,null,0,0]
[null,null,null,null,248,451,"Текуће субвенције медијима",5000000,null,{"$f":"H888+I888","v":5000000},5000000,0,5000000]
[null,null,null,null,null,null,"Функција 830:",{"$f":"SUBTOTAL(9,H888)","v":5000000},{"$f":"SUBTOTAL(9,I888)","v":0},5000000,5000000,0,5000000]
[null,null,null,null,null,null,"Програмска активност 1201-0004:",{"$f":"SUBTOTAL(9,H888)","v":5000000},{"$f":"SUBTOTAL(9,I888)","v":0},5000000,5000000,0,5000000]
[null,null,null,null,null,null,null,null,null,null,0,0]
[null,null,null,null,null,null,"ПРОГРАМ 14: РАЗВОЈ СПОРТА И ОМЛАДИНЕ",null,null,null,0,0]
[null,null,"1301-0001",null,null,null,"Подршка локалним спорским организацијама, удружењима и савезима",null,null,null,0,0]
[null,null,null,810,null,null,"Услуге рекреације и спорта",null,null,null,0,0]
[null,null,null,null,null,null,"Дотације невладиним организацијама - спорским клубовима",null,null,null,0,0]
[null,null,null,null,249,481,"Дотације невладиним организацијама - спорским клубовима",9500000,null,{"$f":"H896+I896","v":9500000},9500000,0,9055000]
[null,null,null,null,250,481,"Дотације невладиним организацијама - удружења, савези и традиционални турнири",1150000,null,{"$f":"H897+I897","v":1150000},1150000,0,500000]
[null,null,null,null,null,null,"Функција 810:",{"$f":"SUBTOTAL(9,H896:H897)","v":10650000},{"$f":"SUBTOTAL(9,I896)","v":0},{"$f":"SUBTOTAL(9,J896:J897)","v":10650000},10650000,0,9555000]
[null,null,null,null,null,null,"Програмска активност 1301-0001:",{"$f":"SUBTOTAL(9,H896:H897)","v":10650000},{"$f":"SUBTOTAL(9,I896)","v":0},{"$f":"SUBTOTAL(9,J896:J897)","v":10650000},10650000,0,9555000]
[null,null,null,null,null,null,null,null,null,null,0,0]
[null,null,"1301-0005",null,null,null,"Спровођење омладинске политике",null,null,null,0,0]
[null,null,null,810,null,null,"Услуге рекреације и спорта",null,null,null,0,0]
[null,null,null,null,251,481,"Дотације невладиним организацијама - Канцеларија за младе",800000,null,{"$f":"H903+I903","v":800000},800000,0,800000]
[null,null,null,null,null,null,"Функција 810:",{"$f":"SUBTOTAL(9,H903)","v":800000},{"$f":"SUBTOTAL(9,I903)","v":0},800000,800000,{"$f":"(H904+I904)-J904","v":0},800000]
[null,null,null,null,null,null,"Програмска активност 1301-0005:",{"$f":"SUBTOTAL(9,H903)","v":800000},{"$f":"SUBTOTAL(9,I903)","v":0},800000,800000,0,800000]
[null,null,null,null,null,null,null,null,null,null,{"$f":"H906+I906","v":0},0]
[null,null,null,810,null,null,"Услуге рекреације и спорта",null,null,null,0,0]
[null,null,"1301-01",null,null,null,"Асфалтирање спортског терена у дворишту ОШ у селу Мали Трновац",null,null,null,0,0]
[null,null,null,null,252,511,"Зграде и грађевински објекти",500000,null,{"$f":"H909+I909","v":500000},500000,0,5000]
[null,null,null,null,null,null,"Функција 810:",{"$f":"SUBTOTAL(9,H909)","v":500000},{"$f":"SUBTOTAL(9,I909)","v":0},500000,500000,0,5000]
[null,null,null,null,null,null,"Пројекат 1301-01:",{"$f":"SUBTOTAL(9,H909)","v":500000},{"$f":"SUBTOTAL(9,I909)","v":0},500000,500000,0,5000]
[null,null,null,null,null,null,null,null,null,null,0,0]
[null,null,null,810,null,null,"Услуге рекреације и спорта",null,null,null,0,0]
[null,null,"1301-02",null,null,null,"Асфалтирање спортског терена у дворишту ОШ у селу Летовица",null,null,null,0,0]
[null,null,null,null,253,511,"Зграде и грађевински објекти",700000,null,{"$f":"H915+I915","v":700000},700000,0,5000]
[null,null,null,null,null,null,"Функција 810:",{"$f":"SUBTOTAL(9,H915)","v":700000},{"$f":"SUBTOTAL(9,I915)","v":0},700000,700000,0,5000]
[null,null,null,null,null,null,"Пројекат 1301-02:",{"$f":"SUBTOTAL(9,H915)","v":700000},{"$f":"SUBTOTAL(9,I915)","v":0},700000,700000,0,5000]
[null,null,null,null,null,null,null,null,null,null,{"$f":"H918+I918","v":0},0]
[null,null,null,810,null,null,"Услуге рекреације и спорта",null,null,null,0,0]
[null,null,"1301-03",null,null,null,"Асфалтирање игралишта у селу Бараљевац",null,null,null,0,0]
[null,null,null,null,254,511,"Зграде и грађевински објекти",710000,null,{"$f":"H921+I921","v":710000},710000,0,5000]
[null,null,null,null,null,null,"Функција 810:",{"$f":"SUBTOTAL(9,H921)","v":710000},{"$f":"SUBTOTAL(9,I921)","v":0},710000,710000,0,5000]
[null,null,null,null,null,null,"Пројекат 1301-03:",{"$f":"SUBTOTAL(9,H921)","v":710000},{"$f":"SUBTOTAL(9,I921)","v":0},710000,710000,0,5000]
[null,null,null,null,null,null,null,null,null,null,{"$f":"H924+I924","v":0},0]
[null,null,null,null,null,null,"ПРОГРАМ 17: ЕНЕРГЕТСКА ЕФИКАСНОСТ И ОБНОВЉИВИ ИЗВОРИ ЕНЕРГИЈЕ",null,null,null,0,0]
[null,null,"0501-0001",null,null,null,"Енергетски менаџмент",null,null,null,{"$f":"H926+I926","v":0},0]
[null,null,null,"820",null,null,"Установе културе",null,null,null,null,0]
[null,null,null,null,255,511,"Адаптација Дома културе \"Вук Караџић\" Бујановац",null,3833520,{"$f":"H928+I928","v":3833520},3833520,0]
[null,null,null,null,null,null,"Функција 820:",{"$f":"SUBTOTAL(9,H928:H928)","v":0},{"$f":"SUBTOTAL(9,I928)","v":3833520},{"$f":"SUBTOTAL(9,J928:J928)","v":3833520},3833520,0]
[null,null,null,null,null,null,null,null,null,null,null,0]
[null,null,null,"640",null,null,"Улична расвета",null,null,null,null,0]
[null,null,null,null,256,511,"Унапређење уличне расвете градског дела општине Бујановац",null,15000000,{"$f":"H932+I932","v":15000000},15000000,0]
[null,null,null,null,null,null,"Функција 640:",{"$f":"SUBTOTAL(9,H932:H932)","v":0},{"$f":"SUBTOTAL(9,I932)","v":15000000},{"$f":"SUBTOTAL(9,J932:J932)","v":15000000},15000000,0]
[null,null,null,null,null,null,"Програмска активност 0501-0001:",{"$f":"SUBTOTAL(9,H928:H933)","v":0},{"$f":"SUBTOTAL(9,I928:I933)","v":18833520},{"$f":"SUBTOTAL(9,J928:J933)","v":18833520},18833520,0]
[null,null,null,null,null,null,"УКУПНО ЗА ГЛАВУ 5.01:",{"$f":"SUBTOTAL(9,H93:H934)","v":688381300},{"$f":"SUBTOTAL(9,I93:I934)","v":136983520},{"$f":"SUBTOTAL(9,J93:J934)","v":825364820},825364820,0,1037133400]
[null,null,null,null,null,null,null,null,null,{"$f":"H936+I936","v":0},{"$f":"H936+I936","v":0},0]
[5,"5.02",null,null,null,null,"МЕСНЕ ЗАЈЕДНИЦЕ",null,null,0,0,0,0]
[null,null,"0602",null,null,null,"ПРОГРАМ 15: ЛОКАЛНА САМОУПРАВА",null,null,0,0,0,0]
[null,null,"0602-0002",null,null,null,"Функционисање месних заједница",null,null,0,0,0,0]
[null,null,null,160,null,null,"Опште јавне услуге које нису класификоване на другом месту",null,null,0,0,0,0]
[null,null,null,null,257,421,"Стални трошкови",{"$f":"120000+20000","v":140000},null,{"$f":"H941+I941","v":140000},140000,0,140000]
[null,null,null,null,258,422,"Трошкови путовања",{"$f":"400000-200000-100000","v":100000},null,100000,100000,0,100000]
[null,null,null,null,259,423,"Услуге по уговору",700000,null,700000,700000,0,700000]
[null,null,null,null,260,424,"Специјализоване услуге",80000,null,80000,80000,0,80000]
[null,null,null,null,261,425,"Текуће поправке и  одржавање",{"$f":"1450000+250000","v":1700000},null,1700000,1700000,0,2350000]
[null,null,null,null,262,426,"Материјал",1100000,null,1100000,1100000,0,1100000]
[null,null,null,null,263,482,"Порези , обавезне таксе и казне",50000,null,50000,50000,0,50000]
[null,null,null,null,264,483,"Новчане казне и пенали по решењу судова",{"$f":"50000+200000","v":250000},null,250000,250000,0,250000]
[null,null,null,null,265,"511","Зграде и грађевински објекти - завршетак канцеларије МЗ у селу Љиљанце",2600000,null,2600000,null,0]
[null,null,null,null,266,512,"Машине и опрема",{"$f":"50000+200000","v":250000},null,250000,250000,0,250000]
[null,null,null,null,null,null,"Функција 160:",{"$f":"SUBTOTAL(9,H940:H950)","v":6970000},{"$f":"SUBTOTAL(9,I940:I950)","v":0},6970000,6970000,0,5020000]
[null,null,null,null,null,null,"Програмска активност 0602-0002:",{"$f":"SUBTOTAL(9,H940:H950)","v":6970000},{"$f":"SUBTOTAL(9,I940:I950)","v":0},6970000,6970000,0,5020000]
[null,null,null,null,null,null,"УКУПНО ЗА ГЛАВУ 5.02:",{"$f":"SUBTOTAL(9,H940:H952)","v":6970000},{"$f":"SUBTOTAL(9,I940:I952)","v":0},6970000,6970000,0,5020000]
[null,null,null,null,null,null,null,null,null,{"$f":"H954+I954","v":0},0,0,0]
[5,"5.03",null,null,null,null,"ТУРИСТИЧКА ОРГАНИЗАЦИЈА БУЈАНОВАЦ",null,null,0,0,0,0]
[null,null,1502,null,null,null,"ПРОГРАМ 4: РАЗВОЈ ТУРИЗМА",null,null,0,0,0,0]
[null,null,"1502-0001",null,null,null,"Управљањем развојем туризма",null,null,0,0,0,0]
[null,null,null,473,null,null,"Туризам",null,null,0,0,0,0]
[null,null,null,null,267,411,"Плате, додаци и накнаде запосленима",4537000,null,{"$f":"H959+I959","v":4537000},4537000,0,4240000]
[null,null,null,null,268,412,"Социјални доприноси на терет послодавца",812500,null,812500,812500,0,759000]
[null,null,null,null,269,413,"Накнаде у натури",32000,null,32000,32000,0,32000]
[null,null,null,null,270,414,"Социјална давања запосленима",110000,null,110000,110000,0,500000]
[null,null,null,null,271,415,"Накнаде трошкова за запослене",{"$f":"215000+100000","v":315000},null,315000,315000,0,215000]
[null,null,null,null,272,421,"Стални трошкови",375000,null,375000,375000,0,375000]
[null,null,null,null,273,422,"Трошкови путовања",20000,null,20000,20000,0]
[null,null,null,null,274,423,"Услуге по уговору",2154000,null,2154000,2154000,0,1140000]
[null,null,null,null,275,425,"Текуће поправке и  одржавање",4000,null,4000,4000,0,4000]
[null,null,null,null,276,426,"Материјал",98000,null,98000,98000,{"$f":"(H968+I968)-J968","v":0},98000]
[null,null,null,null,277,465,"Остале текуће донације по закону",398000,null,398000,398000,0,398000]
[null,null,null,null,278,482,"Порези , обавезне таксе и казне",1000,null,1000,1000,0,1000]
[null,null,null,null,279,483,"Новчане казне и пенали по решењу судова",100000,null,100000,100000,0,100000]
[null,null,null,null,280,512,"Машине и опрема",70000,null,70000,70000,0,70000]
[null,null,null,null,null,null,"Функција 473:",{"$f":"SUBTOTAL(9,H959:H972)","v":9026500},{"$f":"SUBTOTAL(9,I959:I972)","v":0},{"$f":"SUBTOTAL(9,J959:J972)","v":9026500},9026500,0,8089000]
[null,null,null,null,null,null,"Програмска активност 1502-0001:",{"$f":"SUBTOTAL(9,H959:H972)","v":9026500},{"$f":"SUBTOTAL(9,I959:I972)","v":0},{"$f":"SUBTOTAL(9,J959:J972)","v":9026500},9026500,0,8089000]
[null,null,null,null,null,null,"УКУПНО ЗА ГЛАВУ 5.03:",{"$f":"SUBTOTAL(9,H959:H974)","v":9026500},{"$f":"SUBTOTAL(9,I959:I974)","v":0},{"$f":"SUBTOTAL(9,J959:J974)","v":9026500},9026500,0,8357000]
[null,null,null,null,null,null,null,null,null,{"$f":"H976+I976","v":0},0,0,0]
[5,"5.04",null,null,null,null,"ПРЕДШКОЛСКО ВАСПИТАЊЕ",null,null,0,0,0,0]
[null,null,2001,null,null,null,"ПРОГРАМ 8: ПРЕДШКОЛСКО ВАСПИТАЊЕ",null,null,0,0,0,0]
[null,null,"2001-0001",null,null,null,"Функционисање предшколских установа",null,null,0,0,0,0]
[null,null,null,911,null,null,"Предшколско образовање",null,null,0,0,0,0]
[null,null,null,null,281,411,"Плате, додаци и накнаде запосленима",69122000,null,{"$f":"H981+I981","v":69122000},69122000,0,64640000]
[null,null,null,null,282,412,"Социјални доприноси на терет послодавца",12373000,null,12373000,12373000,0,11571000]
[null,null,null,null,283,414,"Социјална давања запосленима",1050000,null,1050000,1050000,0,2230500]
[null,null,null,null,284,415,"Накнаде трошкова за запослене",2000000,null,2000000,2000000,0,2000000]
[null,null,null,null,285,416,"Награде, бонуси и остали пословни расхода",550000,null,550000,550000,0,550000]
[null,null,null,null,286,421,"Стални трошкови",7068500,null,7068500,7068500,0,7068500]
[null,null,null,null,287,422,"Трошкови путовања",285500,null,285500,285500,0,285500]
[null,null,null,null,288,423,"Услуге по уговору",2730000,null,2730000,2730000,0,3637000]
[null,null,null,null,289,424,"Специјализоване услуге",650000,null,650000,650000,0,650000]
[null,null,null,null,290,425,"Текуће поправке и  одржавање",735000,null,735000,735000,0,735000]
[null,null,null,null,291,426,"Материјал",5972000,null,5972000,5972000,0,5972000]
[null,null,null,null,292,465,"Остале текуће донације по закону",7000000,null,7000000,{"$f":"H992+I992","v":7000000},0,8000000]
[null,null,null,null,293,482,"Порези , обавезне таксе и казне",75000,null,75000,75000,0,75000]
[null,null,null,null,294,483,"Новчане казне и пенали по решењу судова",182000,null,182000,182000,0,182000]
[null,null,null,null,295,512,"Машине и опрема",750000,null,750000,750000,0,776500]
[null,null,null,null,null,null,"Функција 911:",{"$f":"SUBTOTAL(9,H981:H995)","v":110543000},0,110543000,110543000,0,108717000]
[null,null,null,null,null,null,"Програмска активност 2001-0001:",{"$f":"SUBTOTAL(9,H981:H995)","v":110543000},0,110543000,110543000,0,108717000]
[null,null,null,null,null,null,"УКУПНО ЗА ГЛАВУ 5.04:",{"$f":"SUBTOTAL(9,H981:H997)","v":110543000},{"$f":"SUBTOTAL(9,I981:I997)","v":0},110543000,110543000,0,108717000]
[null,null,null,null,null,null,null,null,null,{"$f":"H999+I999","v":0},0,0,0]
[5,"5.05",null,null,null,null,"ДОМ КУЛТУРЕ ''ВУК КАРАЏИЋ'' БУЈАНОВАЦ",null,null,0,0,0,0]
[null,null,1201,null,null,null,"ПРОГРАМ 13: Развој културе",null,null,0,0,0,0]
[null,null,"1201-0001",null,null,null,"Функционисање локалних  установа културе",null,null,0,0,0,0]
[null,null,null,820,null,null,"Установе културе",null,null,0,0,0,0]
[null,null,null,null,296,411,"Плате, додаци и накнаде запосленима",11000000,null,{"$f":"H1004+I1004","v":11000000},11000000,0,9812000]
[null,null,null,null,297,412,"Социјални доприноси на терет послодавца",1886500,null,1886500,1886500,0,1756500]
[null,null,null,null,298,414,"Социјална давања запосленима",90000,null,90000,90000,0,415000]
[null,null,null,null,299,415,"Накнаде трошкова за запослене",389000,null,389000,389000,0,389000]
[null,null,null,null,300,421,"Стални трошкови",7300000,null,7300000,7300000,0,7300000]
[null,null,null,null,301,422,"Трошкови путовања",70000,null,70000,70000,0,70000]
[null,null,null,null,302,423,"Услуге по уговору",2644000,null,2644000,2644000,0,2311000]
[null,null,null,null,303,424,"Специјализоване услуге",30000,null,30000,30000,0,30000]
[null,null,null,null,304,425,"Текуће поправке и  одржавање",165000,null,165000,165000,0,165000]
[null,null,null,null,305,426,"Материјал",205000,null,205000,205000,0,205000]
[null,null,null,null,306,465,"Остале текуће донације по закону",810000,null,810000,810000,0,810000]
[null,null,null,null,307,482,"Порези , обавезне таксе и казне",150000,null,150000,150000,0,150000]
[null,null,null,null,308,512,"Машине и опрема",60000,null,60000,60000,0,60000]
[null,null,null,null,null,null,"Функција 820:",{"$f":"SUBTOTAL(9,H1004:H1016)","v":24799500},0,24799500,24799500,0,23623500]
[null,null,null,null,null,null,"Програмска активност 1201-0001:",{"$f":"SUBTOTAL(9,H1004:H1016)","v":24799500},0,24799500,24799500,0,23623500]
[null,null,null,null,null,null,null,null,null,null,0,0]
[null,null,null,820,null,null,"Установе културе",null,null,{"$f":"H1020+I1020","v":0},0,0,0]
[null,null,"1201-01",null,null,null,"Манифестација вредне руке",null,null,{"$f":"H1021+I1021","v":0},0,0,0]
[null,null,null,null,309,423,"Услуге по уговору",100000,null,{"$f":"H1022+I1022","v":100000},100000,0,100000]
[null,null,null,null,310,426,"Материјал",50000,null,{"$f":"H1023+I1023","v":50000},50000,0,50000]
[null,null,null,null,null,null,"Функција 820:",{"$f":"SUBTOTAL(9,H1022:H1023)","v":150000},{"$f":"SUBTOTAL(9,I1022:I1023)","v":0},150000,150000,0,150000]
[null,null,null,null,null,null,"Пројекат 1201-01",{"$f":"SUBTOTAL(9,H1022:H1023)","v":150000},{"$f":"SUBTOTAL(9,I1022:I1023)","v":0},150000,150000,0,150000]
[null,null,null,null,null,null,null,null,null,null,0,0]
[null,null,null,820,null,null,"Установе културе",null,null,{"$f":"H1027+I1027","v":0},0,0,0]
[null,null,"1201-02",null,null,null,"Манифестација најлепше ускршње јаје",null,null,{"$f":"H1028+I1028","v":0},0,0,0]
[null,null,null,null,311,423,"Услуге по уговору",100000,null,{"$f":"H1029+I1029","v":100000},100000,0,100000]
[null,null,null,null,312,426,"Материјал",50000,null,{"$f":"H1030+I1030","v":50000},50000,0,50000]
[null,null,null,null,null,null,"Функција 820:",{"$f":"SUBTOTAL(9,H1029:H1030)","v":150000},{"$f":"SUBTOTAL(9,I1029:I1030)","v":0},150000,150000,0,150000]
[null,null,null,null,null,null,"Пројекат 1201-02",{"$f":"SUBTOTAL(9,H1029:H1030)","v":150000},{"$f":"SUBTOTAL(9,I1029:I1030)","v":0},150000,150000,{"$f":"(H1032+I1032)-J1032","v":0},150000]
[null,null,null,null,null,null,null,null,null,null,0,0]
[null,null,null,820,null,null,"Установе културе",null,null,{"$f":"H1034+I1034","v":0},0,0,0]
[null,null,"1201-03",null,null,null,"Манифестација културно лето",null,null,{"$f":"H1035+I1035","v":0},0,0,0]
[null,null,null,null,313,423,"Услуге по уговору",300000,null,{"$f":"H1036+I1036","v":300000},300000,0,300000]
[null,null,null,null,314,426,"Материјал",100000,null,{"$f":"H1037+I1037","v":100000},100000,0,100000]
[null,null,null,null,null,null,"Функција 820:",{"$f":"SUBTOTAL(9,H1036:H1037)","v":400000},{"$f":"SUBTOTAL(9,I1036:I1037)","v":0},{"$f":"SUBTOTAL(9,J1036:J1037)","v":400000},400000,0,400000]
[null,null,null,null,null,null,"Пројекат 1201-03",{"$f":"SUBTOTAL(9,H1036:H1037)","v":400000},{"$f":"SUBTOTAL(9,I1036:I1037)","v":0},400000,400000,0,400000]
[null,null,null,null,null,null,"УКУПНО ЗА ГЛАВУ 5.05:",{"$f":"SUBTOTAL(9,H1004:H1039)","v":25499500},{"$f":"SUBTOTAL(9,I1004:I1039)","v":0},{"$f":"SUBTOTAL(9,J1004:J1039)","v":25499500},25499500,0,24573500]
[null,null,null,null,null,null,null,null,null,{"$f":"H1041+I1041","v":0},0,0,0]
[5,"5.06",null,null,null,null,"БИБЛИОТЕКА ''14.НОВЕМБАР'' БУЈАНОВАЦ",null,null,0,0,0,0]
[null,null,1201,null,null,null,"ПРОГРАМ 13: Развој културе",null,null,0,0,0,0]
[null,null,"1201-0001",null,null,null,"Функционисање локалних  установа културе",null,null,0,0,0,0]
[null,null,null,820,null,null,"Установе културе",null,null,0,0,0,0]
[null,null,null,null,315,411,"Плате, додаци и накнаде запосленима",11000000,null,{"$f":"H1046+I1046","v":11000000},11000000,0,9586000]
[null,null,null,null,316,412,"Социјални доприноси на терет послодавца",1886500,null,1886500,{"$f":"H1047+I1047","v":1886500},0,1715900]
[null,null,null,null,317,414,"Социјална давања запосленима",60000,null,60000,60000,0,231000]
[null,null,null,null,318,415,"Накнаде трошкова за запослене",156000,null,156000,156000,0,156000]
[null,null,null,null,319,416,"Награде, бонуси и остали пословни расхода",{"$f":"145000+20000","v":165000},null,165000,165000,0,145000]
[null,null,null,null,320,421,"Стални трошкови",110000,null,110000,110000,0,110000]
[null,null,null,null,321,422,"Трошкови путовања",20000,null,20000,20000,0,20000]
[null,null,null,null,322,423,"Услуге по уговору",{"$f":"2670000-20000","v":2650000},null,2650000,2650000,0,2811000]
[null,null,null,null,323,425,"Текуће поправке и  одржавање",70000,null,70000,70000,0,70000]
[null,null,null,null,324,426,"Материјал",150000,null,150000,150000,0,150000]
[null,null,null,null,325,465,"Остале текуће донације по закону",1100000,null,1100000,1100000,0,1000000]
[null,null,null,null,326,482,"Порези , обавезне таксе и казне",15000,null,15000,15000,0,15000]
[null,null,null,null,327,512,"Машине и опрема",170000,null,170000,170000,0,170000]
[null,null,null,null,328,515,"Нематеријална имовина",490000,null,490000,490000,0,490000]
[null,null,null,null,null,null,"Функција 820:",{"$f":"SUBTOTAL(9,H1046:H1059)","v":18042500},{"$f":"SUBTOTAL(9,I1046:I1059)","v":0},18042500,18042500,0,16745900]
[null,null,null,null,null,null,"Програмска активност 1201-0001:",{"$f":"SUBTOTAL(9,H1046:H1059)","v":18042500},{"$f":"SUBTOTAL(9,I1046:I1059)","v":0},18042500,18042500,0,16745900]
[null,null,null,null,null,null,"УКУПНО ЗА ГЛАВУ 5.06:",{"$f":"SUBTOTAL(9,H1046:H1059)","v":18042500},{"$f":"SUBTOTAL(9,I1046:I1059)","v":0},18042500,18042500,0,16745900]
[null,null,null,null,null,null,null,null,null,{"$f":"H1063+I1063","v":0},0,0,0]
[5,"5.07",null,null,null,null,"СПОРТСКИ ЦЕНТАР ''МЛАДОСТ'' БУЈАНОВАЦ",null,null,0,0,0,0]
[null,null,1301,null,null,null,"ПРОГРАМ 14: Развој спорта и омладине",null,null,0,0,0,0]
[null,null,"1301-0004",null,null,null,"Функционисање локалних спортских установа",null,null,0,0,0,0]
[null,null,null,810,null,null,"Услуге рекреације и спорта",null,null,0,0,0,0]
[null,null,null,null,329,411,"Плате, додаци и накнаде запосленима",11235000,null,{"$f":"H1068+I1068","v":11235000},11235000,0,10500000]
[null,null,null,null,330,412,"Социјални доприноси на терет послодавца",2012000,null,2012000,2012000,0,1879500]
[null,null,null,null,331,413,"Накнаде у натури",80000,null,80000,80000,0,80000]
[null,null,null,null,332,414,"Социјална давања запосленима",100000,null,100000,100000,0,729000]
[null,null,null,null,333,415,"Накнаде трошкова за запослене",550000,null,550000,550000,0,400000]
[null,null,null,null,334,421,"Стални трошкови",1602000,null,1602000,1602000,0,1602000]
[null,null,null,null,335,422,"Трошкови путовања",50000,null,50000,50000,0,47000]
[null,null,null,null,336,423,"Услуге по уговору",1365000,null,1365000,1365000,0,1175000]
[null,null,null,null,337,425,"Текуће поправке и  одржавање",2750000,null,2750000,2750000,0,1670000]
[null,null,null,null,338,426,"Материјал",382200,null,382200,382200,0,464200]
[null,null,null,null,339,465,"Остале текуће донације по закону",625000,null,625000,625000,0,625000]
[null,null,null,null,340,482,"Порези , обавезне таксе и казне",120000,null,120000,120000,0,80000]
[null,null,null,null,341,511,"Зграде и грађевински објекти",385000,null,385000,385000,0,1110000]
[null,null,null,null,342,512,"Машине и опрема",800000,null,800000,800000,0,1350000]
[null,null,null,null,null,null,"Функција 810:",{"$f":"SUBTOTAL(9,H1068:H1081)","v":22056200},{"$f":"SUBTOTAL(9,I1068:I1081)","v":0},22056200,22056200,0,21911700]
[null,null,null,null,null,null,"Програмска активност 1301-0004:",{"$f":"SUBTOTAL(9,H1068:H1081)","v":22056200},{"$f":"SUBTOTAL(9,I1068:I1081)","v":0},22056200,22056200,0,21911700]
[null,null,null,null,null,null,"УКУПНО ЗА ГЛАВУ 5.07:",{"$f":"SUBTOTAL(9,H1068:H1081)","v":22056200},{"$f":"SUBTOTAL(9,I1068:I1081)","v":0},22056200,22056200,0,21911700]
[null,null,null,null,null,null,"УКУПНО ЗА РАЗДЕО 5:",{"$f":"SUBTOTAL(9,H93:H1084)","v":880519000},{"$f":"SUBTOTAL(9,I93:I1084)","v":136983520},1017502520,1017502520,0,1222458500]
[null,null,null,null,null,null,"УКУПНО  РАСХОДИ",{"$f":"SUBTOTAL(9,H7:H1085)","v":923480000},{"$f":"SUBTOTAL(9,I7:I1085)","v":136983520},{"$f":"SUBTOTAL(9,J7:J1085)","v":1060463520},1060463520,0,1265200000]
[null,null,null,null,null,null," ",null,null,null,null,{"$f":"(H1087+I1087)-J1087","v":0}]
[null,null,null,null,null,null,null,null,null,null,null,0]
[null,null,null,null,null,null,null,{"$f":"1056630000-J1086","v":-3833520}]
[null,null,null,null,null,null,null,null,null,null,null,0]
[null,null,null,null,null,null,null,null,null,null,null,0]
[null,null,null,null,null,null,null,null,null,null,null,0]
[null,null,null,null,null,null,null,null,null,null,null,0]

{"sheet":"Osn.skole","index":9,"n_rows":120,"n_cols":13,"rows_kept":120,"cut":false,"hidden":true,"merged":[[0,5,2,5],[0,7,2,7],[0,4,2,4],[0,2,2,2],[0,3,2,3],[34,9,40,9],[53,9,59,9],[0,6,2,6],[90,9,96,9],[0,8,2,8]]}
[null,null,"2002-0001","Функција","Позиција","Ек.клас.",null,"2018 R2",2019]
[]
[]
[null,null,null,"912",null,null,"Основна школа ''Бранко Радичевић'' Бујановац"]
[null,null,null,null,192,463,"Трансфер 421 Стални трошкови",8160000,{"$f":"8572000-272000-100000","v":8200000}]
[null,null,null,null,193,463,"Трансфер 422 Трошкови путовања",4500000,{"$f":"7372900-372900-100000-200000","v":6700000}]
[null,null,null,null,194,463,"Трансфер 423 Услуге по уговору",77300,169000]
[null,null,null,null,195,463,"Трансфер 424 Специјализоване услуге",162200,164000]
[null,null,null,null,196,463,"Трансфер 425 Текуће поправке и одржавање",150000,220000]
[null,null,null,null,197,463,"Трансфер 426 Материјал",240000,278000]
[null,null,null,null,null,"463","Трансфер 483 Новчане казне и пенали",500000,0]
[null,null,null,null,null,null,"УКУПНО ЗА ГЛАВУ 19",{"$f":"SUBTOTAL(9,H5:H11)","v":13789500},{"$f":"SUBTOTAL(9,I5:I11)","v":15731000},{"$f":"I12-H12","v":1941500}]
[]
[null,null,null,912,null,null,"Основна школа ''Мухарем Кадриу'' Велики Трновац"]
[null,null,null,null,192,463,"Трансфер 421 Стални трошкови",5360000,{"$f":"5540000-100000","v":5440000}]
[null,null,null,null,193,463,"Трансфер 422 Трошкови путовања",1390000,1460000]
[null,null,null,null,194,463,"Трансфер 423 Услуге по уговору",200000,200000]
[null,null,null,null,195,463,"Трансфер 424 Специјализоване услуге",74000,124000]
[null,null,null,null,196,463,"Трансфер 425 Текуће поправке и одржавање",1192000,{"$f":"1192000-50000","v":1142000}]
[null,null,null,null,197,463,"Трансфер 426 Материјал",551000,{"$f":"551000-51000","v":500000}]
[null,null,null,null,null,"463","Трансфер 512 Машине и опрема"]
[null,null,null,null,null,null,"УКУПНО ЗА ГЛАВУ 20",{"$f":"SUBTOTAL(9,H15:H21)","v":8767000},{"$f":"SUBTOTAL(9,I15:I21)","v":8866000},{"$f":"I22-H22","v":99000}]
[]
[null,null,null,912,null,null,"Основна школа ''Бора Станковић'' Кленике"]
[null,null,null,null,192,463,"Трансфер 421 Стални трошкови",1515200,{"$f":"1842000-142000","v":1700000}]
[null,null,null,null,193,463,"Трансфер 422 Трошкови путовања",{"$f":"2375000-59000","v":2316000},{"$f":"2720000-220000-100000","v":2400000}]
[null,null,null,null,194,463,"Трансфер 423 Услуге по уговору",170000,245000]
[null,null,null,null,195,463,"Трансфер 424 Специјализоване услуге",60000,52000]
[null,null,null,null,196,463,"Трансфер 425 Текуће поправке и одржавање",289500,135000]
[null,null,null,null,197,463,"Трансфер 426 Материјал",187000,190000]
[null,null,null,null,null,"463","Трансфер 512 Машине и опрема",{"$f":"78000+59000","v":137000},120000]
[null,null,null,null,null,null,"УКУПНО ЗА ГЛАВУ 21",{"$f":"SUBTOTAL(9,H25:H31)","v":4674700},{"$f":"SUBTOTAL(9,I25:I31)","v":4842000},{"$f":"I32-H32","v":167300}]
[]
[null,null,null,912,null,null,"Основна школа ''Вук Стефановић Караџић'' Левосоје"]
[null,null,null,null,192,463,"Трансфер 421 Стални трошкови",1146000,{"$f":"1623300-123300","v":1500000}]
[null,null,null,null,193,463,"Трансфер 422 Трошкови путовања",{"$f":"1315000+20000","v":1335000},{"$f":"1349300+700","v":1350000}]
[null,null,null,null,194,463,"Трансфер 423 Услуге по уговору",190000,190000]
[null,null,null,null,195,463,"Трансфер 424 Специјализоване услуге",80000,80000]
[null,null,null,null,196,463,"Трансфер 425 Текуће поправке и одржавање",480000,480000]
[null,null,null,null,197,463,"Трансфер 426 Материјал",450000,500000]
[null,null,null,null,null,null,"Трансфер 512 Машине и опрема",400000]
[null,null,null,null,null,null,"УКУПНО ЗА ГЛАВУ 22",{"$f":"SUBTOTAL(9,H35:H41)","v":4081000},{"$f":"SUBTOTAL(9,I35:I41)","v":4100000},{"$f":"I42-H42","v":19000}]
[]
[null,null,null,912,null,null,"Основна школа ''Десанка Максимовић'' Биљача"]
[null,null,null,null,192,463,"Трансфер 421 Стални трошкови",1858400,1964000]
[null,null,null,null,193,463,"Трансфер 422 Трошкови путовања",2131200,2100000]
[null,null,null,null,194,463,"Трансфер 423 Услуге по уговору",124400,118000]
[null,null,null,null,195,463,"Трансфер 424 Специјализоване услуге",30000,30000]
[null,null,null,null,196,463,"Трансфер 425 Текуће поправке и одржавање",612000,{"$f":"650000-150000","v":500000}]
[null,null,null,null,197,463,"Трансфер 426 Материјал",490000,550000]
[null,null,null,null,null,null,"УКУПНО ЗА ГЛАВУ 23",{"$f":"SUBTOTAL(9,H45:H50)","v":5246000},{"$f":"SUBTOTAL(9,I45:I50)","v":5262000},{"$f":"I51-H51","v":16000}]
[]
[null,null,null,912,null,null,"Основна школа ''Наим Фрашери'' Бујановац"]
[null,null,null,null,192,463,"Трансфер 421 Стални трошкови",4870000,{"$f":"5540000-340000","v":5200000}]
[null,null,null,null,193,463,"Трансфер 422 Трошкови путовања",945000,{"$f":"1190000-90000","v":1100000}]
[null,null,null,null,194,463,"Трансфер 423 Услуге по уговору",100000,100000]
[null,null,null,null,195,463,"Трансфер 424 Специјализоване услуге",100000,100000]
[null,null,null,null,196,463,"Трансфер 425 Текуће поправке и одржавање",495000,495000]
[null,null,null,null,197,463,"Трансфер 426 Материјал",506500,{"$f":"506500-206500","v":300000}]
[null,null,null,null,null,null,"Трансфер 512 Машине и опрема",null,200000]
[null,null,null,null,null,null,"УКУПНО ЗА ГЛАВУ 24",{"$f":"SUBTOTAL(9,H54:H60)","v":7016500},{"$f":"SUBTOTAL(9,I54:I60)","v":7495000},{"$f":"I61-H61","v":478500}]
[]
[null,null,null,912,null,null,"Основна школа ''Миђени'' Муховац"]
[null,null,null,null,192,463,"Трансфер 421 Стални трошкови",1000000,{"$f":"1190000-100000","v":1090000}]
[null,null,null,null,193,463,"Трансфер 422 Трошкови путовања",1500000,1700000]
[null,null,null,null,194,463,"Трансфер 423 Услуге по уговору",180000,150000]
[null,null,null,null,195,463,"Трансфер 424 Специјализоване услуге"]
[null,null,null,null,196,463,"Трансфер 425 Текуће поправке и одржавање",680000,{"$f":"680000-50000","v":630000}]
[null,null,null,null,197,463,"Трансфер 426 Материјал",440000,330000]
[null,null,null,null,null,null,"УКУПНО ЗА ГЛАВУ 25",{"$f":"SUBTOTAL(9,H64:H69)","v":3800000},{"$f":"SUBTOTAL(9,I64:I69)","v":3900000},{"$f":"I70-H70","v":100000}]
[]
[null,null,null,912,null,null,"Основна школа ''Драгомир Трајковић'' Жбевац"]
[null,null,null,null,192,463,"Трансфер 421 Стални трошкови",1129000,1200000]
[null,null,null,null,193,463,"Трансфер 422 Трошкови путовања",2190000,2300000]
[null,null,null,null,194,463,"Трансфер 423 Услуге по уговору",50000,80000]
[null,null,null,null,195,463,"Трансфер 424 Специјализоване услуге",10000,30000]
[null,null,null,null,196,463,"Трансфер 425 Текуће поправке и одржавање",240000,{"$f":"375000+100000-75000+4000","v":404000}]
[null,null,null,null,197,463,"Трансфер 426 Материјал",195000,175000]
[null,null,null,null,null,null,"Трансфер 512 Машине и опрема",null,400000]
[null,null,null,null,null,null,"УКУПНО ЗА ГЛАВУ 26",{"$f":"SUBTOTAL(9,H73:H78)","v":3814000},{"$f":"SUBTOTAL(9,I73:I79)","v":4589000},{"$f":"I80-H80","v":775000}]
[null,null,null,912,null,null,"Основна школа ''Сами Фрашери'' Лучане"]
[null,null,null,null,192,463,"Трансфер 421 Стални трошкови",1670000,{"$f":"1861000-100000","v":1761000}]
[null,null,null,null,193,463,"Трансфер 422 Трошкови путовања",1360000,1481000]
[null,null,null,null,194,463,"Трансфер 423 Услуге по уговору",75000,75000]
[null,null,null,null,195,463,"Трансфер 424 Специјализоване услуге",40000,40000]
[null,null,null,null,196,463,"Трансфер 425 Текуће поправке и одржавање",490000,{"$f":"490000-50000","v":440000}]
[null,null,null,null,197,463,"Трансфер 426 Материјал",500000,{"$f":"500000-50000","v":450000}]
[null,null,null,null,null,"463","Трансфер 512 Машине и опрема",null,180000]
[null,null,null,null,null,null,"УКУПНО ЗА ГЛАВУ 27",{"$f":"SUBTOTAL(9,H82:H88)","v":4135000},{"$f":"SUBTOTAL(9,I82:I88)","v":4427000},{"$f":"I89-H89","v":292000}]
[]
[null,null,null,912,null,null,"Основна школа ''Али Бекташи'' Несалце"]
[null,null,null,null,192,463,"Трансфер 421 Стални трошкови",1543000,1448000]
[null,null,null,null,193,463,"Трансфер 422 Трошкови путовања",1020000,1334000]
[null,null,null,null,194,463,"Трансфер 423 Услуге по уговору",135000,165000]
[null,null,null,null,195,463,"Трансфер 424 Специјализоване услуге",45000,40000]
[null,null,null,null,196,463,"Трансфер 425 Текуће поправке и одржавање",912000,723000]
[null,null,null,null,197,463,"Трансфер 426 Материјал",431000,440000]
[null,null,null,null,null,null,"УКУПНО ЗА ГЛАВУ 28",{"$f":"SUBTOTAL(9,H92:H97)","v":4086000},{"$f":"SUBTOTAL(9,I92:I97)","v":4150000},{"$f":"I98-H98","v":64000}]
[null,null,null,912,null,null,"Основна школа ''Скендербег'' Зарбинце"]
[null,null,null,null,192,463,"Трансфер 421 Стални трошкови",255000,290000]
[null,null,null,null,193,463,"Трансфер 422 Трошкови путовања",20000,50000]
[null,null,null,null,194,463,"Трансфер 423 Услуге по уговору"]
[null,null,null,null,195,"463","Трансфер 424 Специјализоване услуге"]
[null,null,null,null,196,463,"Трансфер 425 Текуће поправке и одржавање",150000,130000]
[null,null,null,null,197,463,"Трансфер 426 Материјал",45000,30000]
[null,null,null,null,null,null,"УКУПНО ЗА ГЛАВУ 29",{"$f":"SUBTOTAL(9,H100:H105)","v":470000},{"$f":"SUBTOTAL(9,I100:I105)","v":500000},{"$f":"I106-H106","v":30000}]
[]
[null,null,null,912,null,null,"Основна музичка школа ",null,null,"R2 2018",2019]
[null,null,null,null,192,463,"Трансфер 421 Стални трошкови",347000,417000,{"$f":"SUMIF(G:H,G109,H:H)","v":28853600},{"$f":"SUMIF(G:I,G109,I:I)","v":30210000},31487300,{"$f":"L109-K109","v":1277300}]
[null,null,null,null,193,463,"Трансфер 422 Трошкови путовања",1400000,1551000,20107200,23526000,24608200,{"$f":"L110-K110","v":1082200}]
[null,null,null,null,194,463,"Трансфер 423 Услуге по уговору",100000,{"$f":"238000-50000-38000","v":150000},1401700,1642000,1730000,88000]
[null,null,null,null,195,463,"Трансфер 424 Специјализоване услуге",55000,56500,656200,716500,716500,0]
[null,null,null,null,196,463,"Трансфер 425 Текуће поправке и одржавање",100000,154000,5790500,5453000,5824000,371000]
[null,null,null,null,197,463,"Трансфер 426 Материјал",75000,108000,4110500,3851000,4158500,307500]
[null,null,null,null,null,"463","Трансфер 512 Машине и опрема",null,72000,537000,972000,972000,0]
[null,null,null,null,null,null,"УКУПНО ЗА ГЛАВУ 30",{"$f":"SUBTOTAL(9,H109:H115)","v":2077000},{"$f":"SUBTOTAL(9,I109:I115)","v":2508500},{"$f":"SUM(J109:J115)","v":61456700},{"$f":"SUM(K109:K115)","v":66370500},{"$f":"SUBTOTAL(9,L109:L115)","v":69496500},{"$f":"SUBTOTAL(9,M109:M115)","v":3126000}]
[null,null,null,null,null,null,null,{"$f":"SUBTOTAL(9,H5:H116)","v":61956700},{"$f":"SUBTOTAL(9,I5:I116)","v":66370500},null,null,null,74000]
[null,null,null,null,null,null,null,null,null,null,null,null,400000]
[null,null,null,null,null,null,null,null,null,null,null,null,100000]
[null,null,null,null,null,null,null,null,null,null,null,null,200000]

{"sheet":"Sred.skole","index":10,"n_rows":28,"n_cols":24,"rows_kept":28,"cut":false,"hidden":true,"merged":[[0,18,3,18],[0,12,3,12],[0,8,3,8],[0,14,3,14],[0,13,3,13],[0,15,3,15]]}
[null,null,2003,null,null,null,"ПРОГРАМ 10: СРЕДЊЕ ОБРАЗОВАЊЕ",null,"Буџет 2018",null,null,{"$f":"#REF!+J1+K1","v":{"$error":"#REF!"}},"Извршење до 31.05.2018","Буџет 2018 Р1","%","Буџет 2018 Р2",null,null,"Буџет 2019"]
[null,null,"2003-0001",null,null,null,"Функционисање средњих школа ",null,null,null,null,{"$f":"I2+J2+K2","v":0}]
[null,null,null,920,null,null,"Средње образовање","rebalans 2017",null,null,null,{"$f":"I1+J3+K3","v":{"$error":"#VALUE!"}}]
[null,null,null,null,null,null,"Средња стручна школа ''Свети Сава'' Бујановац",null,null,null,null,0]
[null,null,null,null,null,463,"Трансфер 421 Стални трошкови",6891000,7561200,null,null,7561200,3339442.99,7561200,{"$f":"M5/I5","v":0.44165515923398407},7581200,null,null,{"$f":"8053000-53000","v":8000000},"2000000 za 483",null,null,null,53000]
[null,null,null,null,null,463,"Трансфер 422 Трошкови путовања",1950000,2020000,null,null,2020000,897574.26,2020000,{"$f":"M6/I6","v":0.44434369306930693},2020000,null,null,{"$f":"2221000-21000","v":2200000},null,null,null,null,21000]
[null,null,null,null,null,463,"Трансфер 423 Услуге по уговору",730000,{"$f":"1610000-300000","v":1310000},null,null,1310000,732440,1310000,0.55911450381679384,1290000,null,null,1850000]
[null,null,null,null,null,463,"Трансфер 424 Специјализоване услуге",71000,146000,null,null,146000,49701,146000,0.34041780821917811,146000,null,null,146000]
[null,null,null,null,null,463,"Трансфер 425 Текуће поправке и одржавање",342000,342000,null,null,342000,50000,{"$f":"342000+200000-9790+500000","v":1032210},0.14619883040935672,942000,null,null,352000]
[null,null,null,null,null,463,"Трансфер 426 Материјал",402000,420000,null,null,420000,95955,420000,0.2284642857142857,420000,null,null,420000]
[null,null,null,null,null,null,"Трансфер 512 Машине и опрема",null,null,null,null,0,null,null,null,null,null,null,350000]
[null,null,null,null,null,null,"Функција 920:",{"$f":"SUBTOTAL(9,H5:H11)","v":10386000},{"$f":"SUBTOTAL(9,I5:I11)","v":11799200},{"$f":"SUBTOTAL(9,J5:J10)","v":0},{"$f":"SUBTOTAL(9,K5:K10)","v":0},{"$f":"SUBTOTAL(9,L5:L10)","v":11799200},{"$f":"SUBTOTAL(9,M5:M11)","v":5165113.25},{"$f":"SUBTOTAL(9,N5:N11)","v":12489410},0.43775113990779035,{"$f":"SUBTOTAL(9,P5:P11)","v":12399200},null,null,{"$f":"SUBTOTAL(9,S5:S11)","v":13318000}]
[null,null,null,null,null,null,"Програмска активност 2003-0001:",{"$f":"SUBTOTAL(9,H5:H11)","v":10386000},{"$f":"SUBTOTAL(9,I5:I11)","v":11799200},{"$f":"SUBTOTAL(9,J5:J10)","v":0},{"$f":"SUBTOTAL(9,K5:K10)","v":0},{"$f":"SUBTOTAL(9,L5:L10)","v":11799200},{"$f":"SUBTOTAL(9,M5:M11)","v":5165113.25},{"$f":"SUBTOTAL(9,N5:N11)","v":12489410},0.43775113990779035,{"$f":"SUBTOTAL(9,P5:P11)","v":12399200},null,null,{"$f":"SUBTOTAL(9,S5:S11)","v":13318000}]
[null,null,null,null,null,null,null,{"$f":"SUBTOTAL(9,H5:H10)","v":10386000},{"$f":"SUBTOTAL(9,I5:I11)","v":11799200},{"$f":"SUBTOTAL(9,J5:J10)","v":0},{"$f":"SUBTOTAL(9,K5:K10)","v":0},{"$f":"SUBTOTAL(9,L5:L10)","v":11799200},{"$f":"SUBTOTAL(9,M5:M11)","v":5165113.25},{"$f":"SUBTOTAL(9,N5:N11)","v":12489410},0.43775113990779035,{"$f":"SUBTOTAL(9,P5:P11)","v":12399200},null,null,{"$f":"SUBTOTAL(9,S5:S11)","v":13318000}]
[null,null,null,null,null,null,null,null,null,null,null,{"$f":"I15+J15+K15","v":0}]
[null,null,null,920,null,null,"Средња  школа ''Сезаи Сурои'' Бујановац",null,null,null,null,0,null,null,null,null,null,null,null,"2018 R1","2018 R2",2019]
[null,null,null,null,null,463,"Трансфер 421 Стални трошкови",5000000,5500000,null,null,5500000,3689993.6,{"$f":"6088000-88000","v":6000000},0.6709079272727273,6000000,{"$f":"SUMIF(G:H,G17,H:H)","v":11891000},{"$f":"SUMIF(G:I,G17,I:I)","v":13061200},6000000,{"$f":"SUMIF(G:I,G17,N:N)","v":13561200},{"$f":"SUMIF(G:P,G17,P:P)","v":13581200},{"$f":"SUMIF(G:S,G17,S:S)","v":14000000}]
[null,null,null,null,null,463,"Трансфер 422 Трошкови путовања",4150000,{"$f":"4588475-475","v":4588000},null,null,4588000,1900315.67,4100000,0.41419260462074975,4100000,6100000,6608000,4100000,6120000,{"$f":"SUMIF(G:P,G18,P:P)","v":6120000},{"$f":"SUMIF(G:S,G18,S:S)","v":6300000}]
[null,null,null,null,null,463,"Трансфер 423 Услуге по уговору",443000,443000,null,null,443000,182165,363000,0.41120767494356658,363000,1173000,1753000,363000,1673000,1653000,2213000]
[null,null,null,null,null,463,"Трансфер 424 Специјализоване услуге",109500,209500,null,null,209500,234140,289500,1.1176133651551312,289500,180500,355500,289500,435500,435500,435500]
[null,null,null,null,null,463,"Трансфер 425 Текуће поправке и одржавање",1149500,{"$f":"755000-400000","v":355000},null,null,355000,325691.19,555000,0.91743997183098591,555000,1491500,697000,555000,1587210,1497000,907000]
[null,null,null,null,null,463,"Трансфер 426 Материјал",899000,799000,null,null,799000,365264.2,699000,0.45715168961201502,699000,1301000,1219000,699000,1119000,1119000,1119000]
[null,null,null,null,null,"463","Трансфер 483 Новчане казне и пенали по решењу судова",null,30000,null,null,30000,null,30000,null,30000,0,30000,30000,30000,30000,30000]
[null,null,null,null,null,null,"Трансфер 512 Машине и опрема",null,null,null,null,0,null,null,null,null,0,0,null,0,0,350000]
[null,null,null,null,null,null,"Функција 920:",{"$f":"SUBTOTAL(9,H17:H23)","v":11751000},{"$f":"SUBTOTAL(9,I17:I24)","v":11924500},{"$f":"SUBTOTAL(9,J17:J23)","v":0},{"$f":"SUBTOTAL(9,K17:K23)","v":0},{"$f":"SUBTOTAL(9,L17:L23)","v":11924500},{"$f":"SUBTOTAL(9,M17:M24)","v":6697569.6600000001},{"$f":"SUBTOTAL(9,N17:N24)","v":12036500},{"$f":"M25/I25","v":0.56166461151410962},{"$f":"SUBTOTAL(9,P17:P24)","v":12036500},null,null,{"$f":"SUBTOTAL(9,S17:S24)","v":12036500}]
[null,null,null,null,null,null,"Програмска активност 2003-0001:",{"$f":"SUBTOTAL(9,H17:H23)","v":11751000},{"$f":"SUBTOTAL(9,I17:I24)","v":11924500},{"$f":"SUBTOTAL(9,J17:J23)","v":0},{"$f":"SUBTOTAL(9,K17:K23)","v":0},{"$f":"SUBTOTAL(9,L17:L23)","v":11924500},{"$f":"SUBTOTAL(9,M17:M24)","v":6697569.6600000001},{"$f":"SUBTOTAL(9,N17:N24)","v":12036500},0.56166461151410962,{"$f":"SUBTOTAL(9,P17:P24)","v":12036500},null,null,{"$f":"SUBTOTAL(9,S17:S24)","v":12036500}]
[null,null,null,null,null,null,null,{"$f":"SUBTOTAL(9,H17:H23)","v":11751000},{"$f":"SUBTOTAL(9,I17:I24)","v":11924500},{"$f":"SUBTOTAL(9,J17:J23)","v":0},{"$f":"SUBTOTAL(9,K17:K23)","v":0},{"$f":"SUBTOTAL(9,L17:L23)","v":11924500},{"$f":"SUBTOTAL(9,M17:M24)","v":6697569.6600000001},{"$f":"SUBTOTAL(9,N17:N24)","v":12036500},0.56166461151410962,{"$f":"SUBTOTAL(9,P17:P24)","v":12036500},null,{"$f":"SUM(R17:R23)","v":23723700},{"$f":"SUBTOTAL(9,S17:S24)","v":12036500},{"$f":"SUM(T17:T23)","v":24525910},{"$f":"SUM(U17:U23)","v":24435700},{"$f":"SUM(V17:V24)","v":25354500}]
[null,null,null,null,null,null,null,null,{"$f":"SUBTOTAL(9,I5:I27)","v":23723700},null,null,null,{"$f":"SUBTOTAL(9,M5:M27)","v":11862682.909999998},{"$f":"SUBTOTAL(9,N5:N27)","v":24525910},null,{"$f":"SUBTOTAL(9,P5:P27)","v":24435700},null,null,{"$f":"SUBTOTAL(9,S5:S27)","v":25354500}]

{"sheet":"Програми","index":11,"n_rows":24,"n_cols":3,"rows_kept":24,"cut":false,"hidden":true,"merged":[[1,0,1,2]]}
[]
["Члан 4."]
[]
["Расходи и издаци из члана 1. ове одлуке користе се за следеће програме:"]
[]
["НАЗИВ ПРОГРАМА","ИЗНОС","СТРУКТУРА %"]
["Програм 1. Урбанизам и просторно планирање",{"$f":"Прог.актив.!F7","v":41797000},{"$f":"B7/$B$24","v":3.9413897047585383E-2}]
["Програм 2. Комунална делатност",{"$f":"Прог.актив.!F10","v":76772000},7.2394758095969208E-2]
["Програм 3. Локални економски развој",{"$f":"Прог.актив.!F18","v":25000000},2.3574596889480933E-2]
["Програм 4. Развој туризма",{"$f":"Прог.актив.!F21","v":9026500},8.5118439529159855E-3]
["Програм 5. Развој пољопривреде",{"$f":"Прог.актив.!F23","v":22400000},2.1122838812974915E-2]
["Програм 6. Заштита животне средине",{"$f":"Прог.актив.!F25","v":31350000},2.956254449940909E-2]
["Програм 7. Организација саобраћаја и саобраћајна инфраструктура",{"$f":"Прог.актив.!F30","v":187273000},0.17659541933135051]
["Програм 8. Предшколско васпитање",{"$f":"Прог.актив.!F107","v":110543000},0.10424026655815563]
["Програм 9. Основно образовање",{"$f":"Прог.актив.!F109","v":78064200},7.3613281859992691E-2]
["Програм 10. Средње образовање",{"$f":"Прог.актив.!F111","v":44527500},4.1988714519854489E-2]
["Програм 11. Социјална и дечија заштита",{"$f":"Прог.актив.!F113","v":22840000},2.1537751718229779E-2]
["Програм 12. Примарна здравствена заштита",{"$f":"Прог.актив.!F119","v":23000000},2.1688629138322459E-2]
["Програм 13. Развој културе",{"$f":"Прог.актив.!F122","v":57172000},5.3912274134616155E-2]
["Програм 14. Развој спорта и омладине",{"$f":"Прог.актив.!F130","v":35416200},3.3396905534289381E-2]
["Програм 15. Локална самоуправа",{"$f":"Прог.актив.!F137","v":239028600},0.22540011560227927]
["Програм 16: Политички систем локалне самоуправе",{"$f":"Прог.актив.!F145","v":37420000},3.528645662417506E-2]
["Програм 17: Енергетска ефикасност и обновљиви извори енергије",{"$f":"Прог.актив.!F149","v":18833520},1.7759705680399078E-2]
["UKUPNO ZA PROGRAM OD 1 DO 17:",{"$f":"SUBTOTAL(9,B7:B23)","v":1060463520}]

{"sheet":"ekonomska reb1","index":12,"n_rows":41,"n_cols":11,"rows_kept":41,"cut":false,"hidden":true,"merged":[[38,0,38,2],[38,3,38,6],[39,0,39,2],[39,3,39,6],[40,0,40,2],[40,3,40,6],[37,0,37,2],[37,3,37,6],[29,0,29,2],[30,0,30,2],[31,0,31,2],[31,3,31,6],[32,0,32,2],[32,3,32,6],[33,0,33,2],[33,3,33,6],[35,0,35,2],[35,3,35,6],[36,0,36,2],[28,0,28,2],[22,0,22,2],[22,3,22,6],[23,0,23,2],[23,3,23,6],[24,0,24,2],[24,3,24,6],[25,0,25,2],[25,3,25,6],[26,0,26,2],[26,3,26,6],[27,0,27,2],[19,0,19,2],[19,3,19,6],[20,0,20,2],[20,3,20,6],[21,0,21,2],[21,3,21,6],[18,0,18,2],[18,3,18,6],[12,0,12,2],[12,3,12,6],[13,0,13,2],[13,3,13,6],[14,0,14,2],[14,3,14,6],[15,0,15,2],[16,0,16,2],[16,3,16,6],[17,0,17,2],[17,3,17,6],[11,0,11,2],[11,3,11,6],[3,0,3,2],[4,0,4,2],[5,0,5,2],[5,3,5,6],[6,0,6,2],[7,0,7,2],[8,0,8,2],[9,0,9,2],[9,3,9,6],[10,0,10,2],[10,3,10,6],[0,0,0,2],[0,3,0,6],[1,0,1,2],[1,3,1,6],[2,0,2,2],[2,3,2,6]]}
["еко.клас.",null,null,"ОПИС",null,null,null,"Средства из буџета","Средства из соп. извора","Sredstva iz Republike","Укупно"]
[1,null,null,2,null,null,null,3,4,5,6]
[400,null,null,"TEKU]I RASHODI",null,null,null,{"$f":"H11+H18+H21+H25+H27+H32+H34","v":695237589},{"$f":"I11+I18+I21+I25+I27+I32+I34","v":41130000},{"$f":"J11+J18+J21+J25+J27+J32+J34","v":34322300},{"$f":"K11+K18+K21+K25+K27+K32+K34","v":770689889}]
[411,null,null,"Плате, додаци и накнаде запосленима",null,null,null,204714900,null,5785000,{"$f":"H4+I4+J4","v":210499900}]
[412,null,null,"Социјални доприноси на терет послодавца",null,null,null,36644000,null,1037020,{"$f":"H5+I5+J5","v":37681020}]
[413,null,null,"Накнаде у натури",null,null,null,5000,null,null,5000]
[414,null,null,"Социјана давања запосленима",null,null,null,{"$f":"5427600-30000","v":5397600},null,1056000,6453600]
[415,null,null,"Накнаде трошкова за запослене",null,null,null,4700900,null,2780000,7480900]
[416,null,null,"Награде, бонуси и остали пословни расхода",null,null,null,1564200,null,1000000,2564200]
[417,null,null,"Poslani~ki dodatak",null,null,null,null,null,null,0]
[410,null,null,"РАСХОДИ ЗА ЗАПОСЛЕНЕ",null,null,null,{"$f":"H4+H5+H6+H7+H8+H9+H10","v":253026600},{"$f":"I4+I5+I6+I7+I8+I9+I10","v":0},{"$f":"J4+J5+J6+J7+J8+J9+J10","v":11658020},{"$f":"K4+K5+K6+K7+K8+K9+K10","v":264684620}]
[421,null,null,"Стални трошкови",null,null,null,36395500,null,8683280,{"$f":"J12+I12+H12","v":45078780}]
[422,null,null,"Трошкови путовања",null,null,null,2845000,null,166500,3011500]
[423,null,null,"Услуге по уговору",null,null,null,{"$f":"45726000+545000","v":46271000},2386000,2874100,51531100]
[424,null,null,"Специјализоване услуге",null,null,null,10695000,null,465000,11160000]
[425,null,null,"Текуће поправке и  одржавање",null,null,null,{"$f":"7888000+18939915+490000","v":27317915},26900000,677200,54895115]
[426,null,null,"Материјал",null,null,null,{"$f":"12659700+3300000","v":15959700},null,7277800,23237500]
[420,null,null,"КОРИШЋЕЊЕ УСЛУГА И РОБА",null,null,null,{"$f":"H12+H13+H14+H15+H16+H17","v":139484115},{"$f":"I12+I13+I14+I15+I16+I17","v":29286000},{"$f":"J12+J13+J14+J15+J16+J17","v":20143880},{"$f":"K12+K13+K14+K15+K16+K17","v":188913995}]
[451,null,null,"Subvencije",null,null,null,{"$f":"20000000+7000000+5000000","v":32000000},null,null,{"$f":"J19+I19+H19","v":32000000}]
[454,null,null,"Subvencije privatnim preduze|ima",null,null,null,44130000,null,null,{"$f":"J20+I20+H20","v":44130000}]
[450,null,null,"SUBVENCIJE",null,null,null,{"$f":"H19+H20","v":76130000},{"$f":"I19","v":0},{"$f":"J19","v":0},{"$f":"K19+K20","v":76130000}]
[463,null,null,"Transferi osltalim nivoima vlasti",null,null,null,{"$f":"94293000+2890000+26000000+30000","v":123213000},null,null,{"$f":"J22+I22+H22","v":123213000}]
[464,null,null,"Dotacije organizacijama obaveznog soc.osigurawa",null,null,null,{"$f":"22300000+150000","v":22450000},null,null,{"$f":"H23+I23+J23","v":22450000}]
[465,null,null,"Ostale teku}e doacije po zakonu",null,null,null,20275200,null,1100000,{"$f":"H24+I24+J24","v":21375200}]
[460,null,null,"DONACIJE, DOTACIJE I TRANSFERI",null,null,null,{"$f":"H22+H24+H23","v":165938200},{"$f":"I22+I24+I23","v":0},{"$f":"J22+J24","v":1100000},{"$f":"K22+K24+K23","v":167038200}]
[472,null,null,"Naknade za socijalnu za{titu iz buxeta",null,null,null,{"$f":"12405000+3635000","v":16040000},{"$f":"8664000+180000","v":8844000},null,{"$f":"J26+I26+H26","v":24884000}]
[470,null,null,"СОЦИЈАЛНО ОСИГУРАЊЕ И СОЦИЈАЛНА ЗАШ.",null,null,null,{"$f":"H26","v":16040000},{"$f":"I26","v":8844000},{"$f":"J26","v":0},{"$f":"K26","v":24884000}]
[481,null,null,"Дотације невладиним организацијама",null,null,null,{"$f":"22733000+2680000","v":25413000},3000000,null,{"$f":"J28+I28+H28","v":28413000}]
[482,null,null,"Порези , обавезне таксе и казне",null,null,null,762500,null,120400,{"$f":"J29+I29+H29","v":882900}]
[483,null,null,"Нов~ане казне и пенали по решењу судова",null,null,null,{"$f":"3390000+200000+3145000","v":6735000},null,1300000,{"$f":"J30+I30+H30","v":8035000}]
[485,null,null,"Накнада штете за неискоришћен годишњи одмор",null,null,null,900000,null,null,{"$f":"J31+I31+H31","v":900000}]
[480,null,null,"ОСТАЛИ РАСХОДИ",null,null,null,{"$f":"H28+H29+H30+H31","v":33810500},{"$f":"I28+I29+I30+I31","v":3000000},1420400,38230900]
[499,null,null,"Sredstva rezerve",null,null,null,{"$f":"100000+14343174-490000-3145000","v":10808174},null,null,{"$f":"J33+I33+H33","v":10808174}]
[490,null,null,"СРЕДСТВА РЕЗЕРВИ",null,null,null,{"$f":"H33","v":10808174},{"$f":"I33","v":0},{"$f":"J33","v":0},{"$f":"K33","v":10808174}]
[]
[500,null,null,"KAPITALNI IZDACI",null,null,null,{"$f":"H40","v":99909961},{"$f":"I40","v":97939450},1140700,198990111]
[511,null,null,"Зграде и грађевински објекти",null,null,null,{"$f":"9380000+79044461","v":88424461},{"$f":"20000000+77939450","v":97939450},115000,{"$f":"J37+I37+H37","v":186478911}]
[512,null,null,"Машине и опрема",null,null,null,{"$f":"4420500+6560000","v":10980500},null,935700,{"$f":"J38+I38+H38","v":11916200}]
[515,null,null,"Нематеријална имовина",null,null,null,505000,null,90000,{"$f":"J39+I39+H39","v":595000}]
[510,null,null,"ОСНОВНА СРЕДСТВА",null,null,null,{"$f":"H37+H38+H39","v":99909961},{"$f":"I37+I38+I39","v":97939450},{"$f":"J37+J38+J39","v":1140700},{"$f":"K37+K38+K39","v":198990111}]
[null,null,null,"У К У П Н I  JAVNI RASHODI",null,null,null,{"$f":"H3+H40","v":795147550},{"$f":"I3+I40","v":139069450},35463000,969680000]

{"sheet":"Sheet4","index":13,"n_rows":0,"n_cols":0,"rows_kept":0,"cut":false,"hidden":true,"merged":[]}

{"sheet":"Sheet6","index":14,"n_rows":0,"n_cols":0,"rows_kept":0,"cut":false,"hidden":true,"merged":[]}