{"text_format":"1","workbook":"xlsx","n_sheets":22,"sheets":["Poz","Лист5","Лист6","Troškovi 2017","ekonomska","funkcionalna","projekti","Troškovi 2018","Прог.актив.","Odluka Budžet 2018","Функ.клас","Програми","Osn.skole","Sred.skole","Лист1","Лист2","Лист7","Лист3","Лист4","ekonomska reb1","programska rebalans1","функ klas. reb1"],"not_rendered":{"charts":0,"images":0,"macros":0,"external_links":1,"defined_names":16,"comments":0,"pivot_tables":8},"unopened":[],"bounds":{"document_bytes":16777216,"sheet_cells":100000,"rows_first":2000,"rows_last":500,"rows_between":2000,"halvings":0,"cell_chars":16384,"cell_head_chars":4096},"cells_cut":0,"cells_raw":0,"read":"whole","date_system":"1900"}

{"sheet":"Poz","index":0,"n_rows":6,"n_cols":5,"rows_kept":6,"cut":false,"hidden":true,"merged":[]}
[]
[]
[null,"Вредности"]
["Ознаке редова","Збир од Средства из буџета         ","Збир од Средства из буџета    републике","Збир од Средства из осталих извора","Збир од Укупно"]
[5,8,9,10,11]
["Укупни збир",8,9,10,11]

{"sheet":"Лист5","index":1,"n_rows":41,"n_cols":5,"rows_kept":41,"cut":false,"hidden":true,"merged":[]}
[]
[]
[null,"Вредности"]
["Ознаке редова","Збир од Средства из буџета         ","Збир од Средства из буџета    републике","Збир од Средства из осталих извора","Збир од Укупно"]
[411,204714900,null,4400000,209114900]
[412,36644000,null,787800,37431800]
[413,50000,null,null,50000]
[414,5983300,null,880000,6863300]
[415,4671800,null,430000,5101800]
[416,1582500,null,150000,1732500]
[421,35168000,null,8130900,43298900]
[422,2230000,null,402000,2632000]
[423,42707000,null,2825000,45532000]
[424,10695000,null,610000,11305000]
[425,10635000,25600000,2160000,38395000]
[426,10050000,null,7871300,17921300]
[451,25000000,null,null,25000000]
[463,91632100,0,0,91632100]
[464,18300000,null,null,18300000]
[465,19770200,null,1090800,20861000]
[472,14300000,5754000,null,20054000]
[481,27230000,null,null,27230000]
[482,817000,null,107000,924000]
[483,3250000,null,null,3250000]
[511,10660000,20000000,null,30660000]
[512,5994000,null,3474200,9468200]
[515,1200000,null,null,1200000]
[49911,500000,null,null,500000]
[49912,8000000,null,null,8000000]
["423",2300000,null,null,2300000]
["425",18099960,null,null,18099960]
["451",7000000,null,null,7000000]
["454",33000000,null,null,33000000]
["463",2860000,null,null,2860000]
["4631",25500000,null,null,25500000]
["472",3500000,null,null,3500000]
["481",2130000,null,null,2130000]
["485",1500000,null,null,1500000]
["511",84030040,75895200,null,159925240]
["512",8100000,null,null,8100000]
["Укупни збир",779804800,127249200,33319000,940373000]

{"sheet":"Лист6","index":2,"n_rows":131,"n_cols":5,"rows_kept":131,"cut":false,"hidden":true,"merged":[]}
[]
[]
[null,"Вредности"]
["Ознаке редова","Збир од Средства из буџета         ","Збир од Средства из буџета    републике","Збир од Средства из осталих извора","Збир од Укупно"]
["ПРОГРАМ 1: ЛОКАЛНИ РАЗВОЈ И ПРОСТОРНО ПЛАНИРАЊЕ",null,null,null,0]
["ПРОГРАМ 10: СРЕДЊЕ ОБРАЗОВАЊЕ",null,null,null,0]
["ПРОГРАМ 11: СОЦИЈАЛНА И ДЕЧЈА ЗАШТИТА",null,null,null,0]
["ПРОГРАМ 12: ЗДРАВСТВЕНА ЗАШТИТА",null,null,null,0]
["ПРОГРАМ 13: РАЗВОЈ КУЛТУРЕ",null,null,null,0]
["ПРОГРАМ 14: РАЗВОЈ СПОРТА И ОМЛАДИНЕ",null,null,null,0]
["ПРОГРАМ 15: ЛОКАЛНА САМОУПРАВА",null,null,null,0]
["ПРОГРАМ 16: ПОЛИТИЧКИ СИСТЕМ ЛОКАЛНЕ САМОУПРАВЕ",null,null,null,0]
["ПРОГРАМ 2: КОМУНАЛНА ДЕЛАТНОСТ",null,null,null,0]
["ПРОГРАМ 3: ЛОКАЛНИ ЕКОНОМСКИ РАЗВОЈ",null,null,null,0]
["ПРОГРАМ 4: РАЗВОЈ ТУРИЗМА",null,null,null,0]
["ПРОГРАМ 5: РАЗВОЈ ПОЉОПРИВРЕДЕ",null,null,null,0]
["ПРОГРАМ 6: ЗАШТИТА ЖИВОТНЕ СРЕДИНЕ",null,null,null,0]
["ПРОГРАМ 7: ПУТНА ИНФРАСТРУКТУРА",null,null,null,0]
["ПРОГРАМ 8: ПРЕДШКОЛСКО ВАСПИТАЊЕ",null,null,null,0]
["ПРОГРАМ 9: ОСНОВНО ОБРАЗОВАЊЕ",null,null,null,0]
["Програмска активност 0101-0001:",23000000,0,0,23000000]
["Програмска активност 0101-0002:",2000000,0,0,2000000]
["Програмска активност 0401-0001:",7564000,0,0,7564000]
["Програмска активност 0401-0005:",0,20000000,0,20000000]
["Програмска активност 0602-0001:",194455900,0,0,194455900]
["Програмска активност 0602-0002:",3900000,0,0,3900000]
["Програмска активност 0602-0004:",5377200,0,0,5377200]
["Програмска активност 0602-0007:",3700000,0,0,3700000]
["Програмска активност 0602-0010:",8500000,0,0,8500000]
["Програмска активност 0602-0014:",1000000,0,0,1000000]
["Програмска активност 0901-0001:",6000000,0,0,6000000]
["Програмска активност 0901-0002:",3500000,0,0,3500000]
["Програмска активност 0901-0005:",500000,0,0,500000]
["Програмска активност 0901-0006:",1040000,0,0,1040000]
["Програмска активност 0901-0007:",0,750000,0,750000]
["Програмска активност 1101-0001:",3000000,7495200,0,10495200]
["Програмска активност 1102-0001:",20300000,0,0,20300000]
["Програмска активност 1102-0002:",1000000,0,0,1000000]
["Програмска активност 1102-0003:",9000000,0,0,9000000]
["Програмска активност 1102-0004:",1500000,0,0,1500000]
["Програмска активност 1102-0008:",25250000,0,0,25250000]
["Програмска активност 1201-0001",21750000,0,860000,22610000]
["Програмска активност 1201-0001:",13822500,0,124000,13946500]
["Програмска активност 1201-0002:",3830000,0,0,3830000]
["Програмска активност 1201-0003:",2900000,0,0,2900000]
["Програмска активност 1201-0004:",7000000,0,0,7000000]
["Програмска активност 1301-0001:",10000000,0,0,10000000]
["Програмска активност 1501-0002:",25500000,0,0,25500000]
["Програмска активност 1501-0003:",10000000,0,0,10000000]
["Програмска активност 1502-0001:",7601800,0,0,7601800]
["Програмска активност 1502-0002:",392000,0,0,392000]
["Програмска активност 1801-0001:",18450000,0,0,18450000]
["Програмска активност 1801-0002:",300000,0,0,300000]
["Програмска активност 2001-0001:",72067200,0,25762000,97829200]
["Програмска активност 2002-0001:",69460100,0,0,69460100]
["Програмска активност 2003-0001:",32532000,5004000,0,37536000]
["Програмска активност 2101-0001:",21417400,0,0,21417400]
["Програмска активност 2101-0002:",9770500,0,0,9770500]
["Програмска активност 2101-0003:",6400000,0,0,6400000]
["Пројекат 0701-01",0,25600000,0,25600000]
["Пројекат 0701-02",0,30000000,0,30000000]
["Пројекат 0701-03",0,26400000,0,26400000]
["Пројекат 0701-04",0,12000000,0,12000000]
["Пројекат 0701-05",2500000,0,0,2500000]
["Пројекат 0701-06",3000000,0,0,3000000]
["Пројекат 0701-07",3000000,0,0,3000000]
["Пројекат 0701-08",2500000,0,0,2500000]
["Пројекат 0701-09",2500000,0,0,2500000]
["Пројекат 0701-10",6000000,0,0,6000000]
["Пројекат 0701-11",2930000,0,0,2930000]
["Пројекат 0701-12",1500000,0,0,1500000]
["Пројекат 0701-13",2400000,0,0,2400000]
["Пројекат 0701-14:",1551000,0,0,1551000]
["Пројекат 0701-15",7100000,0,0,7100000]
["Пројекат 0701-16",200000,0,0,200000]
["Пројекат 0701-17",3396960,0,0,3396960]
["Пројекат 0701-18",1150000,0,0,1150000]
["Пројекат 0701-19",906000,0,0,906000]
["Пројекат 0701-20",812000,0,0,812000]
["Пројекат 0701-21",550000,0,0,550000]
["Пројекат 0701-22",300000,0,0,300000]
["Пројекат 0701-23",1500000,0,0,1500000]
["Пројекат 0701-24",2000000,0,0,2000000]
["Пројекат 0701-25",495000,0,0,495000]
["Пројекат 0701-26",1188713,0,0,1188713]
["Пројекат 0701-27",1360327,0,0,1360327]
["Пројекат 0701-28",2880000,0,0,2880000]
["Пројекат 0701-29",1900000,0,0,1900000]
["Пројекат 0701-30",410000,0,0,410000]
["Пројекат 0701-31",1350000,0,0,1350000]
["Пројекат 0701-32",1200000,0,0,1200000]
["Пројекат 0701-33",1150000,0,0,1150000]
["Пројекат 0701-34",3450000,0,0,3450000]
["Пројекат 0701-35",1050000,0,0,1050000]
["Пројекат 0701-36",800000,0,0,800000]
["Пројекат 0701-37",1150000,0,0,1150000]
["Пројекат 0701-38",4450000,0,0,4450000]
["Пројекат 0701-39",500000,0,0,500000]
["Пројекат 0701-40",1450000,0,0,1450000]
["Пројекат 0701-41",850000,0,0,850000]
["Пројекат 0701-42",1950000,0,0,1950000]
["Пројекат 0701-43",2450000,0,0,2450000]
["Пројекат 0701-44",1450000,0,0,1450000]
["Пројекат 0701-45",1550000,0,0,1550000]
["Пројекат 0701-46",1250000,0,0,1250000]
["Пројекат 0701-47",4450000,0,0,4450000]
["Пројекат 0701-48",1250000,0,0,1250000]
["Пројекат 0701-49",1450000,0,0,1450000]
["Пројекат 0701-50",950000,0,0,950000]
["Пројекат 0701-51",1850000,0,0,1850000]
["Пројекат 0701-52",850000,0,0,850000]
["Пројекат 0701-53",1650000,0,0,1650000]
["Пројекат 0701-54",3350000,0,0,3350000]
["Пројекат 0701-55",1950000,0,0,1950000]
["Пројекат 0701-56",700000,0,0,700000]
["Пројекат 0701-57",600000,0,0,600000]
["Пројекат 0701-58",700000,0,0,700000]
["Пројекат 0701-59",1100000,0,0,1100000]
["Пројекат 1102-01:",4000000,0,0,4000000]
["Пројекат 1102-02:",4150000,0,0,4150000]
["Пројекат 1201-01",150000,0,0,150000]
["Пројекат 1201-02",150000,0,0,150000]
["Пројекат 1201-03",500000,0,0,500000]
["Пројекат 1201-04:",250000,0,0,250000]
["Пројекат 1301-01:",500000,0,0,500000]
["Промоција туристичке понуде",null,null,null,0]
["Просторно и урбанистичко планирање",null,null,null,0]
["Проширење пута Несалце - Летовица"]
["Програмска активност 1301-0005:",1000000,0,0,1000000]
["Програмска активност 1301-0004:",14737200,0,6573000,21310200]
["Укупни збир",780147800,127249200,33319000,940716000]

{"sheet":"Troškovi 2017","index":3,"n_rows":919,"n_cols":14,"rows_kept":919,"cut":false,"hidden":true,"merged":[]}
["Раздео","Глава","Програмска активност","Функција","Позиција","Економска класификација","ОПИС","Средства из буџета         ","Средства из буџета    републике","Средства из сопствених извора","Укупно"]
[1,2,3,4,5,6,7,8,9,10,11]
[1,"1.01",null,null,null,null,"СКУПШТИНА ОПШТИНЕ"]
[null,null,2101,null,null,null,"ПРОГРАМ 16: ПОЛИТИЧКИ СИСТЕМ ЛОКАЛНЕ САМОУПРАВЕ"]
[null,null,"2101-0001",null,null,null,"Функционисање скупштине"]
[null,null,null,111,null,null,"Извршни и законодавни органи ,финансијски и фискални послови"]
[null,null,null,null,1,411,"Плате, додаци и накнаде запосленима",2400000,null,null,{"$f":"H7+I7+J7","v":2400000},{"$f":"H7+I7+J7","v":2400000},{"$f":"K7-L7","v":0}]
[null,null,null,null,2,412,"Социјални доприноси на терет послодавца",429600,null,null,429600,429600,{"$f":"K8-L8","v":0}]
[null,null,null,null,3,414,"Социјална давања запосленима",56800,null,null,56800,56800,0]
[null,null,null,null,4,416,"Награде, бонуси и остали пословни расхода",5000,null,null,5000,5000,0]
[null,null,null,null,5,422,"Трошкови путовања",100000,null,null,100000,100000,0]
[null,null,null,null,6,423,"Услуге по уговору",{"$f":"17000000-1692000+300000","v":15608000},null,null,15608000,15608000,0]
[null,null,null,null,7,426,"Материјал",5000,null,null,5000,5000,0]
[null,null,null,null,8,465,"Остале текуће донације по закону",470000,null,null,470000,470000,0]
[null,null,null,null,9,481,"Дотација - редован рад политичких странака (порески приходи*0,105%)",343000,null,null,343000,343000,0]
[null,null,null,null,10,"512","Maшине и опрема",2000000,null,null,2000000,2000000,0]
[null,null,null,null,null,null,"Функција 111:",{"$f":"SUBTOTAL(9,H7:H16)","v":21417400},{"$f":"SUBTOTAL(9,I7:I16)","v":0},0,21417400,21417400,0]
[null,null,null,null,null,null,"Програмска активност 2101-0001:",{"$f":"SUBTOTAL(9,H7:H16)","v":21417400},{"$f":"SUBTOTAL(9,I7:I16)","v":0},0,21417400,21417400,0]
[null,null,null,null,null,null,null,null,null,null,null,0,0]
[null,2,"2101-0003",null,null,null,"Подршка раду извршних органа власти и скупштине",null,null,null,{"$f":"H20+I20+J20","v":0},0,0]
[null,null,null,111,null,null,"Извршни и законодавни органи",null,null,null,0,0,0]
[null,null,null,null,11,423,"Услуге по уговору",{"$f":"1692000+308000+100000","v":2100000},null,null,2100000,2100000,0]
[null,null,null,null,12,481,"Дотације - Савет за безбедност општине Бујановац",900000,null,null,900000,900000,0]
[null,null,null,null,13,481,"Дотације - Савет за међунационалне односе",200000,null,null,200000,200000,0]
[null,null,null,null,14,481,"Дотације - Савет за родну равноправност",200000,null,null,200000,200000,0]
[null,null,null,null,null,null,"Функција 111:",{"$f":"SUBTOTAL(9,H22:H25)","v":3400000},{"$f":"SUBTOTAL(9,I22:I25)","v":0},0,3400000,3400000,0]
[null,null,null,null,null,null,"Програмска активност 2101-0003:",{"$f":"SUBTOTAL(9,H22:H25)","v":3400000},{"$f":"SUBTOTAL(9,I22:I25)","v":0},0,3400000,3400000,0]
[null,null,null,null,null,null,"УКУПНО ЗА ГЛАВУ 1.01:",{"$f":"SUBTOTAL(9,H7:H27)","v":24817400},{"$f":"SUBTOTAL(9,I7:I27)","v":0},0,24817400,24817400,0]
[null,null,null,null,null,null,"УКУПНО ЗА РАЗДЕО 1:",{"$f":"SUBTOTAL(9,H7:H28)","v":24817400},{"$f":"SUBTOTAL(9,I7:I28)","v":0},0,24817400,24817400,0]
[null,null,null,null,null,null,null,null,null,null,{"$f":"H30+I30+J30","v":0},0,0]
[2,"2.01",null,null,null,null,"ПРЕДСЕДНИК ОПШТИНЕ",null,null,null,0,0,0]
[null,null,2101,null,null,null,"ПРОГРАМ 16: ПОЛИТИЧКИ СИСТЕМ ЛОКАЛНЕ САМОУПРАВЕ",null,null,null,0,0,0]
[null,null,"2101-0002",null,null,null,"Функционисање извршних органа",null,null,null,0,0,0]
[null,null,null,111,null,null,"Извршни и законодавни органи",null,null,null,0,0,0]
[null,null,null,null,15,411,"Плате, додаци и накнаде запосленима",2500000,null,null,2500000,2500000,0]
[null,null,null,null,16,412,"Социјални доприноси на терет послодавца",447000,null,null,447000,447000,0]
[null,null,null,null,17,414,"Социјална давања запосленима",138500,null,null,138500,138500,0]
[null,null,null,null,18,416,"Награде, бонуси и остали пословни расхода",5000,null,null,5000,5000,0]
[null,null,null,null,19,422,"Трошкови путовања",350000,null,null,350000,350000,0]
[null,null,null,null,20,423,"Услуге по уговору",{"$f":"1350000+350000","v":1700000},null,null,1700000,1700000,0]
[null,null,null,null,21,426,"Материјал",50000,null,null,50000,50000,0]
[null,null,null,null,22,465,"Остале текуће донације по закону",330000,null,null,330000,330000,0]
[null,null,null,null,23,"512","Машине и опрема",100000,null,null,100000,100000,0]
[null,null,null,null,null,null,"Функција 111:",{"$f":"SUBTOTAL(9,H35:H43)","v":5620500},{"$f":"SUBTOTAL(9,I35:I43)","v":0},0,5620500,5620500,0]
[null,null,null,null,null,null,"Програмска активност 2101-0002:",{"$f":"SUBTOTAL(9,H35:H43)","v":5620500},{"$f":"SUBTOTAL(9,I35:I43)","v":0},0,5620500,5620500,0]
[null,null,null,null,null,null,"УКУПНО ЗА ГЛАВУ 2.01:",{"$f":"SUBTOTAL(9,H35:H43)","v":5620500},{"$f":"SUBTOTAL(9,I35:I43)","v":0},0,5620500,5620500,0]
[null,null,null,null,null,null,"УКУПНО ЗА РАЗДЕО 2:",{"$f":"SUBTOTAL(9,H35:H46)","v":5620500},{"$f":"SUBTOTAL(9,I35:I46)","v":0},0,5620500,5620500,0]
[null,null,null,null,null,null,null,null,null,null,null,0,0]
[3,"3.01",null,null,null,null,"ОПШТИНСКО ВЕЋЕ",null,null,null,{"$f":"H49+I49+J49","v":0},0,0]
[null,null,2101,null,null,null,"ПРОГРАМ 16: ПОЛИТИЧКИ СИСТЕМ ЛОКАЛНЕ САМОУПРАВЕ",null,null,null,0,0,0]
[null,null,"2101-0002",null,null,null,"Функционисање извршних органа",null,null,null,0,0,0]
[null,null,null,111,null,null,"Извршни и законодавни органи",null,null,null,0,0,0]
[null,null,null,null,24,423,"Услуге по уговору",{"$f":"4100000","v":4100000},null,null,4100000,4100000,0]
[null,null,null,null,25,426,"Материјал",50000,null,null,50000,50000,0]
[null,null,null,null,null,null,"Функција 111:",{"$f":"SUBTOTAL(9,H53:H54)","v":4150000},{"$f":"SUBTOTAL(9,I53:I54)","v":0},0,4150000,4150000,0]
[null,null,null,null,null,null,"Програмска активност 2101-0002:",{"$f":"SUBTOTAL(9,H53:H54)","v":4150000},{"$f":"SUBTOTAL(9,I53:I54)","v":0},0,4150000,4150000,0]
[null,null,null,null,null,null,null,null,null,null,null,0,0]
[null,null,"2101-0003",null,null,null,"Подршка раду извршних органа власти и скупштине",null,null,null,{"$f":"H58+I58+J58","v":0},0,0]
[null,null,null,111,null,null,"Извршни и законодавни органи - рад комисија",null,null,null,{"$f":"H59+I59+J59","v":0},0,0]
[null,null,null,null,26,423,"Услуге по уговору",{"$f":"2000000+500000+500000","v":3000000},null,null,{"$f":"H60+I60+J60","v":3000000},3000000,0]
[null,null,null,null,null,null,"Функција 111:",{"$f":"SUBTOTAL(9,H60)","v":3000000},{"$f":"SUBTOTAL(9,I60)","v":0},0,3000000,3000000,0]
[null,null,null,null,null,null,"Програмска активност 2101-0003:",{"$f":"SUBTOTAL(9,H60)","v":3000000},{"$f":"SUBTOTAL(9,I60)","v":0},0,3000000,3000000,0]
[null,null,null,null,null,null,"УКУПНО ЗА ГЛАВУ 3.01:",{"$f":"SUBTOTAL(9,H60)","v":3000000},{"$f":"SUBTOTAL(9,I60)","v":0},0,3000000,3000000,0]
[null,null,null,null,null,null,"УКУПНО ЗА РАЗДЕО 3:",{"$f":"SUBTOTAL(9,H53:H63)","v":7150000},{"$f":"SUBTOTAL(9,I53:I63)","v":0},0,7150000,7150000,0]
[null,null,null,null,null,null,null,null,null,null,null,0,0]
[4,"4.01",null,null,null,null,"ПРАВОБРАНИЛАШТВО ОПШТИНЕ БУЈАНОВАЦ",null,null,null,{"$f":"H66+I66+J66","v":0},{"$f":"H66+I66+J66","v":0},0]
[null,null,"О602",null,null,null,"ПРОГРАМ 15: ЛОКАЛНА САМОУПРАВА",null,null,null,0,0,{"$f":"K67-L67","v":0}]
[null,null,"О602-0004",null,null,null,"Правобранилаштво општине Бујановац",null,null,null,0,0,0]
[null,null,null,330,null,null,"Судови",null,null,null,0,0,0]
[null,null,null,null,27,411,"Плате, додаци и накнаде запосленима",1800000,null,null,1800000,1800000,0]
[null,null,null,null,28,412,"Социјални доприноси на терет послодавца",322200,null,null,322200,322200,0]
[null,null,null,null,29,422,"Трошкови путовања",10000,null,null,10000,10000,0]
[null,null,null,null,30,423,"Услуге по уговору",50000,null,null,50000,50000,0]
[null,null,null,null,31,426,"Материјал",10000,null,null,10000,10000,0]
[null,null,null,null,32,465,"Остале текуће донације по закону",185000,null,null,185000,185000,0]
[null,null,null,null,33,483,"Новчане казне и пенали по решењу судова",3000000,null,null,3000000,3000000,0]
[null,null,null,null,null,null,"Функција 330:",{"$f":"SUBTOTAL(9,H70:H76)","v":5377200},{"$f":"SUBTOTAL(9,I70:I76)","v":0},0,5377200,5377200,0]
[null,null,null,null,null,null,"Програмска активност 0602-0004:",{"$f":"SUBTOTAL(9,H70:H76)","v":5377200},{"$f":"SUBTOTAL(9,I70:I76)","v":0},0,5377200,5377200,0]
[null,null,null,null,null,null,"УКУПНО ЗА ГЛАВУ 4.01:",{"$f":"SUBTOTAL(9,H70:H76)","v":5377200},{"$f":"SUBTOTAL(9,I70:I76)","v":0},0,5377200,5377200,0]
[null,null,null,null,null,null,"УКУПНО ЗА РАЗДЕО 4:",{"$f":"SUBTOTAL(9,H70:H79)","v":5377200},{"$f":"SUBTOTAL(9,I70:I79)","v":0},0,5377200,5377200,0]
[null,null,null,null,null,null,null,null,null,null,{"$f":"H81+I81+J81","v":0},0,0]
[5,"5.01",null,null,null,null,"ОПШТИНСКА УПРАВА",null,null,null,0,0,0]
[null,null,"0602",null,null,null,"ПРОГРАМ 15: ЛОКАЛНА САМОУПРАВА",null,null,null,0,0,0]
[null,null,"0602-0001",null,null,null,"Функционисање локалне самоуправе  и градских општина",null,null,null,0,0,0]
[null,null,null,130,null,null,"Опште јавне услуге",null,null,null,0,0,0]
[null,null,null,null,34,411,"Плате, додаци и накнаде запосленима",{"$f":"92692500+18150000+3350000-2728600","v":111463900},null,null,111463900,111463900,0]
[null,null,null,null,35,412,"Социјални доприноси на терет послодавца",19952000,null,null,19952000,19952000,0]
[null,null,null,null,36,413,"Накнаде у натури",50000,null,null,50000,50000,0]
[null,null,null,null,37,414,"Социјална давања запосленима",3350000,null,null,3350000,3350000,0]
[null,null,null,null,38,415,"Накнаде трошкова за запослене",4100000,null,null,4100000,4100000,0]
[null,null,null,null,39,416,"Награде, бонуси и остали пословни расхода",1400000,null,null,1400000,1400000,0]
[null,null,null,null,40,421,"Стални трошкови",11000000,null,null,11000000,11000000,0]
[null,null,null,null,41,422,"Трошкови путовања",1550000,null,null,1550000,1550000,0]
[null,null,null,null,42,423,"Услуге по уговору",8500000,null,null,8500000,8500000,0]
[null,null,null,null,43,424,"Специјализоване услуге",500000,null,null,500000,500000,0]
[null,null,null,null,44,425,"Текуће поправке и  одржавање",2500000,null,null,2500000,2500000,0]
[null,null,null,null,45,426,"Материјал",8000000,null,null,8000000,8000000,0]
[null,null,null,null,46,465,"Остале текуће донације по закону",10500000,null,null,10500000,10500000,0]
[null,null,null,null,47,482,"Порези , обавезне таксе и казне",700000,null,null,700000,700000,0]
[null,null,null,null,48,483,"Новчане казне и пенали по решењу судова",50000,null,null,50000,50000,0]
[null,null,null,null,49,511,"Зграде и грађевински објекти",10000,null,null,10000,10000,0]
[null,null,null,null,50,512,"Машине и опрема",{"$f":"3000000+500000+500000","v":4000000},null,null,4000000,4000000,0]
[null,null,null,null,51,515,"Нематеријална имовина",700000,null,null,700000,700000,0]
[null,null,null,null,null,null,"Функција 130:",{"$f":"SUBTOTAL(9,H86:H103)","v":188325900},{"$f":"SUBTOTAL(9,I86:I103)","v":0},0,188325900,188325900,0]
[null,null,null,null,null,null,"Програмска активност 0602-0001:",{"$f":"SUBTOTAL(9,H86:H103)","v":188325900},{"$f":"SUBTOTAL(9,I86:I103)","v":0},0,188325900,188325900,0]
[null,null,null,null,null,null,null,null,null,null,null,0,0]
[null,null,"0602-0001",null,null,null,"Подршка раду извршних органа власти и скупштине",null,null,null,{"$f":"H107+I107+J107","v":0},0,0]
[null,null,null,160,null,null,"Опште јавне услуге које нису класификоване на другом месту",null,null,null,0,0,0]
[null,null,null,null,52,481,"Дотације - Агенција за развој Бујановца и Прешева",500000,null,null,500000,500000,0]
[null,null,null,null,53,481,"Дотација - Центар за развој Пчињског и Јабланичког округа",200000,null,null,200000,200000,0]
[null,null,null,null,54,481,"Дотације  - Привредна комора ",400000,null,null,400000,400000,0]
[null,null,null,null,55,481,"Дотација - Стална конференција градова и општина (чланарина)",470000,null,null,470000,470000,0]
[null,null,null,null,56,481,"Дотација са страним донаторима - фондови ЕУ ",4000000,null,null,4000000,4000000,0]
[null,null,null,null,57,481,"Дотација - Налед",100000,null,null,100000,100000,0]
[null,null,null,null,58,481,"Дотације - Историјски архив Врање",460000,null,null,460000,460000,0]
[null,null,null,null,null,null,"Функција 160:",{"$f":"SUBTOTAL(9,H109:H115)","v":6130000},{"$f":"SUBTOTAL(9,I109:I115)","v":0},0,6130000,6130000,0]
[null,null,null,null,null,null,"Програмска активност 0602-0001:",{"$f":"SUBTOTAL(9,H109:H115)","v":6130000},{"$f":"SUBTOTAL(9,I109:I115)","v":0},0,6130000,6130000,0]
[null,null,null,null,null,null,null,null,null,null,{"$f":"H118+I118+J118","v":0},0,0]
[null,null,"0602-0007",null,null,null,"Функционисање националних савета националних мањина",null,null,null,{"$f":"H119+I119+J119","v":0},0,0]
[null,null,null,"090",null,null,"Социјална заштита некласификована на другом месту ",null,null,null,{"$f":"H120+I120+J120","v":0},0,0]
[null,null,null,null,59,481,"Дотације невладиним организацијама - Декада Рома",700000,null,null,{"$f":"H121+I121+J121","v":700000},700000,0]
[null,null,null,null,60,481,"Дотације невладиним организацијама - Национални савет Албанаца",3000000,null,null,{"$f":"H122+I122+J122","v":3000000},{"$f":"H122+I122+J122","v":3000000},0]
[null,null,null,null,null,null,"Функција 090:",{"$f":"SUBTOTAL(9,H121:H122)","v":3700000},{"$f":"SUBTOTAL(9,I121:I122)","v":0},{"$f":"SUBTOTAL(9,J121:J122)","v":0},{"$f":"SUBTOTAL(9,K121:K122)","v":3700000},3700000,{"$f":"K123-L123","v":0}]
[null,null,null,null,null,null,"Програмска активност 0602-0007:",{"$f":"SUBTOTAL(9,H121:H122)","v":3700000},{"$f":"SUBTOTAL(9,I121:I122)","v":0},{"$f":"SUBTOTAL(9,J121:J122)","v":0},{"$f":"SUBTOTAL(9,K121:K122)","v":3700000},3700000,0]
[null,null,null,null,null,null,null,null,null,null,null,0,0]
[null,null,"0602-0009",null,null,null,"Текућа буџетска резерва",null,null,null,{"$f":"H126+I126+J126","v":0},0,0]
[null,null,null,130,null,null,"Опште јавне услуге",null,null,null,{"$f":"H127+I127+J127","v":0},0,0]
[null,null,null,null,61,49912,"Текућа резерва",8000000,null,null,{"$f":"H128+I128+J128","v":8000000},8000000,0]
[null,null,null,null,null,null,"Функција 130:",{"$f":"SUBTOTAL(9,H128)","v":8000000},{"$f":"SUBTOTAL(9,I128)","v":0},0,8000000,8000000,0]
[null,null,null,null,null,null,"Програмска активност 0602-0009:",{"$f":"SUBTOTAL(9,H128)","v":8000000},{"$f":"SUBTOTAL(9,I128)","v":0},0,8000000,8000000,0]
[null,null,null,null,null,null,null,null,null,null,null,0,0]
[null,null,"0602-0010",null,null,null,"Стална буџетска резерва",null,null,null,{"$f":"H132+I132+J132","v":0},0,0]
[null,null,null,130,null,null,"Опште јавне услуге",null,null,null,{"$f":"H133+I133+J133","v":0},0,0]
[null,null,null,null,62,49911,"Стална резерва",500000,null,null,{"$f":"H134+I134+J134","v":500000},500000,0]
[null,null,null,null,null,null,"Функција 130:",{"$f":"SUBTOTAL(9,H134)","v":500000},{"$f":"SUBTOTAL(9,I134)","v":0},0,500000,500000,0]
[null,null,null,null,null,null,"Програмска активност 0602-0010:",{"$f":"SUBTOTAL(9,H134)","v":500000},{"$f":"SUBTOTAL(9,I134)","v":0},0,500000,500000,0]
[null,null,null,null,null,null,null,null,null,null,{"$f":"H137+I137+J137","v":0},0,0]
[null,null,"0602-0014",null,null,null,"Ванредне ситуације",null,null,null,{"$f":"H138+I138+J138","v":0},0,0]
[null,null,null,"160",null,null,"Опште јавне услуге које нису класификоване на другом месту",null,null,null,{"$f":"H139+I139+J139","v":0},0,0]
[null,null,null,null,63,"423","Услуге по уговору",300000,null,null,{"$f":"H140+I140+J140","v":300000},300000,0]
[null,null,null,null,64,"425","Текуће поправке и одржавање",700000,null,null,{"$f":"H141+I141+J141","v":700000},700000,0]
[null,null,null,null,null,null,"Функција 160:",{"$f":"SUBTOTAL(9,H140:H141)","v":1000000},{"$f":"SUBTOTAL(9,I140:I141)","v":0},0,1000000,1000000,0]
[null,null,null,null,null,null,"Програмска активност 0602-0014:",{"$f":"SUBTOTAL(9,H140:H141)","v":1000000},{"$f":"SUBTOTAL(9,I140:I141)","v":0},0,1000000,1000000,0]
[null,null,null,null,null,null,null,null,null,null,null,0,0]
[null,null,null,null,null,null,"ПРОГРАМ 1: ЛОКАЛНИ РАЗВОЈ И ПРОСТОРНО ПЛАНИРАЊЕ",null,null,null,{"$f":"H145+I145+J145","v":0},{"$f":"H145+I145+J145","v":0},{"$f":"K145-L145","v":0}]
[null,null,"1101-0001",null,null,null,"Просторно и урбанистичко планирање",null,null,null,0,0,0]
[null,null,null,"160",null,null,"Опште јавне услуге које нису класификоване на другом месту",null,null,null,0,0,0]
[null,null,null,null,65,"511","Зграде и грађевински објекти - Израда пројектне документације",3000000,7495200,null,10495200,10495200,0]
[null,null,null,null,null,null,"Функција 160:",{"$f":"SUBTOTAL(9,H148)","v":3000000},{"$f":"SUBTOTAL(9,I148)","v":7495200},0,10495200,10495200,0]
[null,null,null,null,null,null,"Програмска активност 1101-0001:",{"$f":"SUBTOTAL(9,H148)","v":3000000},{"$f":"SUBTOTAL(9,I148)","v":7495200},0,10495200,10495200,0]
[]
[null,null,1102,null,null,null,"ПРОГРАМ 2: КОМУНАЛНА ДЕЛАТНОСТ",null,null,null,{"$f":"H152+I152+J152","v":0},0,0]
[null,null,"1102-0001",null,null,null,"Јавна расвета",null,null,null,{"$f":"H153+I153+J153","v":0},0,0]
[null,null,null,640,null,null,"Улична расвета",null,null,null,{"$f":"H154+I154+J154","v":0},0,0]
[null,null,null,null,66,421,"Стални трошкови",17000000,null,null,{"$f":"H155+I155+J155","v":17000000},17000000,0]
[null,null,null,null,67,425,"Текуће поправке и одржавање",3300000,null,null,{"$f":"H156+I156+J156","v":3300000},3300000,0]
[null,null,null,null,null,null,"Функција 640:",{"$f":"SUBTOTAL(9,H155:H156)","v":20300000},{"$f":"SUBTOTAL(9,I155:I156)","v":0},0,20300000,20300000,0]
[null,null,null,null,null,null,"Програмска активност 1102-0001:",{"$f":"SUBTOTAL(9,H155:H156)","v":20300000},{"$f":"SUBTOTAL(9,I155:I156)","v":0},0,20300000,20300000,0]
[null,null,null,null,null,null,null,null,null,null,null,0,0]
[null,null,"1102-0002",null,null,null,"Уређење и одржавање зеленила",null,null,null,{"$f":"H160+I160+J160","v":0},0,0]
[null,null,null,660,null,null,"Послови становања и заједнице некласификоване на другом месту",null,null,null,{"$f":"H161+I161+J161","v":0},0,0]
[null,null,null,null,68,424,"Специјализоване услуге - одржавање зеленила",1000000,null,null,{"$f":"H162+I162+J162","v":1000000},1000000,0]
[null,null,null,null,null,null,"Функција 660:",{"$f":"SUBTOTAL(9,H162)","v":1000000},{"$f":"SUBTOTAL(9,I162)","v":0},0,1000000,1000000,0]
[null,null,null,null,null,null,"Програмска активност 1102-0002:",{"$f":"SUBTOTAL(9,H162)","v":1000000},{"$f":"SUBTOTAL(9,I162)","v":0},0,1000000,1000000,0]
[null,null,null,null,null,null,null,null,null,null,null,0,0]
[null,null,"1102-0003",null,null,null,"Јавна хигијена",null,null,null,{"$f":"H166+I166+J166","v":0},0,0]
[null,null,null,660,null,null,"Послови становања и заједнице некласификоване на другом месту",null,null,null,0,0,0]
[null,null,null,null,69,424,"Специјализоване услуге - метење улица",9000000,null,null,9000000,9000000,0]
[null,null,null,null,null,null,"Функција 660:",{"$f":"SUBTOTAL(9,H168)","v":9000000},{"$f":"SUBTOTAL(9,I168)","v":0},0,9000000,9000000,0]
[null,null,null,null,null,null,"Програмска активност 1102-0003:",{"$f":"SUBTOTAL(9,H168)","v":9000000},{"$f":"SUBTOTAL(9,I168)","v":0},0,9000000,9000000,0]
[null,null,null,null,null,null,null,null,null,null,null,0,0]
[null,null,"1102-0004",null,null,null,"Зоохигијена",null,null,null,{"$f":"H172+I172+J172","v":0},0,0]
[null,null,null,"160",null,null,"Опште јавне услуге некласификоване на другом месту",null,null,null,{"$f":"H173+I173+J173","v":0},0,0]
[null,null,null,null,70,"483","Новчане казне и пенали по решењу судова",200000,null,null,{"$f":"H174+I174+J174","v":200000}]
[null,null,null,null,71,"485","Накнаде штете за повреде или штете нанете од стране државних органа",1300000,null,null,{"$f":"H175+I175+J175","v":1300000},1300000,0]
[null,null,null,null,null,null,"Функција 630:",{"$f":"SUBTOTAL(9,H174:H175)","v":1500000},{"$f":"SUBTOTAL(9,I174:I175)","v":0},0,1500000,1500000,0]
[null,null,null,null,null,null,"Програмска активност 1102-0004:",{"$f":"SUBTOTAL(9,H174:H175)","v":1500000},{"$f":"SUBTOTAL(9,I174:I175)","v":0},0,1500000,1500000,0]
[null,null,"1102-0008",null,null,null,"Водоснабдевање",null,null,null,{"$f":"H178+I178+J178","v":0},0,0]
[null,null,null,630,null,null,"Водоснабдевање",null,null,null,{"$f":"H179+I179+J179","v":0},0,0]
[null,null,null,null,72,423,"Услуге по уговору - снабдевање пијаћом водом",250000,null,null,{"$f":"H180+I180+J180","v":250000},250000,0]
[null,null,null,null,73,451,"Реализација посебног програма ЈП \"Комуналац\" Бујановац",25000000,null,null,{"$f":"H181+I181+J181","v":25000000},25000000,0]
[null,null,null,null,null,null,"Функција 630:",{"$f":"SUBTOTAL(9,H180:H181)","v":25250000},{"$f":"SUBTOTAL(9,I180:I181)","v":0},0,25250000,25250000,0]
[null,null,null,null,null,null,"Програмска активност 1102-0008:",{"$f":"SUBTOTAL(9,H180:H181)","v":25250000},{"$f":"SUBTOTAL(9,I180:I181)","v":0},0,25250000,25250000,0]
[null,null,null,null,null,null,null,null,null,null,null,0,0]
[null,null,null,640,null,null,"Улична расвета",null,null,null,{"$f":"H185+I185+J185","v":0},{"$f":"H185+I185+J185","v":0},{"$f":"K185-L185","v":0}]
[null,null,"1102-01",null,74,511,"Изградња трафо станице у селу Билинце",{"$f":"4000000-1000000","v":3000000},null,null,{"$f":"H186+I186+J186","v":3000000},3000000,0]
[null,null,null,null,null,null,"Функција 640:",{"$f":"SUBTOTAL(9,H186)","v":3000000},{"$f":"SUBTOTAL(9,I186)","v":0},0,3000000,3000000,0]
[null,null,null,null,null,null,"Пројекат 1102-01:",{"$f":"SUBTOTAL(9,H186)","v":3000000},{"$f":"SUBTOTAL(9,I186)","v":0},0,3000000,3000000,0]
[null,null,null,640,null,null,"Улична расвета",null,null,null,{"$f":"H189+I189+J189","v":0},0,0]
[null,null,"1102-02",null,75,511,"Изградња трафо-станице у индустријској зони у Бујановцу",4150000,null,null,{"$f":"H190+I190+J190","v":4150000},4150000,0]
[null,null,null,null,null,null,"Функција 640:",{"$f":"SUBTOTAL(9,H190:H190)","v":4150000},{"$f":"SUBTOTAL(9,I190:I190)","v":0},0,4150000,4150000,0]
[null,null,null,null,null,null,"Пројекат 1102-02:",{"$f":"SUBTOTAL(9,H190:H190)","v":4150000},{"$f":"SUBTOTAL(9,I190:I190)","v":0},0,4150000,4150000,0]
[]
[null,null,1501,null,null,null,"ПРОГРАМ 3: ЛОКАЛНИ ЕКОНОМСКИ РАЗВОЈ",null,null,null,{"$f":"H194+I194+J194","v":0},0,0]
[null,null,"1501-0002",null,null,null,"Стручна пракса 2017",null,null,null,{"$f":"H195+I195+J195","v":0},0,0]
[null,null,null,411,null,null,"Општи економски и комерцијални послови",null,null,null,{"$f":"H196+I196+J196","v":0},0,0]
[null,null,null,null,76,"4631","Текући трансфери осталим нивоима власти",25500000,null,null,{"$f":"H197+I197+J197","v":25500000},25500000,0]
[null,null,null,null,null,null,"Функција 411:",{"$f":"SUBTOTAL(9,H197)","v":25500000},{"$f":"SUBTOTAL(9,I197)","v":0},0,25500000,25500000,0]
[null,null,null,null,null,null,"Програмска активност 1501-0002:",{"$f":"SUBTOTAL(9,H197)","v":25500000},{"$f":"SUBTOTAL(9,I197)","v":0},0,25500000,25500000,0]
[null,null,null,null,null,null,null,null,null,null,null,{"$f":"H200+I200+J200","v":0},{"$f":"K200-L200","v":0}]
[null,null,"1501-0003",null,null,null,"Подстицај за развој предузетништва",null,null,null,{"$f":"H201+I201+J201","v":0},0,0]
[null,null,null,null,null,null,"Текуће субвенције предузетницима",null,null,null,{"$f":"H202+I202+J202","v":0},0,0]
[null,null,null,411,null,null,"Општи економски и комерцијални послови",null,null,null,{"$f":"H203+I203+J203","v":0},0,0]
[null,null,null,null,77,"454","Текуће субвенције осталим јавним нефинансијским предузећима",10000000,null,null,{"$f":"H204+I204+J204","v":10000000},10000000,0]
[null,null,null,null,null,null,"Функција 411:",{"$f":"SUBTOTAL(9,H204)","v":10000000},{"$f":"SUBTOTAL(9,I204)","v":0},0,10000000,10000000,0]
[0,null,null,null,null,null,"Програмска активност 1501-0003:",{"$f":"SUBTOTAL(9,H204)","v":10000000},{"$f":"SUBTOTAL(9,I204)","v":0},0,10000000,10000000,0]
[null,null,null,null,null,null,null,null,null,null,null,0,0]
[null,null,"О101",null,null,null,"ПРОГРАМ 5: РАЗВОЈ ПОЉОПРИВРЕДЕ",null,null,null,{"$f":"H208+I208+J208","v":0},0,0]
[null,null,"О101-0002",null,null,null,"Мере подршке руралном развоју",null,null,null,{"$f":"H209+I209+J209","v":0},0,0]
[null,null,null,421,null,null,"Пољопривреда",null,null,null,{"$f":"H210+I210+J210","v":0},0,0]
[null,null,null,null,78,"454","Текуће субвенције пољопривреди",23000000,null,null,{"$f":"H211+I211+J211","v":23000000},23000000,0]
[null,null,null,null,79,"423","Услуге по уговору",2000000,null,null,{"$f":"H212+I212+J212","v":2000000},{"$f":"H212+I212+J212","v":2000000},{"$f":"K212-L212","v":0}]
[null,null,null,null,null,null,"Функција 421:",{"$f":"SUBTOTAL(9,H211:H212)","v":25000000},{"$f":"SUBTOTAL(9,I211:I212)","v":0},0,25000000,25000000,0]
[null,null,null,null,null,null,"Програмска активност 0101-0002:",{"$f":"SUBTOTAL(9,H211:H212)","v":25000000},{"$f":"SUBTOTAL(9,I211:I212)","v":0},0,25000000,25000000,0]
[null,null,null,null,null,null,null,null,null,null,null,0,0]
[null,null,"О401",null,null,null,"ПРОГРАМ 6: ЗАШТИТА ЖИВОТНЕ СРЕДИНЕ",null,null,null,{"$f":"H216+I216+J216","v":0},0,0]
[null,null,"О401-0001",null,null,null,"Управљање заштитом животне средине и природних вредности",null,null,null,{"$f":"H217+I217+J217","v":0},0,0]
[null,null,null,550,null,null,"Заштита животне средине - истраживање и развој",null,null,null,{"$f":"H218+I218+J218","v":0},0,0]
[null,null,null,null,80,"512","Машине и опрема",1000000,null,null,{"$f":"H219+I219+J219","v":1000000},1000000,0]
[null,null,null,null,81,"512","Набавка ауточистилице ",5000000,null,null,{"$f":"H220+I220+J220","v":5000000},5000000,0]
[null,null,null,null,82,512,"Набавка камиона смећара",1564000,null,null,1564000,1564000,0]
[null,null,null,null,null,null,"Функција 550:",{"$f":"SUBTOTAL(9,H219:H221)","v":7564000},{"$f":"SUBTOTAL(9,I219:I221)","v":0},0,7564000,7564000,0]
[null,null,null,null,null,null,"Програмска активност 0401-0001:",{"$f":"SUBTOTAL(9,H219:H221)","v":7564000},{"$f":"SUBTOTAL(9,I219:I221)","v":0},0,7564000,7564000,0]
[]
[null,null,"О401-0005",null,null,null,"Управљање комуналним отпадом",null,null,null,{"$f":"H225+I225+J225","v":0},{"$f":"H225+I225+J225","v":0},{"$f":"K225-L225","v":0}]
[null,null,null,560,null,null,"Заштита животне средине некласификована на другом месту",null,null,null,{"$f":"H226+I226+J226","v":0},{"$f":"H226+I226+J226","v":0},{"$f":"K226-L226","v":0}]
[null,null,null,null,83,511,"Зграде и грађевински објекти - Изградња трансфер станице у Бујановцу",null,20000000,null,{"$f":"H227+I227+J227","v":20000000},{"$f":"H227+I227+J227","v":20000000},{"$f":"K227-L227","v":0}]
[null,null,null,null,null,null,"Функција 560:",{"$f":"SUBTOTAL(9,H227)","v":0},{"$f":"SUBTOTAL(9,I227)","v":20000000},0,20000000,{"$f":"H228+I228+J228","v":20000000},{"$f":"K228-L228","v":0}]
[null,null,null,null,null,null,"Програмска активност 0401-0005:",{"$f":"SUBTOTAL(9,H227)","v":0},{"$f":"SUBTOTAL(9,I227)","v":20000000},0,20000000,{"$f":"H229+I229+J229","v":20000000},{"$f":"K229-L229","v":0}]
[]
[null,null,"0701",null,null,null,"ПРОГРАМ 7: ПУТНА ИНФРАСТРУКТУРА",null,null,null,{"$f":"H231+I231+J231","v":0},{"$f":"H231+I231+J231","v":0},{"$f":"K231-L231","v":0}]
[null,null,null,451,null,null,"Друмски саобраћај",null,null,null,{"$f":"H232+I232+J232","v":0},0,0]
[null,null,"0701-01",null,84,425,"Текуће поправке и одржавање - Пут од Југокопа до Кршевице",null,25600000,null,{"$f":"H233+I233+J233","v":25600000},25600000,0]
[null,null,null,null,null,null,"Функција 451:",{"$f":"SUBTOTAL(9,H233)","v":0},{"$f":"SUBTOTAL(9,I233)","v":25600000},0,25600000,25600000,0]
[null,null,null,null,null,null,"Пројекат 0701-01",{"$f":"SUBTOTAL(9,H233)","v":0},{"$f":"SUBTOTAL(9,I233)","v":25600000},0,25600000,25600000,0]
[null,null,null,null,null,null,null,null,null,null,{"$f":"H236+I236+J236","v":0},0,0]
[null,null,null,451,null,null,"Друмски саобраћај",null,null,null,0,0,0]
[null,null,"0701-02",null,85,"511","Уређење петље на улазу у Бујановац",null,30000000,null,30000000,30000000,0]
[null,null,null,null,null,null,"Функција 451:",{"$f":"SUBTOTAL(9,H238)","v":0},{"$f":"SUBTOTAL(9,I238)","v":30000000},0,30000000,30000000,0]
[null,null,null,null,null,null,"Пројекат 0701-02",{"$f":"SUBTOTAL(9,H238)","v":0},{"$f":"SUBTOTAL(9,I238)","v":30000000},0,30000000,30000000,0]
[null,null,null,null,null,null,null,null,null,null,{"$f":"H241+I241+J241","v":0},0,0]
[null,null,null,451,null,null,"Друмски саобраћај",null,null,null,0,0,0]
[null,null,"0701-03",null,86,"511","Суфинансирање регионалног пута Р125-Б Муховац - Зарбинце",null,26400000,null,26400000,26400000,0]
[null,null,null,null,null,null,"Функција 451:",{"$f":"SUBTOTAL(9,H243)","v":0},{"$f":"SUBTOTAL(9,I243)","v":26400000},0,26400000,26400000,0]
[null,null,null,null,null,null,"Пројекат 0701-03",{"$f":"SUBTOTAL(9,H243)","v":0},{"$f":"SUBTOTAL(9,I243)","v":26400000},0,26400000,26400000,0]
[null,null,null,null,null,null,null,null,null,null,{"$f":"H246+I246+J246","v":0},0,0]
[null,null,null,451,null,null,"Друмски саобраћај",null,null,null,0,0,0]
[null,null,"0701-04",null,null,null,"Афалтирање локалних путева на територији општине Бујановац",{"$f":"SUBTOTAL(9,H249:H254)","v":0},null,{"$f":"SUBTOTAL(9,J249:J254)","v":0},null,0,0]
[null,null,null,null,87,"511","Асфалтирање улице Рамиз Садику у Бујановцу",null,3650000,null,3650000]
[null,null,null,null,88,"511","Асфалтирање улице К. Петровића код Рамадана",null,1900000,null,1900000]
[null,null,null,null,89,"511","Асфалтирање улице Кософска - прилаз 23/4 код Зимере",null,1000000,null,1000000]
[null,null,null,null,90,"511","Асфалтирање улице у селу Кончуљ код Љуљзима",null,1900000,null,1900000]
[null,null,null,null,91,"511","Изградња монтажног моста у Струкарскох махали",null,900000,null,900000]
[null,null,null,null,92,"511","Асфалтирање улице Миђени код гимназије у Бујановцу",null,2650000,null,2650000]
[null,null,null,null,null,null,"Функција 451:",{"$f":"SUBTOTAL(9,H248)","v":0},{"$f":"SUBTOTAL(9,I249:I254)","v":12000000},{"$f":"SUBTOTAL(9,J249:J254)","v":0},{"$f":"SUBTOTAL(9,K249:K254)","v":12000000},{"$f":"H255+I255+J255","v":12000000},{"$f":"K255-L255","v":0}]
[null,null,null,null,null,null,"Пројекат 0701-04",{"$f":"SUBTOTAL(9,H248)","v":0},{"$f":"SUBTOTAL(9,I249:I255)","v":12000000},{"$f":"SUBTOTAL(9,J249:J255)","v":0},12000000,{"$f":"H256+I256+J256","v":12000000},{"$f":"K256-L256","v":0}]
[null,null,null,451,null,null,"Друмски саобраћај",null,null,null,{"$f":"H257+I257+J257","v":0},{"$f":"H257+I257+J257","v":0},{"$f":"K257-L257","v":0}]
[null,null,"0701-05",null,93,"511","Асфалтирање улице Мирослав Нојковић Цале",2500000,null,null,2500000,2500000,0]
[null,null,null,null,null,null,"Функција 451:",{"$f":"SUBTOTAL(9,H258)","v":2500000},{"$f":"SUBTOTAL(9,I258)","v":0},0,2500000,2500000,0]
[null,null,null,null,null,null,"Пројекат 0701-05",{"$f":"SUBTOTAL(9,H258)","v":2500000},{"$f":"SUBTOTAL(9,I258)","v":0},0,2500000,2500000,0]
[null,null,null,null,null,null,null,null,null,null,{"$f":"H261+I261+J261","v":0},{"$f":"H261+I261+J261","v":0},{"$f":"K261-L261","v":0}]
[null,null,null,451,null,null,"Друмски саобраћај",null,null,null,0,0,0]
[null,null,"0701-06",null,94,"425","Крпљење ударних рупа на територији општине Бујановац",3000000,null,null,3000000,3000000,0]
[null,null,null,null,null,null,"Функција 451:",{"$f":"SUBTOTAL(9,H263)","v":3000000},{"$f":"SUBTOTAL(9,I263)","v":0},0,3000000,3000000,0]
[null,null,null,null,null,null,"Пројекат 0701-06",{"$f":"SUBTOTAL(9,H263)","v":3000000},{"$f":"SUBTOTAL(9,I263)","v":0},0,3000000,3000000,0]
[null,null,null,null,null,null,null,null,null,null,{"$f":"H266+I266+J266","v":0},0,0]
[null,null,null,451,null,null,"Друмски саобраћај",null,null,null,0,0,0]
[null,null,"0701-07",null,95,425,"Зимско одржавање путева",3000000,null,null,3000000,3000000,0]
[null,null,null,null,null,null,"Функција 451:",{"$f":"SUBTOTAL(9,H268)","v":3000000},{"$f":"SUBTOTAL(9,I268)","v":0},0,3000000,3000000,0]
[null,null,null,null,null,null,"Пројекат 0701-07",{"$f":"SUBTOTAL(9,H268)","v":3000000},{"$f":"SUBTOTAL(9,I268)","v":0},0,3000000,3000000,0]
[null,null,null,null,null,null,null,null,null,null,{"$f":"H271+I271+J271","v":0},0,0]
[null,null,null,451,null,null,"Друмски саобраћај",null,null,null,0,0,0]
[null,null,"0701-08",null,96,"511","Стручни надзор",2500000,null,null,2500000,2500000,0]
[null,null,null,null,null,null,"Функција 451:",{"$f":"SUBTOTAL(9,H273)","v":2500000},{"$f":"SUBTOTAL(9,I273)","v":0},0,2500000,2500000,0]
[null,null,null,null,null,null,"Пројекат 0701-08",{"$f":"SUBTOTAL(9,H273)","v":2500000},{"$f":"SUBTOTAL(9,I273)","v":0},0,2500000,2500000,0]
[null,null,null,null,null,null,null,null,null,null,{"$f":"H276+I276+J276","v":0},0,0]
[null,null,null,451,null,null,"Друмски саобраћај",null,null,null,0,0,0]
[null,null,"0701-09",null,97,"425","Текуће поправке и одржавање - Одржавање пружних прелаза",2500000,null,null,2500000,2500000,0]
[null,null,null,null,null,null,"Функција 451:",{"$f":"SUBTOTAL(9,H278)","v":2500000},{"$f":"SUBTOTAL(9,I278)","v":0},0,2500000,2500000,0]
[null,null,null,null,null,null,"Пројекат 0701-09",{"$f":"SUBTOTAL(9,H278)","v":2500000},{"$f":"SUBTOTAL(9,I278)","v":0},0,2500000,2500000,0]
[]
[null,null,null,451,null,null,"Друмски саобраћај",null,null,null,{"$f":"H282+I282+J282","v":0},{"$f":"H282+I282+J282","v":0},{"$f":"K282-L282","v":0}]
[null,null,"0701-10",null,null,null,"Изградња моста на реци између Света Петке и Трејака"]
[null,null,null,null,98,"511","Зграде и грађевински објекти",6000000,null,null,6000000,6000000,0]
[null,null,null,null,null,null,"Функција 451:",{"$f":"SUBTOTAL(9,H284)","v":6000000},{"$f":"SUBTOTAL(9,I284)","v":0},0,6000000,6000000,0]
[null,null,null,null,null,null,"Пројекат 0701-10",{"$f":"SUBTOTAL(9,H284)","v":6000000},{"$f":"SUBTOTAL(9,I284)","v":0},0,6000000,6000000,0]
[]
[null,null,null,451,null,null,"Друмски саобраћај",null,null,null,{"$f":"H288+I288+J288","v":0},{"$f":"H288+I288+J288","v":0},{"$f":"K288-L288","v":0}]
[null,null,"0701-11",null,null,null,"Санација клизишта на путу Куштица - Спанчевац"]
[null,null,null,null,99,"425","Текуће поправке и одржавање",2930000,null,null,{"$f":"H290+I290+J290","v":2930000},{"$f":"H290+I290+J290","v":2930000},{"$f":"K290-L290","v":0}]
[null,null,null,null,null,null,"Функција 451:",{"$f":"SUBTOTAL(9,H290)","v":2930000},{"$f":"SUBTOTAL(9,I290)","v":0},0,2930000,2930000,0]
[null,null,null,null,null,null,"Пројекат 0701-11",{"$f":"SUBTOTAL(9,H290)","v":2930000},{"$f":"SUBTOTAL(9,I290)","v":0},0,2930000,2930000,0]
[]
[null,null,null,451,null,null,"Друмски саобраћај",null,null,null,{"$f":"H294+I294+J294","v":0},{"$f":"H294+I294+J294","v":0},{"$f":"K294-L294","v":0}]
[null,null,"0701-12",null,null,null,"Асфалтирање прилазног пута из школског дворишта у с. Раковац Л=80м; шасв=3,0-4,0м, п.двроишта 20*20=400м2"]
[null,null,null,null,100,"511","Зграде и грађевински објекти",1500000,null,null,{"$f":"H296+I296+J296","v":1500000},{"$f":"H296+I296+J296","v":1500000},{"$f":"SUBTOTAL(9,H296:H406)","v":31600000}]
[null,null,null,null,null,null,"Функција 451:",{"$f":"SUBTOTAL(9,H296)","v":1500000},{"$f":"SUBTOTAL(9,I296)","v":0},0,1500000,1500000,{"$f":"K297-L297","v":0}]
[null,null,null,null,null,null,"Пројекат 0701-12",{"$f":"SUBTOTAL(9,H296)","v":1500000},{"$f":"SUBTOTAL(9,I296)","v":0},0,1500000,1500000,0]
[]
[null,null,null,451,null,null,"Друмски саобраћај",null,null,null,{"$f":"H300+I300+J300","v":0},{"$f":"H300+I300+J300","v":0},{"$f":"K300-L300","v":0}]
[null,null,"0701-13",null,null,null,"Асфалтирање улице у селу Осларе према гробљу од асфалтиране улице Л=250м, басф=3м"]
[null,null,null,null,101,"511","Зграде и грађевински објекти",2400000,null,null,{"$f":"H302+I302+J302","v":2400000},{"$f":"H302+I302+J302","v":2400000},{"$f":"K302-L302","v":0}]
[null,null,null,null,null,null,"Функција 451:",{"$f":"SUBTOTAL(9,H302)","v":2400000},{"$f":"SUBTOTAL(9,I302)","v":0},0,2400000,2400000,0]
[null,null,null,null,null,null,"Пројекат 0701-13",{"$f":"SUBTOTAL(9,H302)","v":2400000},{"$f":"SUBTOTAL(9,I302)","v":0},0,2400000,2400000,0]
[]
[null,null,null,451,null,null,"Друмски саобраћај",null,null,null,{"$f":"H306+I306+J306","v":0},{"$f":"H306+I306+J306","v":0},{"$f":"K306-L306","v":0}]
[null,null,"0701-14",null,null,null,"Асфалтирање улице у Бујановачког бањи од старе раскрснице до нове раскрснице Л=100м; басф=4м"]
[null,null,null,null,102,"511","Зграде и грађевински објекти",1551000,null,null,{"$f":"H308+I308+J308","v":1551000},{"$f":"H308+I308+J308","v":1551000},{"$f":"K308-L308","v":0}]
[null,null,null,null,null,null,"Функција 451:",{"$f":"SUBTOTAL(9,H308)","v":1551000},{"$f":"SUBTOTAL(9,I308)","v":0},0,1551000,1551000,0]
[null,null,null,null,null,null,"Пројекат 0701-14:",{"$f":"SUBTOTAL(9,H308)","v":1551000},{"$f":"SUBTOTAL(9,I308)","v":0},0,1551000,1551000,0]
[]
[null,null,null,451,null,null,"Друмски саобраћај",null,null,null,{"$f":"H312+I312+J312","v":0},{"$f":"H312+I312+J312","v":0},{"$f":"K312-L312","v":0}]
[null,null,"0701-15",null,null,null,"Асфалтирање улице у Бујановачког бањи од  нове раскрснице до раскрснице код Воје Л=350м; басф=6м"]
[null,null,null,null,103,"511","Зграде и грађевински објекти",7100000,null,null,{"$f":"H314+I314+J314","v":7100000},{"$f":"H314+I314+J314","v":7100000},{"$f":"K314-L314","v":0}]
[null,null,null,null,null,null,"Функција 451:",{"$f":"SUBTOTAL(9,H314)","v":7100000},{"$f":"SUBTOTAL(9,I314)","v":0},0,7100000,7100000,0]
[null,null,null,null,null,null,"Пројекат 0701-15",{"$f":"SUBTOTAL(9,H314)","v":7100000},{"$f":"SUBTOTAL(9,I314)","v":0},0,7100000,7100000,0]
[]
[null,null,null,451,null,null,"Друмски саобраћај",null,null,null,{"$f":"H318+I318+J318","v":0},{"$f":"H318+I318+J318","v":0},{"$f":"K318-L318","v":0}]
[null,null,"0701-16",null,null,null,"Санације пропуста на путу за село Сејаце Ф=1000"]
[null,null,null,null,104,"425","Текуће поправке и одржавање",200000,null,null,{"$f":"H320+I320+J320","v":200000},{"$f":"H320+I320+J320","v":200000},{"$f":"K320-L320","v":0}]
[null,null,null,null,null,null,"Функција 451:",{"$f":"SUBTOTAL(9,H320)","v":200000},{"$f":"SUBTOTAL(9,I320)","v":0},0,200000,200000,0]
[null,null,null,null,null,null,"Пројекат 0701-16",{"$f":"SUBTOTAL(9,H320)","v":200000},{"$f":"SUBTOTAL(9,I320)","v":0},0,200000,200000,0]
[]
[null,null,null,451,null,null,"Друмски саобраћај",null,null,null,{"$f":"H324+I324+J324","v":0},{"$f":"H324+I324+J324","v":0},{"$f":"K324-L324","v":0}]
[null,null,"0701-17",null,null,null,"Насипање пута у селу Доњи Старац, крак за Церовац Л=1660м; бнас=3,5м"]
[null,null,null,null,105,"425","Текуће поправке и одржавање",3396960,null,null,{"$f":"H326+I326+J326","v":3396960},{"$f":"H326+I326+J326","v":3396960},{"$f":"K326-L326","v":0}]
[null,null,null,null,null,null,"Функција 451:",{"$f":"SUBTOTAL(9,H326)","v":3396960},{"$f":"SUBTOTAL(9,I326)","v":0},0,3396960,3396960,0]
[null,null,null,null,null,null,"Пројекат 0701-17",{"$f":"SUBTOTAL(9,H326)","v":3396960},{"$f":"SUBTOTAL(9,I326)","v":0},0,3396960,3396960,0]
[]
[null,null,null,451,null,null,"Друмски саобраћај",null,null,null,{"$f":"H330+I330+J330","v":0},{"$f":"H330+I330+J330","v":0},{"$f":"K330-L330","v":0}]
[null,null,"0701-18",null,null,null,"Изградња цевастог пропуста на реци на путу за село Доњи Старац у средореку, Ф=2000 Л=4,5м"]
[null,null,null,null,106,"511","Зграде и грађевински објекти",1150000,null,null,{"$f":"H332+I332+J332","v":1150000},{"$f":"H332+I332+J332","v":1150000},{"$f":"K332-L332","v":0}]
[null,null,null,null,null,null,"Функција 451:",{"$f":"SUBTOTAL(9,H332)","v":1150000},{"$f":"SUBTOTAL(9,I332)","v":0},0,1150000,1150000,0]
[null,null,null,null,null,null,"Пројекат 0701-18",{"$f":"SUBTOTAL(9,H332)","v":1150000},{"$f":"SUBTOTAL(9,I332)","v":0},0,1150000,1150000,0]
[]
[null,null,null,451,null,null,"Друмски саобраћај",null,null,null,{"$f":"H336+I336+J336","v":0},{"$f":"H336+I336+J336","v":0},{"$f":"K336-L336","v":0}]
[null,null,"0701-19",null,null,null,"Насипање пута у селу Кленике Л=400м; бнас=3,5м"]
[null,null,null,null,107,"425","Текуће поправке и одржавање",906000,null,null,{"$f":"H338+I338+J338","v":906000},{"$f":"H338+I338+J338","v":906000},{"$f":"K338-L338","v":0}]
[null,null,null,null,null,null,"Функција 451:",{"$f":"SUBTOTAL(9,H338)","v":906000},{"$f":"SUBTOTAL(9,I338)","v":0},0,906000,906000,0]
[null,null,null,null,null,null,"Пројекат 0701-19",{"$f":"SUBTOTAL(9,H338)","v":906000},{"$f":"SUBTOTAL(9,I338)","v":0},0,906000,906000,0]
[]
[null,null,null,451,null,null,"Друмски саобраћај",null,null,null,{"$f":"H342+I342+J342","v":0},{"$f":"H342+I342+J342","v":0},{"$f":"K342-L342","v":0}]
[null,null,"0701-20",null,null,null,"Насипање пута у селу Спанчевац, махала Самарџије Л=350м; бнас=3,5м"]
[null,null,null,null,108,"425","Текуће поправке и одржавање",812000,null,null,{"$f":"H344+I344+J344","v":812000},{"$f":"H344+I344+J344","v":812000},{"$f":"K344-L344","v":0}]
[null,null,null,null,null,null,"Функција 451:",{"$f":"SUBTOTAL(9,H344)","v":812000},{"$f":"SUBTOTAL(9,I344)","v":0},0,812000,812000,0]
[null,null,null,null,null,null,"Пројекат 0701-20",{"$f":"SUBTOTAL(9,H344)","v":812000},{"$f":"SUBTOTAL(9,I344)","v":0},0,812000,812000,0]
[]
[null,null,null,451,null,null,"Друмски саобраћај",null,null,null,{"$f":"H348+I348+J348","v":0},{"$f":"H348+I348+J348","v":0},{"$f":"K348-L348","v":0}]
[null,null,"0701-21",null,null,null,"Насипање пута у селу Жбевац, од асфалтног пута до пруге код куће Стошића Л=250м; бнас=3,5м"]
[null,null,null,null,109,"425","Текуће поправке и одржавање",550000,null,null,{"$f":"H350+I350+J350","v":550000},{"$f":"H350+I350+J350","v":550000},{"$f":"K350-L350","v":0}]
[null,null,null,null,null,null,"Функција 451:",{"$f":"SUBTOTAL(9,H350)","v":550000},{"$f":"SUBTOTAL(9,I350)","v":0},0,550000,550000,0]
[null,null,null,null,null,null,"Пројекат 0701-21",{"$f":"SUBTOTAL(9,H350)","v":550000},{"$f":"SUBTOTAL(9,I350)","v":0},0,550000,550000,0]
[]
[null,null,null,451,null,null,"Друмски саобраћај",null,null,null,{"$f":"H354+I354+J354","v":0},{"$f":"H354+I354+J354","v":0},{"$f":"K354-L354","v":0}]
[null,null,"0701-22",null,null,null,"Санација пропуста на улици преко реке у селу Бараљевац Ф=1000*3"]
[null,null,null,null,110,"425","Текуће поправке и одржавање",300000,null,null,{"$f":"H356+I356+J356","v":300000},{"$f":"H356+I356+J356","v":300000},{"$f":"K356-L356","v":0}]
[null,null,null,null,null,null,"Функција 451:",{"$f":"SUBTOTAL(9,H356)","v":300000},{"$f":"SUBTOTAL(9,I356)","v":0},0,300000,300000,0]
[null,null,null,null,null,null,"Пројекат 0701-22",{"$f":"SUBTOTAL(9,H356)","v":300000},{"$f":"SUBTOTAL(9,I356)","v":0},0,300000,300000,0]
[]
[null,null,null,451,null,null,"Друмски саобраћај",null,null,null,{"$f":"H360+I360+J360","v":0},{"$f":"H360+I360+J360","v":0},{"$f":"K360-L360","v":0}]
[null,null,"0701-23",null,null,null,"Изградња цевастог пропуста на Куштачкој реци на путу Ф=2000; Л=6м"]
[null,null,null,null,111,"511","Зграде и грађевински објекти",1500000,null,null,{"$f":"H362+I362+J362","v":1500000},{"$f":"H362+I362+J362","v":1500000},{"$f":"K362-L362","v":0}]
[null,null,null,null,null,null,"Функција 451:",{"$f":"SUBTOTAL(9,H362)","v":1500000},{"$f":"SUBTOTAL(9,I362)","v":0},0,1500000,1500000,0]
[null,null,null,null,null,null,"Пројекат 0701-23",{"$f":"SUBTOTAL(9,H362)","v":1500000},{"$f":"SUBTOTAL(9,I362)","v":0},0,1500000,1500000,0]
[]
[null,null,null,451,null,null,"Друмски саобраћај",null,null,null,{"$f":"H366+I366+J366","v":0},{"$f":"H366+I366+J366","v":0},{"$f":"K366-L366","v":0}]
[null,null,"0701-24",null,null,null,"Регулација корита реке у зони моста на путу за село Трејак"]
[null,null,null,null,112,"511","Зграде и грађевински објекти",2000000,null,null,{"$f":"H368+I368+J368","v":2000000},{"$f":"H368+I368+J368","v":2000000},{"$f":"K368-L368","v":0}]
[null,null,null,null,null,null,"Функција 451:",{"$f":"SUBTOTAL(9,H368)","v":2000000},{"$f":"SUBTOTAL(9,I368)","v":0},0,2000000,2000000,0]
[null,null,null,null,null,null,"Пројекат 0701-24",{"$f":"SUBTOTAL(9,H368)","v":2000000},{"$f":"SUBTOTAL(9,I368)","v":0},0,2000000,2000000,0]
[]
[null,null,null,451,null,null,"Друмски саобраћај",null,null,null,{"$f":"H372+I372+J372","v":0},{"$f":"H372+I372+J372","v":0},{"$f":"K372-L372","v":0}]
[null,null,"0701-25",null,null,null,"Насипање пута у селу Клиновац од асфалтног пута преко реке до Ђоке Л=220м; бнас=3,5м"]
[null,null,null,null,113,"425","Текуће поправке и одржавање",495000,null,null,{"$f":"H374+I374+J374","v":495000},{"$f":"H374+I374+J374","v":495000},{"$f":"K374-L374","v":0}]
[null,null,null,null,null,null,"Функција 451:",{"$f":"SUBTOTAL(9,H374)","v":495000},{"$f":"SUBTOTAL(9,I374)","v":0},0,495000,495000,0]
[null,null,null,null,null,null,"Пројекат 0701-25",{"$f":"SUBTOTAL(9,H374)","v":495000},{"$f":"SUBTOTAL(9,I374)","v":0},0,495000,495000,0]
[]
[null,null,null,451,null,null,"Друмски саобраћај",null,null,null,{"$f":"H378+I378+J378","v":0},{"$f":"H378+I378+J378","v":0},{"$f":"K378-L378","v":0}]
[null,null,"0701-26",null,null,null,"Асфалтирање улице у селу Српска кућа код Маке Л=130м; басф=3м"]
[null,null,null,null,114,"511","Зграде и грађевински објекти",1188713,null,null,{"$f":"H380+I380+J380","v":1188713},{"$f":"H380+I380+J380","v":1188713},{"$f":"K380-L380","v":0}]
[null,null,null,null,null,null,"Функција 451:",{"$f":"SUBTOTAL(9,H380)","v":1188713},{"$f":"SUBTOTAL(9,I380)","v":0},0,1188713,1188713,0]
[null,null,null,null,null,null,"Пројекат 0701-26",{"$f":"SUBTOTAL(9,H380)","v":1188713},{"$f":"SUBTOTAL(9,I380)","v":0},0,1188713,1188713,0]
[]
[null,null,null,451,null,null,"Друмски саобраћај",null,null,null,{"$f":"H384+I384+J384","v":0},{"$f":"H384+I384+J384","v":0},{"$f":"K384-L384","v":0}]
[null,null,"0701-27",null,null,null,"Асфалтирање улице у селу Српска кућа код Марјана, крак прав Л=150м; басф=3м"]
[null,null,null,null,115,"511","Зграде и грађевински објекти",1360327,null,null,{"$f":"H386+I386+J386","v":1360327},{"$f":"H386+I386+J386","v":1360327},{"$f":"K386-L386","v":0}]
[null,null,null,null,null,null,"Функција 451:",{"$f":"SUBTOTAL(9,H386)","v":1360327},{"$f":"SUBTOTAL(9,I386)","v":0},0,1360327,1360327,0]
[null,null,null,null,null,null,"Пројекат 0701-27",{"$f":"SUBTOTAL(9,H386)","v":1360327},{"$f":"SUBTOTAL(9,I386)","v":0},0,1360327,1360327,0]
[]
[null,null,null,451,null,null,"Друмски саобраћај",null,null,null,{"$f":"H390+I390+J390","v":0},{"$f":"H390+I390+J390","v":0},{"$f":"K390-L390","v":0}]
[null,null,"0701-28",null,null,null,"Изградња тротоара на деоници пута од села Света Петка до села Кленике Л=400м; бтрот=1,2м са обостраним оивичењем"]
[null,null,null,null,116,"511","Зграде и грађевински објекти",2880000,null,null,{"$f":"H392+I392+J392","v":2880000},{"$f":"H392+I392+J392","v":2880000},{"$f":"K392-L392","v":0}]
[null,null,null,null,null,null,"Функција 451:",{"$f":"SUBTOTAL(9,H392)","v":2880000},{"$f":"SUBTOTAL(9,I392)","v":0},0,2880000,2880000,0]
[null,null,null,null,null,null,"Пројекат 0701-28",{"$f":"SUBTOTAL(9,H392)","v":2880000},{"$f":"SUBTOTAL(9,I392)","v":0},0,2880000,2880000,0]
[]
[null,null,null,451,null,null,"Друмски саобраћај",null,null,null,{"$f":"H396+I396+J396","v":0},{"$f":"H396+I396+J396","v":0},{"$f":"K396-L396","v":0}]
[null,null,"0701-29",null,null,null,"Регулација Јашаничког потока"]
[null,null,null,null,117,"425","Текуће поправке и одржавање",1900000,null,null,{"$f":"H398+I398+J398","v":1900000},{"$f":"H398+I398+J398","v":1900000},{"$f":"K398-L398","v":0}]
[null,null,null,null,null,null,"Функција 451:",{"$f":"SUBTOTAL(9,H398)","v":1900000},{"$f":"SUBTOTAL(9,I398)","v":0},0,1900000,1900000,0]
[null,null,null,null,null,null,"Пројекат 0701-29",{"$f":"SUBTOTAL(9,H398)","v":1900000},{"$f":"SUBTOTAL(9,I398)","v":0},0,1900000,1900000,0]
[]
[null,null,null,451,null,null,"Друмски саобраћај",null,null,null,{"$f":"H402+I402+J402","v":0},{"$f":"H402+I402+J402","v":0},{"$f":"K402-L402","v":0}]
[null,null,"0701-30",null,null,null,"Насипање улице у селу Сејаце код Филиповића Л=180м, бнас=3м"]
[null,null,null,null,118,"425","Текуће поправке и одржавање",410000,null,null,{"$f":"H404+I404+J404","v":410000},{"$f":"H404+I404+J404","v":410000},{"$f":"K404-L404","v":0}]
[null,null,null,null,null,null,"Функција 451:",{"$f":"SUBTOTAL(9,H404)","v":410000},{"$f":"SUBTOTAL(9,I404)","v":0},0,410000,410000,0]
[null,null,null,null,null,null,"Пројекат 0701-30",{"$f":"SUBTOTAL(9,H404)","v":410000},{"$f":"SUBTOTAL(9,I404)","v":0},0,410000,410000,0]
[]
[null,null,null,451,null,null,"Друмски саобраћај",null,null,null,{"$f":"H408+I408+J408","v":0},{"$f":"H408+I408+J408","v":0},{"$f":"K408-L408","v":0}]
[null,null,"0701-31",null,null,null,"Асфалтирање улице и дворишта у селу Кончуљ"]
[null,null,null,null,119,"511","Зграде и грађевински објекти",1350000,null,null,{"$f":"H410+I410+J410","v":1350000},{"$f":"H410+I410+J410","v":1350000},{"$f":"K410-L410","v":0}]
[null,null,null,null,null,null,"Функција 451:",{"$f":"SUBTOTAL(9,H410)","v":1350000},{"$f":"SUBTOTAL(9,I410)","v":0},0,1350000,1350000,0]
[null,null,null,null,null,null,"Пројекат 0701-31",{"$f":"SUBTOTAL(9,H410)","v":1350000},{"$f":"SUBTOTAL(9,I410)","v":0},0,1350000,1350000,0]
[]
[null,null,null,451,null,null,"Друмски саобраћај",null,null,null,{"$f":"H414+I414+J414","v":0},{"$f":"H414+I414+J414","v":0},{"$f":"K414-L414","v":0}]
[null,null,"0701-32",null,null,null,"Асфалтирање улице Косовске прилаз 23/1"]
[null,null,null,null,120,"511","Зграде и грађевински објекти",1200000,null,null,{"$f":"H416+I416+J416","v":1200000},{"$f":"H416+I416+J416","v":1200000},{"$f":"K416-L416","v":0}]
[null,null,null,null,null,null,"Функција 451:",{"$f":"SUBTOTAL(9,H416)","v":1200000},{"$f":"SUBTOTAL(9,I416)","v":0},0,1200000,1200000,0]
[null,null,null,null,null,null,"Пројекат 0701-32",{"$f":"SUBTOTAL(9,H416)","v":1200000},{"$f":"SUBTOTAL(9,I416)","v":0},0,1200000,1200000,0]
[]
[null,null,null,451,null,null,"Друмски саобраћај",null,null,null,{"$f":"H420+I420+J420","v":0},{"$f":"H420+I420+J420","v":0},{"$f":"K420-L420","v":0}]
[null,null,"0701-33",null,null,null,"Асфалтирање улице Косовске прилаз 23/2"]
[null,null,null,null,121,"511","Зграде и грађевински објекти",1150000,null,null,{"$f":"H422+I422+J422","v":1150000},{"$f":"H422+I422+J422","v":1150000},{"$f":"K422-L422","v":0}]
[null,null,null,null,null,null,"Функција 451:",{"$f":"SUBTOTAL(9,H422)","v":1150000},{"$f":"SUBTOTAL(9,I422)","v":0},0,1150000,1150000,0]
[null,null,null,null,null,null,"Пројекат 0701-33",{"$f":"SUBTOTAL(9,H422)","v":1150000},{"$f":"SUBTOTAL(9,I422)","v":0},0,1150000,1150000,0]
[]
[null,null,null,451,null,null,"Друмски саобраћај",null,null,null,{"$f":"H426+I426+J426","v":0},{"$f":"H426+I426+J426","v":0},{"$f":"K426-L426","v":0}]
[null,null,"0701-34",null,null,null,"Асфалтирање улице у селу Велики Трновац код Нагипа"]
[null,null,null,null,122,"511","Зграде и грађевински објекти",3450000,null,null,{"$f":"H428+I428+J428","v":3450000},{"$f":"H428+I428+J428","v":3450000},{"$f":"K428-L428","v":0}]
[null,null,null,null,null,null,"Функција 451:",{"$f":"SUBTOTAL(9,H428)","v":3450000},{"$f":"SUBTOTAL(9,I428)","v":0},0,3450000,3450000,0]
[null,null,null,null,null,null,"Пројекат 0701-34",{"$f":"SUBTOTAL(9,H428)","v":3450000},{"$f":"SUBTOTAL(9,I428)","v":0},0,3450000,3450000,0]
[]
[null,null,null,451,null,null,"Друмски саобраћај",null,null,null,{"$f":"H432+I432+J432","v":0},{"$f":"H432+I432+J432","v":0},{"$f":"K432-L432","v":0}]
[null,null,"0701-35",null,null,null,"Асфалтирање улице у селу Велики Трновац код Наима"]
[null,null,null,null,123,"511","Зграде и грађевински објекти",1050000,null,null,{"$f":"H434+I434+J434","v":1050000},{"$f":"H434+I434+J434","v":1050000},{"$f":"K434-L434","v":0}]
[null,null,null,null,null,null,"Функција 451:",{"$f":"SUBTOTAL(9,H434)","v":1050000},{"$f":"SUBTOTAL(9,I434)","v":0},0,1050000,1050000,0]
[null,null,null,null,null,null,"Пројекат 0701-35",{"$f":"SUBTOTAL(9,H434)","v":1050000},{"$f":"SUBTOTAL(9,I434)","v":0},0,1050000,1050000,0]
[]
[null,null,null,451,null,null,"Друмски саобраћај",null,null,null,{"$f":"H438+I438+J438","v":0},{"$f":"H438+I438+J438","v":0},{"$f":"K438-L438","v":0}]
[null,null,"0701-36",null,null,null,"Асфалтирање улице у селу Велики Трновац, Ибов сокак"]
[null,null,null,null,124,"511","Зграде и грађевински објекти",800000,null,null,{"$f":"H440+I440+J440","v":800000},{"$f":"H440+I440+J440","v":800000},{"$f":"K440-L440","v":0}]
[null,null,null,null,null,null,"Функција 451:",{"$f":"SUBTOTAL(9,H440)","v":800000},{"$f":"SUBTOTAL(9,I440)","v":0},0,800000,800000,0]
[null,null,null,null,null,null,"Пројекат 0701-36",{"$f":"SUBTOTAL(9,H440)","v":800000},{"$f":"SUBTOTAL(9,I440)","v":0},0,800000,800000,0]
[]
[null,null,null,451,null,null,"Друмски саобраћај",null,null,null,{"$f":"H444+I444+J444","v":0},{"$f":"H444+I444+J444","v":0},{"$f":"K444-L444","v":0}]
[null,null,"0701-37",null,null,null,"Асфалтирање улице у селу Велики Трновац Хаџи Муса"]
[null,null,null,null,125,"511","Зграде и грађевински објекти",1150000,null,null,{"$f":"H446+I446+J446","v":1150000},{"$f":"H446+I446+J446","v":1150000},{"$f":"K446-L446","v":0}]
[null,null,null,null,null,null,"Функција 451:",{"$f":"SUBTOTAL(9,H446)","v":1150000},{"$f":"SUBTOTAL(9,I446)","v":0},0,1150000,1150000,0]
[null,null,null,null,null,null,"Пројекат 0701-37",{"$f":"SUBTOTAL(9,H446)","v":1150000},{"$f":"SUBTOTAL(9,I446)","v":0},0,1150000,1150000,0]
[]
[null,null,null,451,null,null,"Друмски саобраћај",null,null,null,{"$f":"H450+I450+J450","v":0},{"$f":"H450+I450+J450","v":0},{"$f":"K450-L450","v":0}]
[null,null,"0701-38",null,null,null,"Асфалтирање улице у селу Велики Трновац код Нехата"]
[null,null,null,null,126,"511","Зграде и грађевински објекти",4450000,null,null,{"$f":"H452+I452+J452","v":4450000},{"$f":"H452+I452+J452","v":4450000},{"$f":"K452-L452","v":0}]
[null,null,null,null,null,null,"Функција 451:",{"$f":"SUBTOTAL(9,H452)","v":4450000},{"$f":"SUBTOTAL(9,I452)","v":0},0,4450000,4450000,0]
[null,null,null,null,null,null,"Пројекат 0701-38",{"$f":"SUBTOTAL(9,H452)","v":4450000},{"$f":"SUBTOTAL(9,I452)","v":0},0,4450000,4450000,0]
[]
[null,null,null,451,null,null,"Друмски саобраћај",null,null,null,{"$f":"H456+I456+J456","v":0},{"$f":"H456+I456+J456","v":0},{"$f":"K456-L456","v":0}]
[null,null,"0701-39",null,null,null,"Асфалтирање улице у селу Велики Трновац код Фатона"]
[null,null,null,null,127,"511","Зграде и грађевински објекти",500000,null,null,{"$f":"H458+I458+J458","v":500000},{"$f":"H458+I458+J458","v":500000},{"$f":"K458-L458","v":0}]
[null,null,null,null,null,null,"Функција 451:",{"$f":"SUBTOTAL(9,H458)","v":500000},{"$f":"SUBTOTAL(9,I458)","v":0},0,500000,500000,0]
[null,null,null,null,null,null,"Пројекат 0701-39",{"$f":"SUBTOTAL(9,H458)","v":500000},{"$f":"SUBTOTAL(9,I458)","v":0},0,500000,500000,0]
[]
[null,null,null,451,null,null,"Друмски саобраћај",null,null,null,{"$f":"H462+I462+J462","v":0},{"$f":"H462+I462+J462","v":0},{"$f":"K462-L462","v":0}]
[null,null,"0701-40",null,null,null,"Асфалтирање улице у селу Велики Трновац код Фаика"]
[null,null,null,null,128,"511","Зграде и грађевински објекти",1450000,null,null,{"$f":"H464+I464+J464","v":1450000},{"$f":"H464+I464+J464","v":1450000},{"$f":"K464-L464","v":0}]
[null,null,null,null,null,null,"Функција 451:",{"$f":"SUBTOTAL(9,H464)","v":1450000},{"$f":"SUBTOTAL(9,I464)","v":0},0,1450000,1450000,0]
[null,null,null,null,null,null,"Пројекат 0701-40",{"$f":"SUBTOTAL(9,H464)","v":1450000},{"$f":"SUBTOTAL(9,I464)","v":0},0,1450000,1450000,0]
[]
[null,null,null,451,null,null,"Друмски саобраћај",null,null,null,{"$f":"H468+I468+J468","v":0},{"$f":"H468+I468+J468","v":0},{"$f":"K468-L468","v":0}]
[null,null,"0701-41",null,null,null,"Асфалтирање улице у селу Велики Трновац код Јетона"]
[null,null,null,null,129,"511","Зграде и грађевински објекти",850000,null,null,{"$f":"H470+I470+J470","v":850000},{"$f":"H470+I470+J470","v":850000},{"$f":"K470-L470","v":0}]
[null,null,null,null,null,null,"Функција 451:",{"$f":"SUBTOTAL(9,H470)","v":850000},{"$f":"SUBTOTAL(9,I470)","v":0},0,850000,850000,0]
[null,null,null,null,null,null,"Пројекат 0701-41",{"$f":"SUBTOTAL(9,H470)","v":850000},{"$f":"SUBTOTAL(9,I470)","v":0},0,850000,850000,0]
[]
[null,null,null,451,null,null,"Друмски саобраћај",null,null,null,{"$f":"H474+I474+J474","v":0},{"$f":"H474+I474+J474","v":0},{"$f":"K474-L474","v":0}]
[null,null,"0701-42",null,null,null,"Асфалтирање улице у селу Велики Трновац код Халима"]
[null,null,null,null,130,"511","Зграде и грађевински објекти",1950000,null,null,{"$f":"H476+I476+J476","v":1950000},{"$f":"H476+I476+J476","v":1950000},{"$f":"K476-L476","v":0}]
[null,null,null,null,null,null,"Функција 451:",{"$f":"SUBTOTAL(9,H476)","v":1950000},{"$f":"SUBTOTAL(9,I476)","v":0},0,1950000,1950000,0]
[null,null,null,null,null,null,"Пројекат 0701-42",{"$f":"SUBTOTAL(9,H476)","v":1950000},{"$f":"SUBTOTAL(9,I476)","v":0},0,1950000,1950000,0]
[]
[null,null,null,451,null,null,"Друмски саобраћај",null,null,null,{"$f":"H480+I480+J480","v":0},{"$f":"H480+I480+J480","v":0},{"$f":"K480-L480","v":0}]
[null,null,"0701-43",null,null,null,"Асфалтирање улице у селу Биљача код школе"]
[null,null,null,null,131,"511","Зграде и грађевински објекти",2450000,null,null,{"$f":"H482+I482+J482","v":2450000},{"$f":"H482+I482+J482","v":2450000},{"$f":"K482-L482","v":0}]
[null,null,null,null,null,null,"Функција 451:",{"$f":"SUBTOTAL(9,H482)","v":2450000},{"$f":"SUBTOTAL(9,I482)","v":0},0,2450000,2450000,0]
[null,null,null,null,null,null,"Пројекат 0701-43",{"$f":"SUBTOTAL(9,H482)","v":2450000},{"$f":"SUBTOTAL(9,I482)","v":0},0,2450000,2450000,0]
[]
[null,null,null,451,null,null,"Друмски саобраћај",null,null,null,{"$f":"H486+I486+J486","v":0},{"$f":"H486+I486+J486","v":0},{"$f":"K486-L486","v":0}]
[null,null,"0701-44",null,null,null,"Асфалтирање улице у селу Биљача код Руфата"]
[null,null,null,null,132,"511","Зграде и грађевински објекти",1450000,null,null,{"$f":"H488+I488+J488","v":1450000},{"$f":"H488+I488+J488","v":1450000},{"$f":"K488-L488","v":0}]
[null,null,null,null,null,null,"Функција 451:",{"$f":"SUBTOTAL(9,H488)","v":1450000},{"$f":"SUBTOTAL(9,I488)","v":0},0,1450000,1450000,0]
[null,null,null,null,null,null,"Пројекат 0701-44",{"$f":"SUBTOTAL(9,H488)","v":1450000},{"$f":"SUBTOTAL(9,I488)","v":0},0,1450000,1450000,0]
[]
[null,null,null,451,null,null,"Друмски саобраћај",null,null,null,{"$f":"H492+I492+J492","v":0},{"$f":"H492+I492+J492","v":0},{"$f":"K492-L492","v":0}]
[null,null,"0701-45",null,null,null,"Асфалтирање улице у селу Самољица доња махала"]
[null,null,null,null,133,"511","Зграде и грађевински објекти",1550000,null,null,{"$f":"H494+I494+J494","v":1550000},{"$f":"H494+I494+J494","v":1550000},{"$f":"K494-L494","v":0}]
[null,null,null,null,null,null,"Функција 451:",{"$f":"SUBTOTAL(9,H494)","v":1550000},{"$f":"SUBTOTAL(9,I494)","v":0},0,1550000,1550000,0]
[null,null,null,null,null,null,"Пројекат 0701-45",{"$f":"SUBTOTAL(9,H494)","v":1550000},{"$f":"SUBTOTAL(9,I494)","v":0},0,1550000,1550000,0]
[]
[null,null,null,451,null,null,"Друмски саобраћај",null,null,null,{"$f":"H498+I498+J498","v":0},{"$f":"H498+I498+J498","v":0},{"$f":"K498-L498","v":0}]
[null,null,"0701-46",null,null,null,"Асфалтирање улице у селу Кончуљ, Азирска"]
[null,null,null,null,134,"511","Зграде и грађевински објекти",1250000,null,null,{"$f":"H500+I500+J500","v":1250000},{"$f":"H500+I500+J500","v":1250000},{"$f":"K500-L500","v":0}]
[null,null,null,null,null,null,"Функција 451:",{"$f":"SUBTOTAL(9,H500)","v":1250000},{"$f":"SUBTOTAL(9,I500)","v":0},0,1250000,1250000,0]
[null,null,null,null,null,null,"Пројекат 0701-46",{"$f":"SUBTOTAL(9,H500)","v":1250000},{"$f":"SUBTOTAL(9,I500)","v":0},0,1250000,1250000,0]
[]
[null,null,null,451,null,null,"Друмски саобраћај",null,null,null,{"$f":"H504+I504+J504","v":0},{"$f":"H504+I504+J504","v":0},{"$f":"K504-L504","v":0}]
[null,null,"0701-47",null,null,null,"Проширење пута Несалце - Летовица"]
[null,null,null,null,135,"511","Зграде и грађевински објекти",4450000,null,null,{"$f":"H506+I506+J506","v":4450000},{"$f":"H506+I506+J506","v":4450000},{"$f":"K506-L506","v":0}]
[null,null,null,null,null,null,"Функција 451:",{"$f":"SUBTOTAL(9,H506)","v":4450000},{"$f":"SUBTOTAL(9,I506)","v":0},0,4450000,4450000,0]
[null,null,null,null,null,null,"Пројекат 0701-47",{"$f":"SUBTOTAL(9,H506)","v":4450000},{"$f":"SUBTOTAL(9,I506)","v":0},0,4450000,4450000,0]
[]
[null,null,null,451,null,null,"Друмски саобраћај",null,null,null,{"$f":"H510+I510+J510","v":0},{"$f":"H510+I510+J510","v":0},{"$f":"K510-L510","v":0}]
[null,null,"0701-48",null,null,null,"Асфалтирање улице Горња Летовица"]
[null,null,null,null,136,"511","Зграде и грађевински објекти",1250000,null,null,{"$f":"H512+I512+J512","v":1250000},{"$f":"H512+I512+J512","v":1250000},{"$f":"K512-L512","v":0}]
[null,null,null,null,null,null,"Функција 451:",{"$f":"SUBTOTAL(9,H512)","v":1250000},{"$f":"SUBTOTAL(9,I512)","v":0},0,1250000,1250000,0]
[null,null,null,null,null,null,"Пројекат 0701-48",{"$f":"SUBTOTAL(9,H512)","v":1250000},{"$f":"SUBTOTAL(9,I512)","v":0},0,1250000,1250000,0]
[]
[null,null,null,451,null,null,"Друмски саобраћај",null,null,null,{"$f":"H516+I516+J516","v":0},{"$f":"H516+I516+J516","v":0},{"$f":"K516-L516","v":0}]
[null,null,"0701-49",null,null,null,"Асфалтирање улице у селу Лучане иза Дома културе"]
[null,null,null,null,137,"511","Зграде и грађевински објекти",1450000,null,null,{"$f":"H518+I518+J518","v":1450000},{"$f":"H518+I518+J518","v":1450000},{"$f":"K518-L518","v":0}]
[null,null,null,null,null,null,"Функција 451:",{"$f":"SUBTOTAL(9,H518)","v":1450000},{"$f":"SUBTOTAL(9,I518)","v":0},0,1450000,1450000,0]
[null,null,null,null,null,null,"Пројекат 0701-49",{"$f":"SUBTOTAL(9,H518)","v":1450000},{"$f":"SUBTOTAL(9,I518)","v":0},0,1450000,1450000,0]
[]
[null,null,null,451,null,null,"Друмски саобраћај",null,null,null,{"$f":"H522+I522+J522","v":0},{"$f":"H522+I522+J522","v":0},{"$f":"K522-L522","v":0}]
[null,null,"0701-50",null,null,null,"Асфалтирање улице у селу Лучане иза Џамије"]
[null,null,null,null,138,"511","Зграде и грађевински објекти",950000,null,null,{"$f":"H524+I524+J524","v":950000},{"$f":"H524+I524+J524","v":950000},{"$f":"K524-L524","v":0}]
[null,null,null,null,null,null,"Функција 451:",{"$f":"SUBTOTAL(9,H524)","v":950000},{"$f":"SUBTOTAL(9,I524)","v":0},0,950000,950000,0]
[null,null,null,null,null,null,"Пројекат 0701-50",{"$f":"SUBTOTAL(9,H524)","v":950000},{"$f":"SUBTOTAL(9,I524)","v":0},0,950000,950000,0]
[]
[null,null,null,451,null,null,"Друмски саобраћај",null,null,null,{"$f":"H528+I528+J528","v":0},{"$f":"H528+I528+J528","v":0},{"$f":"K528-L528","v":0}]
[null,null,"0701-51",null,null,null,"Асфалтирање улице у селу Самољица Л=180*3м"]
[null,null,null,null,139,"511","Зграде и грађевински објекти",1850000,null,null,{"$f":"H530+I530+J530","v":1850000},{"$f":"H530+I530+J530","v":1850000},{"$f":"K530-L530","v":0}]
[null,null,null,null,null,null,"Функција 451:",{"$f":"SUBTOTAL(9,H530)","v":1850000},{"$f":"SUBTOTAL(9,I530)","v":0},0,1850000,1850000,0]
[null,null,null,null,null,null,"Пројекат 0701-51",{"$f":"SUBTOTAL(9,H530)","v":1850000},{"$f":"SUBTOTAL(9,I530)","v":0},0,1850000,1850000,0]
[]
[null,null,null,451,null,null,"Друмски саобраћај",null,null,null,{"$f":"H534+I534+J534","v":0},{"$f":"H534+I534+J534","v":0},{"$f":"K534-L534","v":0}]
[null,null,"0701-52",null,null,null,"Асфалтирање улице у селу Самољица Л=95*4м"]
[null,null,null,null,140,"511","Зграде и грађевински објекти",850000,null,null,{"$f":"H536+I536+J536","v":850000},{"$f":"H536+I536+J536","v":850000},{"$f":"K536-L536","v":0}]
[null,null,null,null,null,null,"Функција 451:",{"$f":"SUBTOTAL(9,H536)","v":850000},{"$f":"SUBTOTAL(9,I536)","v":0},0,850000,850000,0]
[null,null,null,null,null,null,"Пројекат 0701-52",{"$f":"SUBTOTAL(9,H536)","v":850000},{"$f":"SUBTOTAL(9,I536)","v":0},0,850000,850000,0]
[]
[null,null,null,451,null,null,"Друмски саобраћај",null,null,null,{"$f":"H540+I540+J540","v":0},{"$f":"H540+I540+J540","v":0},{"$f":"K540-L540","v":0}]
[null,null,"0701-53",null,null,null,"Асфалтирање улице у селу Самољица Л=160*3м"]
[null,null,null,null,141,"511","Зграде и грађевински објекти",1650000,null,null,{"$f":"H542+I542+J542","v":1650000},{"$f":"H542+I542+J542","v":1650000},{"$f":"K542-L542","v":0}]
[null,null,null,null,null,null,"Функција 451:",{"$f":"SUBTOTAL(9,H542)","v":1650000},{"$f":"SUBTOTAL(9,I542)","v":0},0,1650000,1650000,0]
[null,null,null,null,null,null,"Пројекат 0701-53",{"$f":"SUBTOTAL(9,H542)","v":1650000},{"$f":"SUBTOTAL(9,I542)","v":0},0,1650000,1650000,0]
[]
[null,null,null,451,null,null,"Друмски саобраћај",null,null,null,{"$f":"H546+I546+J546","v":0},{"$f":"H546+I546+J546","v":0},{"$f":"K546-L546","v":0}]
[null,null,"0701-54",null,null,null,"Асфалтирање улице у селу Осларе, Хајердинска"]
[null,null,null,null,142,"511","Зграде и грађевински објекти",3350000,null,null,{"$f":"H548+I548+J548","v":3350000},{"$f":"H548+I548+J548","v":3350000},{"$f":"K548-L548","v":0}]
[null,null,null,null,null,null,"Функција 451:",{"$f":"SUBTOTAL(9,H548)","v":3350000},{"$f":"SUBTOTAL(9,I548)","v":0},0,3350000,3350000,0]
[null,null,null,null,null,null,"Пројекат 0701-54",{"$f":"SUBTOTAL(9,H548)","v":3350000},{"$f":"SUBTOTAL(9,I548)","v":0},0,3350000,3350000,0]
[]
[null,null,null,451,null,null,"Друмски саобраћај",null,null,null,{"$f":"H552+I552+J552","v":0},{"$f":"H552+I552+J552","v":0},{"$f":"K552-L552","v":0}]
[null,null,"0701-55",null,null,null,"Асфалтирање пута Брезница - Муховац"]
[null,null,null,null,143,"511","Зграде и грађевински објекти",1950000,null,null,{"$f":"H554+I554+J554","v":1950000},{"$f":"H554+I554+J554","v":1950000},{"$f":"K554-L554","v":0}]
[null,null,null,null,null,null,"Функција 451:",{"$f":"SUBTOTAL(9,H554)","v":1950000},{"$f":"SUBTOTAL(9,I554)","v":0},0,1950000,1950000,0]
[null,null,null,null,null,null,"Пројекат 0701-55",{"$f":"SUBTOTAL(9,H554)","v":1950000},{"$f":"SUBTOTAL(9,I554)","v":0},0,1950000,1950000,0]
[]
[null,null,null,451,null,null,"Друмски саобраћај",null,null,null,{"$f":"H558+I558+J558","v":0},{"$f":"H558+I558+J558","v":0},{"$f":"K558-L558","v":0}]
[null,null,"0701-56",null,null,null,"Израда тротоара у селу Турија"]
[null,null,null,null,144,"511","Зграде и грађевински објекти",700000,null,null,{"$f":"H560+I560+J560","v":700000},{"$f":"H560+I560+J560","v":700000},{"$f":"K560-L560","v":0}]
[null,null,null,null,null,null,"Функција 451:",{"$f":"SUBTOTAL(9,H560)","v":700000},{"$f":"SUBTOTAL(9,I560)","v":0},0,700000,700000,0]
[null,null,null,null,null,null,"Пројекат 0701-56",{"$f":"SUBTOTAL(9,H560)","v":700000},{"$f":"SUBTOTAL(9,I560)","v":0},0,700000,700000,0]
[]
[null,null,null,451,null,null,"Друмски саобраћај",null,null,null,{"$f":"H564+I564+J564","v":0},{"$f":"H564+I564+J564","v":0},{"$f":"K564-L564","v":0}]
[null,null,"0701-57",null,null,null,"Асфалтирање улице у селу Велики Трновац код Иљаза"]
[null,null,null,null,145,"511","Зграде и грађевински објекти",600000,null,null,{"$f":"H566+I566+J566","v":600000},{"$f":"H566+I566+J566","v":600000},{"$f":"K566-L566","v":0}]
[null,null,null,null,null,null,"Функција 451:",{"$f":"SUBTOTAL(9,H566)","v":600000},{"$f":"SUBTOTAL(9,I566)","v":0},0,600000,600000,0]
[null,null,null,null,null,null,"Пројекат 0701-57",{"$f":"SUBTOTAL(9,H566)","v":600000},{"$f":"SUBTOTAL(9,I566)","v":0},0,600000,600000,0]
[]
[null,null,null,451,null,null,"Друмски саобраћај",null,null,null,{"$f":"H570+I570+J570","v":0},{"$f":"H570+I570+J570","v":0},{"$f":"K570-L570","v":0}]
[null,null,"0701-58",null,null,null,"Асфалтирање улице у селу Велики Трновац код Арбена, Исендриска"]
[null,null,null,null,146,"511","Зграде и грађевински објекти",700000,null,null,{"$f":"H572+I572+J572","v":700000},{"$f":"H572+I572+J572","v":700000},{"$f":"K572-L572","v":0}]
[null,null,null,null,null,null,"Функција 451:",{"$f":"SUBTOTAL(9,H572)","v":700000},{"$f":"SUBTOTAL(9,I572)","v":0},0,700000,700000,0]
[null,null,null,null,null,null,"Пројекат 0701-58",{"$f":"SUBTOTAL(9,H572)","v":700000},{"$f":"SUBTOTAL(9,I572)","v":0},0,700000,700000,0]
[]
[null,null,null,451,null,null,"Друмски саобраћај",null,null,null,{"$f":"H576+I576+J576","v":0},{"$f":"H576+I576+J576","v":0},{"$f":"K576-L576","v":0}]
[null,null,"0701-59",null,null,null,"Асфалтирање улице у селу Летовица код Џемаила"]
[null,null,null,null,147,"511","Зграде и грађевински објекти",1100000,null,null,{"$f":"H578+I578+J578","v":1100000},{"$f":"H578+I578+J578","v":1100000},{"$f":"K578-L578","v":0}]
[null,null,null,null,null,null,"Функција 451:",{"$f":"SUBTOTAL(9,H578)","v":1100000},{"$f":"SUBTOTAL(9,I578)","v":0},0,1100000,1100000,0]
[null,null,null,null,null,null,"Пројекат 0701-59",{"$f":"SUBTOTAL(9,H578)","v":1100000},{"$f":"SUBTOTAL(9,I578)","v":0},0,1100000,1100000,0,{"$f":"SUBTOTAL(9,H410:H580)","v":46900000}]
[]
[null,null,null,451,null,null,"Друмски саобраћај",null,null,null,{"$f":"H582+I582+J582","v":0},{"$f":"H582+I582+J582","v":0},{"$f":"K582-L582","v":0}]
[null,null,"0701-60",null,null,null,"Изградња моста у селу Муховац"]
[null,null,null,null,148,"511","Зграде и грађевински објекти",700000,null,null,{"$f":"H584+I584+J584","v":700000},{"$f":"H584+I584+J584","v":700000},{"$f":"K584-L584","v":0}]
[null,null,null,null,null,null,"Функција 451:",{"$f":"SUBTOTAL(9,H584)","v":700000},{"$f":"SUBTOTAL(9,I584)","v":0},0,700000,700000,0]
[null,null,null,null,null,null,"Пројекат 0701-60",{"$f":"SUBTOTAL(9,H584)","v":700000},{"$f":"SUBTOTAL(9,I584)","v":0},0,700000,700000,0,{"$f":"SUBTOTAL(9,H416:H586)","v":46250000}]
[null,null,null,null,null,null,null,null,null,null,null,0,0]
[5,null,2002,null,null,null,"ПРОГРАМ 9: ОСНОВНО ОБРАЗОВАЊЕ",null,null,null,{"$f":"H588+I588+J588","v":0},0,0]
[null,null,"2002-0001",null,null,null,"Функционисање основних школа ",null,null,null,0,0,0]
[null,null,null,912,null,null,"Основно образовање",null,null,null,0,0,0]
[null,null,null,null,149,463,"Трансфер 421 Стални трошкови",27402600,null,null,27402600,27402600,0]
[null,null,null,null,150,463,"Трансфер 422 Трошкови путовања",20356000,null,null,20356000,20356000,0]
[null,null,null,null,151,463,"Трансфер 423 Услуге по уговору",1091000,null,null,1091000,1091000,0]
[null,null,null,null,152,463,"Трансфер 424 Специјализоване услуге",525000,null,null,525000,525000,0]
[null,null,null,null,153,463,"Трансфер 425 Текуће поправке и одржавање",5613000,null,null,5613000,5613000,0]
[null,null,null,null,154,463,"Трансфер 426 Материјал",4148200,null,null,4148200,4148200,0]
[null,null,null,null,null,null,"Функција 912:",{"$f":"SUBTOTAL(9,H591:H596)","v":59135800},{"$f":"SUBTOTAL(9,I591:I596)","v":0},0,59135800,59135800,0]
[null,null,null,null,null,null,"Програмска активност 2002-0001:",{"$f":"SUBTOTAL(9,H591:H596)","v":59135800},{"$f":"SUBTOTAL(9,I591:I596)","v":0},0,59135800,59135800,0]
[null,null,null,null,null,null,null,null,null,null,null,0,0]
[null,null,"2002-0001",null,null,null,"Функционисање основних школа ",null,null,null,{"$f":"H600+I600+J600","v":0},0,0]
[null,null,null,960,null,null,"Помоћне услуге у образовању",null,null,null,0,0,0]
[null,null,null,null,155,463,"Трансфер 416 - Јубиларне награде (основно образовање)",{"$f":"SUBTOTAL(9,H603:H614)","v":4754300},{"$f":"SUBTOTAL(9,I603:I614)","v":0},0,4754300,4754300,0]
[null,null,null,null,null,null,"Ова апропријација је намењена:",null,null,null,0,0,0]
[null,null,null,null,null,null,"ОШ ''Б. Радичевић'' Бујановац",800000,null,null,800000,800000,0]
[null,null,null,null,null,null,"ОШ ''М. Кадриу'' В. Трновац",750000,null,null,750000,750000,0]
[null,null,null,null,null,null,"ОШ ''Б. Станковић'' Кленике",220000,null,null,220000,220000,0]
[null,null,null,null,null,null,"ОШ ''В .С. Караџић'' Левосоје",469900,null,null,469900,469900,0]
[null,null,null,null,null,null,"ОШ ''Д. Максимовић'' Биљача",482300,null,null,482300,482300,0]
[null,null,null,null,null,null,"ОШ ''Н. Фрашери'' Бујановац",436600,null,null,436600,436600,0]
[null,null,null,null,null,null,"ОШ ''Миђени'' Муховац",205000,null,null,205000,205000,0]
[null,null,null,null,null,null,"ОШ ''Д. Трајковић'' Жбевац",475500,null,null,475500,475500,0]
[null,null,null,null,null,null,"ОШ ''С. Фрашери'' Лучане",250000,null,null,250000,250000,0]
[null,null,null,null,null,null,"ОШ ''А. Бекташи'' Несалце",365000,null,null,365000,365000,0]
[null,null,null,null,null,null,"Основна музичка школа Бујановац",300000,null,null,300000,300000,0]
[null,null,null,null,156,463,"Трансфер - Персонални асистенти",2000000,null,null,2000000,2000000,0]
[null,null,null,null,157,463,"Текући трансфери  образовању - такмичења",500000,null,null,500000,{"$f":"H616+I616+J616","v":500000},0]
[null,null,null,null,158,463,"Текући трансфери  образовању - стручно усавршавање",500000,null,null,500000,500000,{"$f":"K617-L617","v":0}]
[null,null,null,null,159,"463","Трансфер 483 Новчане казне и пенали по решењу судова",{"$f":"60000","v":60000},null,null,60000,60000,0]
[null,null,null,null,160,463,"Капитални трансфери образовању (набавка машина и опреме)",{"$f":"1000000+1000000","v":2000000},null,null,2000000,2000000,0]
[null,null,null,null,161,463,"Текући трансфери у образовању - О.ш. \"Вук Караџић\" Левосоје",150000,null,null,150000,150000,0]
[null,null,null,null,162,463,"Текући трансфери образовању - помоћ у случају смрти члана или члана уже породице",240000,null,null,240000,240000,0]
[null,null,null,null,163,463,"Текући трансфери образовању - помоћ у медицинском лечењу ",120000,null,null,120000,120000,0]
[null,null,null,null,null,null,"Функција 960:",{"$f":"SUBTOTAL(9,H602:H622)","v":10324300},{"$f":"SUBTOTAL(9,I602:I622)","v":0},0,10324300,10324300,0]
[null,null,null,null,null,null,"Програмска активност 2002-0001:",{"$f":"SUBTOTAL(9,H602:H622)","v":10324300},{"$f":"SUBTOTAL(9,I602:I622)","v":0},0,10324300,10324300,0]
[null,null,null,null,null,null,null,null,null,null,null,0,0]
[null,null,2003,null,null,null,"ПРОГРАМ 10: СРЕДЊЕ ОБРАЗОВАЊЕ",null,null,null,{"$f":"H626+I626+J626","v":0},0,0]
[null,null,"2003-0001",null,null,null,"Функционисање средњих школа ",null,null,null,0,0,0]
[null,null,null,920,null,null,"Средње образовање",null,null,null,0,0,0]
[null,null,null,null,164,463,"Трансфер 421 Стални трошкови",11332000,null,null,11332000,11332000,0]
[null,null,null,null,165,463,"Трансфер 422 Трошкови путовања",6608500,null,null,6608500,6608500,0]
[null,null,null,null,166,463,"Трансфер 423 Услуге по уговору",613000,null,null,613000,613000,0]
[null,null,null,null,167,463,"Трансфер 424 Специјализоване услуге",280500,null,null,280500,280500,0]
[null,null,null,null,168,463,"Трансфер 425 Текуће поправке и одржавање",842000,null,null,842000,842000,0]
[null,null,null,null,169,463,"Трансфер 426 Материјал",1201000,null,null,1201000,1201000,0]
[null,null,null,null,170,463,"Трансфер 512 Машине и опрема",300000,null,null,300000,300000,0]
[null,null,null,null,null,null,"Функција 920:",{"$f":"SUBTOTAL(9,H629:H635)","v":21177000},{"$f":"SUBTOTAL(9,I629:I635)","v":0},0,21177000,21177000,0]
[null,null,null,null,null,null,"Програмска активност 2003-0001:",{"$f":"SUBTOTAL(9,H629:H636)","v":21177000},{"$f":"SUBTOTAL(9,I629:I636)","v":0},0,21177000,21177000,0]
[null,null,null,null,null,null,null,null,null,null,null,0,0]
[null,null,"2003-0001",null,null,null,"Функционисање средњих школа ",null,null,null,{"$f":"H639+I639+J639","v":0},0,0]
[null,null,null,960,null,null,"Помоћне услуге у образовању",null,null,null,{"$f":"H640+I640+J640","v":0},0,0]
[null,null,null,null,171,463,"Трансфер 416 - Јубиларне награде (средње образовање)",{"$f":"SUBTOTAL(9,H642:H643)","v":1055000},{"$f":"SUBTOTAL(9,I642:I643)","v":0},0,1055000,1055000,0]
[null,null,null,null,null,null,"ССШ ''Свети Сава'' Бујановац",330000,null,null,{"$f":"H642+I642+J642","v":330000},330000,0]
[null,null,null,null,null,null,"СШ ''Сезаи Сурои'' Бујановац",725000,null,null,{"$f":"H643+I643+J643","v":725000},725000,0]
[null,null,null,null,172,"463","Трансфер 483 Новчане казне и пенали по решењу судова",50000,null,null,50000,50000,0]
[null,null,null,null,173,"463","Капитални трансфери образовању (набавка машина и опреме)",250000,null,null,250000,250000,0]
[null,null,null,null,174,472,"Стипендије за ученике Средњих школа из Координационог тела",null,5004000,null,5004000,5004000,0]
[null,null,null,null,175,472,"Једнократна новчана помоћ студентима",10000000,null,null,10000000,10000000,0]
[null,null,null,null,null,null,"Функција 960:",{"$f":"SUBTOTAL(9,H641:H647)","v":11355000},{"$f":"SUBTOTAL(9,I641:I647)","v":5004000},0,16359000,16359000,0]
[null,null,null,null,null,null,"Програмска активност 2003-0001:",{"$f":"SUBTOTAL(9,H641:H647)","v":11355000},{"$f":"SUBTOTAL(9,I641:I647)","v":5004000},0,16359000,16359000,0]
[null,null,null,null,null,null,null,null,null,null,null,0,0]
[null,null,"0901",null,null,null,"ПРОГРАМ 11: СОЦИЈАЛНА И ДЕЧЈА ЗАШТИТА",null,null,null,{"$f":"H651+I651+J651","v":0},0,0]
[null,null,"0901-0001",null,null,null,"Социјалне помоћи",null,null,null,{"$f":"H652+I652+J652","v":0},0,0]
[null,null,null,"070",null,null,"Социјална помоћ некласификована на другом месту",null,null,null,{"$f":"H653+I653+J653","v":0},0,0]
[null,null,null,null,176,"463","Текући трансфер- Центар за социјални рад",2500000,null,null,{"$f":"H654+I654+J654","v":2500000},2500000,0]
[null,null,null,null,177,"472","Накнаде за социјалну заштиту из буџета - Центар за социјални рад",3500000,null,null,{"$f":"H655+I655+J655","v":3500000},3500000,0]
[null,null,null,null,null,null,"Функција 070:",{"$f":"SUBTOTAL(9,H654:H655)","v":6000000},{"$f":"SUBTOTAL(9,I654:I655)","v":0},0,6000000,6000000,0]
[null,null,null,null,null,null,"Програмска активност 0901-0001:",{"$f":"SUBTOTAL(9,H654:H655)","v":6000000},{"$f":"SUBTOTAL(9,I654:I655)","v":0},0,6000000,6000000,0]
[null,null,null,null,null,null,null,null,null,null,null,0,0]
[null,null,"0901-0002",null,null,null,"Прихватилишта, прихватне станице и друге врсте смештаја",null,null,null,{"$f":"H659+I659+J659","v":0},0,0]
[null,null,null,"090",null,null,"Социјална заштита некласификована на другом месту",null,null,null,{"$f":"H660+I660+J660","v":0},0,0]
[null,null,null,null,178,472,"Накнаде за социјалну заштиту из буџета - Смештај хендикепиране деце",1100000,null,null,{"$f":"H661+I661+J661","v":1100000},1100000,0]
[null,null,null,null,179,472,"Накнаде за социјалну заштиту из буџета - Превоз хендикепиране деце",2100000,null,null,{"$f":"H662+I662+J662","v":2100000},2100000,0]
[null,null,null,null,180,472,"Трошкови смештаја и исхране - Центар за развој локалних услуга",300000,null,null,{"$f":"H663+I663+J663","v":300000},300000,0]
[null,null,null,null,null,null,"Функција 090:",{"$f":"SUBTOTAL(9,H661:H663)","v":3500000},{"$f":"SUBTOTAL(9,I661:I663)","v":0},0,3500000,3500000,0]
[null,null,null,null,null,null,"Програмска активност 0901-0002:",{"$f":"SUBTOTAL(9,H661:H663)","v":3500000},{"$f":"SUBTOTAL(9,I661:I663)","v":0},0,3500000,3500000,0]
[null,null,null,null,null,null,null,null,null,null,null,0,0]
[null,null,"0901-0005",null,null,null,"Активности ОО Црвеног крста Бујановац ",null,null,null,{"$f":"H667+I667+J667","v":0},0,0]
[null,null,null,"070",null,null,"Социјална помоћ некласификована на другом месту",null,null,null,{"$f":"H668+I668+J668","v":0},0,0]
[null,null,null,null,181,481,"Активности ОО Црвеног крста Бујановац ",500000,null,null,{"$f":"H669+I669+J669","v":500000},500000,0]
[null,null,null,null,null,null,"Функција 070:",{"$f":"SUBTOTAL(9,H669)","v":500000},{"$f":"SUBTOTAL(9,I669)","v":0},0,500000,500000,0]
[null,null,null,null,null,null,"Програмска активност 0901-0005:",{"$f":"SUBTOTAL(9,H669)","v":500000},{"$f":"SUBTOTAL(9,I669)","v":0},0,500000,500000,0]
[null,null,null,null,null,null,null,null,null,null,null,0,0]
[null,null,"0901-0006",null,null,null,"Подршка деци и породицама са децом",null,null,null,{"$f":"H673+I673+J673","v":0},0,0]
[null,null,null,"070",null,null,"Социјална помоћ некласификована на другом месту",null,null,null,{"$f":"H674+I674+J674","v":0},0,0]
[null,null,null,null,182,472,"Накнаде за социјалну заштиту из буџета - по решењу Интерресорне комисије",800000,null,null,{"$f":"H675+I675+J675","v":800000},800000,0]
[null,null,null,null,183,423,"Услуге по уговору - рад Интерресорне комисије",240000,null,null,{"$f":"H676+I676+J676","v":240000},240000,0]
[null,null,null,null,null,null,"Функција О70:",{"$f":"SUBTOTAL(9,H675:H676)","v":1040000},{"$f":"SUBTOTAL(9,I675:I676)","v":0},0,1040000,1040000,0]
[null,null,null,null,null,null,"Програмска активност 0901-0006:",{"$f":"SUBTOTAL(9,H675:H676)","v":1040000},{"$f":"SUBTOTAL(9,I675:I676)","v":0},0,1040000,1040000,0]
[null,null,null,null,null,null,null,null,null,null,null,0,0]
[null,null,"0901-0007",null,null,null,"Подршка старијим лицима и/или особама са инвалидитетом",null,null,null,{"$f":"H680+I680+J680","v":0},0,0]
[null,null,null,"070",null,null,"Социјална помоћ некласификована на другом месту",null,null,null,{"$f":"H681+I681+J681","v":0},{"$f":"H681+I681+J681","v":0},0]
[null,null,null,null,184,472,"Реализација програма \"Помоћ у кући\"",null,750000,null,{"$f":"H682+I682+J682","v":750000},750000,{"$f":"K682-L682","v":0}]
[null,null,null,null,null,null,"Функција О70:",{"$f":"SUBTOTAL(9,H682)","v":0},{"$f":"SUBTOTAL(9,I682)","v":750000},0,750000,750000,0]
[null,null,null,null,null,null,"Програмска активност 0901-0007:",{"$f":"SUBTOTAL(9,H682)","v":0},{"$f":"SUBTOTAL(9,I682)","v":750000},0,750000,750000,0]
[null,null,null,null,null,null,null,null,null,null,null,0,0]
[null,null,1801,null,null,null,"ПРОГРАМ 12: ЗДРАВСТВЕНА ЗАШТИТА",null,null,null,{"$f":"H686+I686+J686","v":0},0,0]
[null,null,"1801-0001",null,null,null,"Функционисање установа примарне здравствене заштите",null,null,null,0,0,0]
[null,null,null,"740",null,null,"Услуге јавног здравства",null,null,null,0,0,0]
[null,null,null,null,185,464,"Трансфер - Дом здравља Бујановац",17600000,null,null,17600000,17600000,0]
[null,null,null,null,186,423,"Услуге по уговору - Комисије за рад у здравству",150000,null,null,150000,150000,0]
[null,null,null,null,187,464,"Трансфер - Апотека Бујановац",700000,null,null,700000,700000,0]
[null,null,null,null,null,null,"Функција 740:",{"$f":"SUBTOTAL(9,H689:H691)","v":18450000},{"$f":"SUBTOTAL(9,I689:I691)","v":0},0,18450000,18450000,0]
[null,null,null,null,null,null,"Програмска активност 1801-0001:",{"$f":"SUBTOTAL(9,H689:H691)","v":18450000},{"$f":"SUBTOTAL(9,I689:I691)","v":0},0,18450000,18450000,0]
[null,null,null,null,null,null,null,null,null,null,null,0,0]
[null,null,"1801-0002",null,null,null,"Мртвозорство",null,null,null,{"$f":"H695+I695+J695","v":0},0,0]
[null,null,null,"721",null,null,"Услуге јавног здравства",null,null,null,{"$f":"H696+I696+J696","v":0},0,0]
[null,null,null,null,188,423,"Услуге по уговору - Комисије за рад у здравству",300000,null,null,{"$f":"H697+I697+J697","v":300000},300000,0]
[null,null,null,null,null,null,"Функција 740:",{"$f":"SUBTOTAL(9,H697)","v":300000},{"$f":"SUBTOTAL(9,I697)","v":0},0,300000,300000,0]
[null,null,null,null,null,null,"Програмска активност 1801-0002:",{"$f":"SUBTOTAL(9,H697)","v":300000},{"$f":"SUBTOTAL(9,I697)","v":0},0,300000,300000,0]
[null,null,null,null,null,null,null,null,null,null,null,0,0]
[null,null,null,null,null,null,"ПРОГРАМ 13: РАЗВОЈ КУЛТУРЕ",null,null,null,null,0,0]
[null,null,"1201-0002",null,null,null,"Јачање културне продукције и уметничког стваралаштва ",null,null,null,{"$f":"H702+I702+J702","v":0},0,0]
[null,null,null,"860",null,null,"Рекреација, спорт, култура и вере, некласифик. на другом месту",null,null,null,{"$f":"H703+I703+J703","v":0},0,0]
[null,null,null,null,189,481,"Дотације невладиним организацијама",1700000,null,null,{"$f":"H704+I704+J704","v":1700000},1700000,0]
[null,null,null,null,190,"481","Дотације невладиним организацијама",2000000,null,null,{"$f":"H705+I705+J705","v":2000000},2000000]
[null,null,null,null,191,"481","Дотације невладиним организацијама - манифестација Шкембијада",130000,null,null,{"$f":"H706+I706+J706","v":130000},130000,0]
[null,null,null,null,null,null,"Функција 820:",{"$f":"SUBTOTAL(9,H704:H706)","v":3830000},{"$f":"SUBTOTAL(9,I704:I706)","v":0},0,3830000,3830000,0]
[null,null,null,null,null,null,"Програмска активност 1201-0002:",{"$f":"SUBTOTAL(9,H704:H706)","v":3830000},{"$f":"SUBTOTAL(9,I704:I706)","v":0},0,3830000,3830000,0]
[null,null,null,null,null,null,null,null,null,null,{"$f":"H709+I709+J709","v":0},0,0]
[null,null,"1201-0003",null,null,null,"Унапређење система очувања и представљања културно-историјског наслеђа",null,null,null,{"$f":"H710+I710+J710","v":0},0,0]
[null,null,null,"840",null,null,"Верске и остале услуге заједнице",null,null,null,{"$f":"H711+I711+J711","v":0},0,0]
[null,null,null,null,192,481,"Дотације невладиним организацијама - Православна верска заједница",1400000,null,null,{"$f":"H712+I712+J712","v":1400000},1400000,0]
[null,null,null,null,193,481,"Дотације невладиним организацијама - Исламска верска заједница",1500000,null,null,{"$f":"H713+I713+J713","v":1500000},1500000,0]
[null,null,null,null,null,null,"Функција 820:",{"$f":"SUBTOTAL(9,H712:H713)","v":2900000},{"$f":"SUBTOTAL(9,I712:I713)","v":0},0,2900000,2900000,0]
[null,null,null,null,null,null,"Програмска активност 1201-0003:",{"$f":"SUBTOTAL(9,H712:H713)","v":2900000},{"$f":"SUBTOTAL(9,I712:I713)","v":0},0,2900000,2900000,0]
[null,null,null,null,null,null,null,null,null,null,null,0,0]
[null,null,"1201-0004",null,null,null,"Остваривање и унапређивање јавног интереса у области јавног информисања",null,null,null,{"$f":"H717+I717+J717","v":0},0,0]
[null,null,null,"830",null,null,"Услуге емитовања и штампања",null,null,null,{"$f":"H718+I718+J718","v":0},0,0]
[null,null,null,null,194,"451","Текуће субвенције медијима",7000000,null,null,{"$f":"H719+I719+J719","v":7000000},7000000,0]
[null,null,null,null,null,null,"Функција 830:",{"$f":"SUBTOTAL(9,H719)","v":7000000},{"$f":"SUBTOTAL(9,I719)","v":0},0,7000000,7000000,0]
[null,null,null,null,null,null,"Програмска активност 1201-0004:",{"$f":"SUBTOTAL(9,H719)","v":7000000},{"$f":"SUBTOTAL(9,I719)","v":0},0,7000000,7000000,0]
[null,null,null,null,null,null,null,null,null,null,null,0,0]
[null,null,null,null,null,null,"ПРОГРАМ 14: РАЗВОЈ СПОРТА И ОМЛАДИНЕ",null,null,null,null,0,0]
[null,null,"1301-0001",null,null,null,"Подршка локалним спорским организацијама, удружењима и савезима",null,null,null,{"$f":"H724+I724+J724","v":0},0,0]
[null,null,null,810,null,null,"Услуге рекреације и спорта",null,null,null,{"$f":"H725+I725+J725","v":0},0,0]
[null,null,null,null,null,null,"Дотације невладиним организацијама - спорским клубовима",null,null,null,{"$f":"H726+I726+J726","v":0},0,0]
[null,null,null,null,195,481,"Дотације невладиним организацијама - спорским клубовима",10000000,null,null,{"$f":"H727+I727+J727","v":10000000},10000000,0]
[null,null,null,null,null,null,"Функција 810:",{"$f":"SUBTOTAL(9,H727)","v":10000000},{"$f":"SUBTOTAL(9,I727)","v":0},0,10000000,10000000,0]
[null,null,null,null,null,null,"Програмска активност 1301-0001:",{"$f":"SUBTOTAL(9,H727)","v":10000000},{"$f":"SUBTOTAL(9,I727)","v":0},0,10000000,10000000,0]
[]
[null,null,"1301-0005",null,null,null,"Спровођење омалдинске политике",null,null,null,{"$f":"H731+I731+J731","v":0},{"$f":"H731+I731+J731","v":0},{"$f":"K731-L731","v":0}]
[null,null,null,810,null,null,"Услуге рекреације и спорта",null,null,null,{"$f":"H732+I732+J732","v":0},0,0]
[null,null,null,null,196,481,"Дотације невладиним организацијама - Канцеларија за младе",1000000,null,null,{"$f":"H733+I733+J733","v":1000000},1000000,0]
[null,null,null,null,null,null,"Функција 810:",{"$f":"SUBTOTAL(9,H733)","v":1000000},{"$f":"SUBTOTAL(9,I733)","v":0},0,1000000,1000000,0]
[null,null,null,null,null,null,"Програмска активност 1301-0005:",{"$f":"SUBTOTAL(9,H733)","v":1000000},{"$f":"SUBTOTAL(9,I733)","v":0},0,1000000,1000000,0]
[]
[null,null,null,"810",null,null,"Услуге рекреације и спорта",null,null,null,{"$f":"H737+I737+J737","v":0},{"$f":"H737+I737+J737","v":0},{"$f":"K737-L737","v":0}]
[null,null,"1301-01",null,null,null,"Изградња трибине код школе у селу Биљача"]
[null,null,null,null,197,"511","Зграде и грађевински објекти",500000,null,null,{"$f":"H739+I739+J739","v":500000},{"$f":"H739+I739+J739","v":500000},{"$f":"K739-L739","v":0}]
[null,null,null,null,null,null,"Функција 810:",{"$f":"SUBTOTAL(9,H739)","v":500000},{"$f":"SUBTOTAL(9,I739)","v":0},0,500000,500000,0]
[null,null,null,null,null,null,"Пројекат 1301-01:",{"$f":"SUBTOTAL(9,H739)","v":500000},{"$f":"SUBTOTAL(9,I739)","v":0},0,500000,500000,0]
[]
[null,null,null,"810",null,null,"Услуге рекреације и спорта",null,null,null,{"$f":"H743+I743+J743","v":0},{"$f":"H743+I743+J743","v":0},{"$f":"K743-L743","v":0}]
[null,null,"1301-02",null,null,null,"Изградња спортских трибина у селу Муховац"]
[null,null,null,null,198,"511","Зграде и грађевински објекти",300000,null,null,{"$f":"H745+I745+J745","v":300000},{"$f":"H745+I745+J745","v":300000},{"$f":"K745-L745","v":0}]
[null,null,null,null,null,null,"Функција 810:",{"$f":"SUBTOTAL(9,H745)","v":300000},{"$f":"SUBTOTAL(9,I745)","v":0},0,300000,300000,0]
[null,null,null,null,null,null,"Пројекат 1301-02:",{"$f":"SUBTOTAL(9,H745)","v":300000},{"$f":"SUBTOTAL(9,I745)","v":0},0,300000,300000,0]
[null,null,null,null,null,null,"УКУПНО ЗА ГЛАВУ 5.01:",{"$f":"SUBTOTAL(9,H86:H747)","v":601862000},{"$f":"SUBTOTAL(9,I86:I747)","v":127249200},0,729111200,729111200,0]
[null,null,null,null,null,null,null,null,null,null,null,0,0]
[5,"5.02",null,null,null,null,"МЕСНЕ ЗАЈЕДНИЦЕ",null,null,null,{"$f":"H750+I750+J750","v":0},0,0]
[null,null,"0602",null,null,null,"ПРОГРАМ 15: ЛОКАЛНА САМОУПРАВА",null,null,null,0,0,0]
[null,null,"0602-0002",null,null,null,"Функционисање месних заједница",null,null,null,0,0,0]
[null,null,null,160,null,null,"Опште јавне услуге које нису класификоване на другом месту",null,null,null,0,0,0]
[null,null,null,null,199,421,"Стални трошкови",420000,null,null,420000,420000,0]
[null,null,null,null,200,422,"Трошкови путовања",100000,null,null,100000,100000,0]
[null,null,null,null,201,423,"Услуге по уговору",700000,null,null,700000,700000,0]
[null,null,null,null,202,424,"Специјализоване услуге",80000,null,null,80000,80000,0]
[null,null,null,null,203,425,"Текуће поправке и  одржавање",1200000,null,null,1200000,1200000,0]
[null,null,null,null,204,426,"Материјал",1100000,null,null,1100000,1100000,0]
[null,null,null,null,205,482,"Порези , обавезне таксе и казне",100000,null,null,100000,100000,0]
[null,null,null,null,206,483,"Новчане казне и пенали по решењу судова",100000,null,null,100000,100000,0]
[null,null,null,null,207,512,"Машине и опрема",100000,null,null,100000,100000,0]
[null,null,null,null,null,null,"Функција 160:",{"$f":"SUBTOTAL(9,H753:H762)","v":3900000},{"$f":"SUBTOTAL(9,I753:I762)","v":0},0,3900000,3900000,0]
[null,null,null,null,null,null,"Програмска активност 0602-0002:",{"$f":"SUBTOTAL(9,H753:H762)","v":3900000},{"$f":"SUBTOTAL(9,I753:I762)","v":0},0,3900000,{"$f":"H764+I764+J764","v":3900000},0]
[null,null,null,null,null,null,"УКУПНО ЗА ГЛАВУ 5.02:",{"$f":"SUBTOTAL(9,H753:H764)","v":3900000},{"$f":"SUBTOTAL(9,I753:I764)","v":0},0,3900000,3900000,{"$f":"K765-L765","v":0}]
[null,null,null,null,null,null,null,null,null,null,{"$f":"H766+I766+J766","v":0},0,0]
[5,"5.03",null,null,null,null,"ТУРИСТИЧКА ОРГАНИЗАЦИЈА БУЈАНОВАЦ",null,null,null,0,0,0]
[null,null,1502,null,null,null,"ПРОГРАМ 4: РАЗВОЈ ТУРИЗМА",null,null,null,0,0,0]
[null,null,"1502-0001",null,null,null,"Управљањем развојем туризма",null,null,null,0,0,0]
[null,null,null,473,null,null,"Туризам",null,null,null,0,0,0]
[null,null,null,null,208,411,"Плате, додаци и накнаде запосленима",4858000,null,null,4858000,4858000,0]
[null,null,null,null,209,412,"Социјални доприноси на терет послодавца",870000,null,null,870000,870000,0]
[null,null,null,null,210,414,"Социјална давања запосленима",60000,null,null,60000,60000,0]
[null,null,null,null,211,415,"Накнаде трошкова за запослене",241800,null,null,241800,241800,0]
[null,null,null,null,212,421,"Стални трошкови",278000,null,null,278000,278000,0]
[null,null,null,null,213,423,"Услуге по уговору",452000,null,null,452000,452000,0]
[null,null,null,null,214,425,"Текуће поправке и  одржавање",20000,null,null,20000,20000,0]
[null,null,null,null,215,426,"Материјал",90000,null,null,90000,90000,0]
[null,null,null,null,216,465,"Остале текуће донације по закону",521000,null,null,521000,521000,0]
[null,null,null,null,217,482,"Порези , обавезне таксе и казне",11000,null,null,11000,11000,0]
[null,null,null,null,218,483,"Новчане казне и пенали по решењу судова",100000,null,null,100000,100000,0]
[null,null,null,null,219,512,"Машине и опрема",100000,null,null,100000,100000,0]
[null,null,null,null,null,null,"Функција 473:",{"$f":"SUBTOTAL(9,H771:H782)","v":7601800},{"$f":"SUBTOTAL(9,I771:I782)","v":0},0,7601800,7601800,0]
[null,null,null,null,null,null,"Програмска активност 1502-0001:",{"$f":"SUBTOTAL(9,H771:H782)","v":7601800},{"$f":"SUBTOTAL(9,I771:I782)","v":0},0,7601800,7601800,0]
[null,null,null,null,null,null,null,null,null,null,null,0,0]
[null,null,"1502-0002",null,null,null,"Промоција туристичке понуде",null,null,null,{"$f":"H786+I786+J786","v":0},0,0]
[null,null,null,473,null,null,"Туризам",null,null,null,{"$f":"H787+I787+J787","v":0},0,0]
[null,null,null,null,220,422,"Трошкови путовања",90000,null,null,{"$f":"H788+I788+J788","v":90000},90000,0]
[null,null,null,null,221,423,"Услуге по уговору",202000,null,null,{"$f":"H789+I789+J789","v":202000},202000,0]
[null,null,null,null,222,424,"Специјализоване услуге",100000,null,null,{"$f":"H790+I790+J790","v":100000},100000,0]
[null,null,null,null,null,null,"Функција 473:",{"$f":"SUBTOTAL(9,H788:H790)","v":392000},{"$f":"SUBTOTAL(9,I788:I790)","v":0},0,392000,392000,0]
[null,null,null,null,null,null,"Програмска активност 1502-0002:",{"$f":"SUBTOTAL(9,H788:H790)","v":392000},{"$f":"SUBTOTAL(9,I788:I790)","v":0},0,392000,392000,0]
[null,null,null,null,null,null,"УКУПНО ЗА ГЛАВУ 5.03:",{"$f":"SUBTOTAL(9,H771:H792)","v":7993800},{"$f":"SUBTOTAL(9,I771:I792)","v":0},0,7993800,7993800,0]
[null,null,null,null,null,null,null,null,null,null,{"$f":"H794+I794+J794","v":0},0,0]
[5,"5.04",null,null,null,null,"ПРЕДШКОЛСКО ВАСПИТАЊЕ",null,null,null,0,0,0]
[null,null,2001,null,null,null,"ПРОГРАМ 8: ПРЕДШКОЛСКО ВАСПИТАЊЕ",null,null,null,0,0,0]
[null,null,"2001-0001",null,null,null,"Функционисање предшколских установа",null,null,null,0,0,0]
[null,null,null,911,null,null,"Предшколско образовање",null,null,null,0,0,0]
[null,null,null,null,223,411,"Плате, додаци и накнаде запосленима",54448000,null,3200000,57648000,57648000,0]
[null,null,null,null,224,412,"Социјални доприноси на терет послодавца",9746200,null,572800,10319000,{"$f":"H800+I800+J800","v":10319000},0]
[null,null,null,null,225,414,"Социјална давања запосленима",1873000,null,360000,2233000,2233000,{"$f":"K801-L801","v":0}]
[null,null,null,null,226,415,"Накнаде трошкова за запослене",null,null,1700000,1700000,1700000,0]
[null,null,null,null,227,416,"Награде, бонуси и остали пословни расхода",null,null,1280000,1280000,1280000,0]
[null,null,null,null,228,421,"Стални трошкови",null,null,6655000,6655000,6655000,0]
[null,null,null,null,229,422,"Трошкови путовања",null,null,330000,330000,330000,0]
[null,null,null,null,230,423,"Услуге по уговору",null,null,1680000,1680000,1680000,0]
[null,null,null,null,231,424,"Специјализоване услуге",null,null,560000,560000,560000,0]
[null,null,null,null,232,425,"Текуће поправке и  одржавање",null,null,900000,900000,900000,0]
[null,null,null,null,233,426,"Материјал",null,null,7350000,7350000,7350000,0]
[null,null,null,null,234,465,"Остале текуће донације по закону",6000000,null,1060000,7060000,7060000,0]
[null,null,null,null,235,482,"Порези , обавезне таксе и казне",null,null,50000,50000,50000,0]
[null,null,null,null,236,512,"Машине и опрема",null,null,{"$f":"3044200-1700000-1280000","v":64200},64200,64200,0]
[null,null,null,null,null,null,"Функција 911:",{"$f":"SUBTOTAL(9,H799:H812)","v":72067200},{"$f":"SUBTOTAL(9,I799:I812)","v":0},{"$f":"SUBTOTAL(9,J799:J812)","v":25762000},{"$f":"SUBTOTAL(9,K799:K812)","v":97829200},97829200,0]
[null,null,null,null,null,null,"Програмска активност 2001-0001:",{"$f":"SUBTOTAL(9,H799:H812)","v":72067200},{"$f":"SUBTOTAL(9,I799:I812)","v":0},{"$f":"SUBTOTAL(9,J799:J812)","v":25762000},{"$f":"SUBTOTAL(9,K799:K812)","v":97829200},97829200,0]
[null,null,null,null,null,null,"УКУПНО ЗА ГЛАВУ 5.04:",{"$f":"SUBTOTAL(9,H799:H814)","v":72067200},{"$f":"SUBTOTAL(9,I799:I814)","v":0},25762000,97829200,97829200,0]
[null,null,null,null,null,null,null,null,null,null,{"$f":"H816+I816+J816","v":0},0,0]
[5,"5.05",null,null,null,null,"ДОМ КУЛТУРЕ ''ВУК КАРАЏИЋ'' БУЈАНОВАЦ",null,null,null,{"$f":"H817+I817+J817","v":0},0,0]
[null,null,1201,null,null,null,"ПРОГРАМ 13: Развој културе",null,null,null,0,0,0]
[null,null,"1201-0001",null,null,null,"Функционисање локалних  установа културе",null,null,null,0,0,0]
[null,null,null,820,null,null,"Установе културе",null,null,null,0,0,0]
[null,null,null,null,237,411,"Плате, додаци и накнаде запосленима",9876000,null,null,9876000,9876000,0]
[null,null,null,null,238,412,"Социјални доприноси на терет послодавца",1768000,null,null,1768000,1768000,0]
[null,null,null,null,239,414,"Социјална давања запосленима",140000,null,null,140000,140000,0]
[null,null,null,null,240,415,"Накнаде трошкова за запослене",200000,null,null,200000,200000,0]
[null,null,null,null,241,416,"Награде, бонуси и остали пословни расхода",115000,null,null,115000,115000,0]
[null,null,null,null,242,421,"Стални трошкови",6386000,null,60000,6446000,6446000,0]
[null,null,null,null,243,422,"Трошкови путовања",20000,null,null,20000,20000,0]
[null,null,null,null,244,423,"Услуге по уговору",2495000,null,480000,2975000,2975000,0]
[null,null,null,null,245,424,"Специјализоване услуге",15000,null,50000,65000,65000,0]
[null,null,null,null,246,425,"Текуће поправке и  одржавање",45000,null,110000,155000,155000,0]
[null,null,null,null,247,426,"Материјал",125000,null,115000,240000,240000,0]
[null,null,null,null,248,465,"Остале текуће донације по закону",535000,null,null,535000,535000,0]
[null,null,null,null,249,482,"Порези , обавезне таксе и казне",null,null,15000,15000,15000,0]
[null,null,null,null,250,512,"Машине и опрема",30000,null,30000,60000,60000,0]
[null,null,null,null,null,null,"Функција 820:",{"$f":"SUBTOTAL(9,H821:H834)","v":21750000},{"$f":"SUBTOTAL(9,I821:I834)","v":0},{"$f":"SUBTOTAL(9,J821:J834)","v":860000},{"$f":"SUBTOTAL(9,K821:K834)","v":22610000},22610000,0]
[null,null,null,null,null,null,"Програмска активност 1201-0001",{"$f":"SUBTOTAL(9,H821:H834)","v":21750000},{"$f":"SUBTOTAL(9,I821:I834)","v":0},{"$f":"SUBTOTAL(9,J821:J834)","v":860000},{"$f":"SUBTOTAL(9,K821:K834)","v":22610000},22610000,0]
[null,null,null,null,null,null,null,null,null,null,null,0,0]
[null,null,null,820,null,null,"Установе културе",null,null,null,0,0,0]
[null,null,"1201-01",null,null,null,"Манифестација вредне руке",null,null,null,0,0,0]
[null,null,null,null,251,423,"Услуге по уговору",100000,null,null,100000,100000,0]
[null,null,null,null,252,426,"Материјал",50000,null,null,50000,50000,0]
[null,null,null,null,null,null,"Функција 820:",{"$f":"SUBTOTAL(9,H840:H841)","v":150000},{"$f":"SUBTOTAL(9,I840:I841)","v":0},0,150000,150000,0]
[null,null,null,null,null,null,"Пројекат 1201-01",{"$f":"SUBTOTAL(9,H840:H841)","v":150000},{"$f":"SUBTOTAL(9,I840:I841)","v":0},0,150000,150000,0]
[null,null,null,null,null,null,null,null,null,null,null,0,0]
[null,null,null,820,null,null,"Установе културе",null,null,null,0,0,0]
[null,null,"1201-02",null,null,null,"Манифестација најлепше ускршње јаје",null,null,null,0,0,0]
[null,null,null,null,253,423,"Услуге по уговору",100000,null,null,100000,100000,0]
[null,null,null,null,254,426,"Материјал",50000,null,null,50000,50000,0]
[null,null,null,null,null,null,"Функција 820:",{"$f":"SUBTOTAL(9,H847:H848)","v":150000},{"$f":"SUBTOTAL(9,I847:I848)","v":0},0,150000,150000,0]
[null,null,null,null,null,null,"Пројекат 1201-02",{"$f":"SUBTOTAL(9,H847:H848)","v":150000},{"$f":"SUBTOTAL(9,I847:I848)","v":0},0,150000,150000,0]
[null,null,null,null,null,null,null,null,null,null,null,0,0]
[null,null,null,820,null,null,"Установе културе",null,null,null,{"$f":"H852+I852+J852","v":0},0,0]
[null,null,"1201-03",null,null,null,"Манифестација културно лето",null,null,null,0,0,0]
[null,null,null,null,255,423,"Услуге по уговору",250000,null,null,250000,250000,0]
[null,null,null,null,256,426,"Материјал",250000,null,null,250000,250000,0]
[null,null,null,null,null,null,"Функција 820:",{"$f":"SUBTOTAL(9,H854:H855)","v":500000},{"$f":"SUBTOTAL(9,I854:I855)","v":0},0,500000,500000,0]
[null,null,null,null,null,null,"Пројекат 1201-03",{"$f":"SUBTOTAL(9,H854:H855)","v":500000},{"$f":"SUBTOTAL(9,I854:I855)","v":0},0,500000,{"$f":"H857+I857+J857","v":500000},0]
[null,null,null,null,null,null,null,null,null,null,0,0,{"$f":"K858-L858","v":0}]
[null,null,null,820,null,null,"Установе културе",null,null,null,0,0,0]
[null,null,"1201-04",null,null,null,"Мајске манифестације",null,null,null,0,0,0]
[null,null,null,null,257,423,"Услуге по уговору",50000,null,null,50000,50000,0]
[null,null,null,null,258,426,"Материјал",200000,null,null,200000,200000,0]
[null,null,null,null,null,null,"Функција 820:",{"$f":"SUBTOTAL(9,H861:H862)","v":250000},{"$f":"SUBTOTAL(9,I861:I862)","v":0},0,250000,250000,0]
[null,null,null,null,null,null,"Пројекат 1201-04:",{"$f":"SUBTOTAL(9,H861:H862)","v":250000},{"$f":"SUBTOTAL(9,I861:I862)","v":0},0,250000,250000,0]
[null,null,null,null,null,null,"УКУПНО ЗА ГЛАВУ 5.05:",{"$f":"SUBTOTAL(9,H821:H864)","v":22800000},{"$f":"SUBTOTAL(9,I821:I864)","v":0},860000,23660000,23660000,0]
[null,null,null,null,null,null,null,null,null,null,{"$f":"H866+I866+J866","v":0},0,0]
[5,"5.06",null,null,null,null,"БИБЛИОТЕКА ''14.НОВЕМБАР'' БУЈАНОВАЦ",null,null,null,0,0,0]
[null,null,1201,null,null,null,"ПРОГРАМ 13: Развој културе",null,null,null,0,0,0]
[null,null,"1201-0001",null,null,null,"Функционисање локалних  установа културе",null,null,null,0,0,0]
[null,null,null,820,null,null,"Установе културе",null,null,null,0,0,0]
[null,null,null,null,259,411,"Плате, додаци и накнаде запосленима",8181000,null,null,8181000,8181000,0]
[null,null,null,null,260,412,"Социјални доприноси на терет послодавца",1464000,null,null,1464000,1464000,0]
[null,null,null,null,261,414,"Социјална давања запосленима",30000,null,30000,60000,60000,0]
[null,null,null,null,262,415,"Накнаде трошкова за запослене",130000,null,null,130000,130000,0]
[null,null,null,null,263,416,"Награде, бонуси и остали пословни расхода",57500,null,null,57500,57500,0]
[null,null,null,null,264,421,"Стални трошкови",84000,null,33000,117000,117000,0]
[null,null,null,null,265,422,"Трошкови путовања",10000,null,20000,30000,30000,0]
[null,null,null,null,266,423,"Услуге по уговору",2360000,null,20000,2380000,2380000,0]
[null,null,null,null,267,425,"Текуће поправке и  одржавање",70000,null,null,70000,70000,0]
[null,null,null,null,268,426,"Материјал",70000,null,15000,85000,85000,0]
[null,null,null,null,269,465,"Остале текуће донације по закону",660000,null,null,660000,660000,0]
[null,null,null,null,270,482,"Порези , обавезне таксе и казне",6000,null,6000,12000,12000,0]
[null,null,null,null,271,512,"Машине и опрема",200000,null,null,200000,200000,0]
[null,null,null,null,272,515,"Нематеријална имовина",500000,null,null,500000,500000,0]
[null,null,null,null,null,null,"Функција 820:",{"$f":"SUBTOTAL(9,H871:H884)","v":13822500},{"$f":"SUBTOTAL(9,I871:I884)","v":0},124000,13946500,13946500,0]
[null,null,null,null,null,null,"Програмска активност 1201-0001:",{"$f":"SUBTOTAL(9,H871:H884)","v":13822500},{"$f":"SUBTOTAL(9,I871:I884)","v":0},124000,13946500,13946500,0]
[null,null,null,null,null,null,"УКУПНО ЗА ГЛАВУ 5.06:",{"$f":"SUBTOTAL(9,H871:H884)","v":13822500},{"$f":"SUBTOTAL(9,I871:I884)","v":0},124000,13946500,13946500,0]
[null,null,null,null,null,null,null,null,null,null,0,0,0]
[5,"5.07",null,null,null,null,"СПОРТСКИ ЦЕНТАР ''МЛАДОСТ'' БУЈАНОВАЦ",null,null,null,0,0,0]
[null,null,1301,null,null,null,"ПРОГРАМ 14: Развој спорта и омладине",null,null,null,0,0,0]
[null,null,"1301-0004",null,null,null,"Функционисање локалних спортских установа",null,null,null,0,0,0]
[null,null,null,810,null,null,"Услуге рекреације и спорта",null,null,null,0,0,0]
[null,null,null,null,273,411,"Плате, додаци и накнаде запосленима",9188000,null,1200000,10388000,10388000,0]
[null,null,null,null,274,412,"Социјални доприноси на терет послодавца",1645000,null,215000,1860000,1860000,0]
[null,null,null,null,275,414,"Социјална давања запосленима",335000,null,490000,825000,825000,0]
[null,null,null,null,276,415,"Накнаде трошкова за запослене",null,null,430000,430000,430000,0]
[null,null,null,null,277,416,"Награде, бонуси и остали пословни расхода",null,null,150000,150000,150000,0]
[null,null,null,null,278,421,"Стални трошкови",null,null,1382900,1382900,1382900,0]
[null,null,null,null,279,422,"Трошкови путовања",null,null,52000,52000,52000,0]
[null,null,null,null,280,423,"Услуге по уговору",null,null,645000,645000,645000,0]
[null,null,null,null,281,425,"Текуће поправке и  одржавање",500000,null,1150000,1650000,1650000,0]
[null,null,null,null,282,426,"Материјал",null,null,391300,391300,391300,0]
[null,null,null,null,283,465,"Остале текуће донације по закону",569200,null,30800,600000,600000,0]
[null,null,null,null,284,482,"Порези , обавезне таксе и казне",null,null,36000,36000,36000,0]
[null,null,null,null,285,511,"Зграде и грађевински објекти",2500000,null,null,2500000,2500000,0]
[null,null,null,null,286,512,"Машине и опрема",null,null,400000,400000,400000,0]
[null,null,null,null,null,null,"Функција 810:",{"$f":"SUBTOTAL(9,H893:H906)","v":14737200},{"$f":"SUBTOTAL(9,I893:I906)","v":0},6573000,21310200,21310200,0]
[null,null,null,null,null,null,"Програмска активност 1301-0004:",{"$f":"SUBTOTAL(9,H893:H906)","v":14737200},{"$f":"SUBTOTAL(9,I893:I906)","v":0},6573000,21310200,21310200,0]
[null,null,null,null,null,null,"УКУПНО ЗА ГЛАВУ 5.07:",{"$f":"SUBTOTAL(9,H893:H906)","v":14737200},{"$f":"SUBTOTAL(9,I893:I906)","v":0},6573000,21310200,{"$f":"H909+I909+J909","v":21310200},0]
[null,null,null,null,null,null,"УКУПНО ЗА РАЗДЕО 5:",{"$f":"SUBTOTAL(9,H86:H909)","v":737182700},{"$f":"SUBTOTAL(9,I86:I909)","v":127249200},33319000,897750900]
[null,null,null,null,null,null,"УКУПНО  РАСХОДИ",{"$f":"SUBTOTAL(9,H7:H909)","v":780147800},{"$f":"SUBTOTAL(9,I7:I909)","v":127249200},{"$f":"SUBTOTAL(9,J7:J909)","v":33319000},{"$f":"SUBTOTAL(9,K7:K909)","v":940716000},{"$f":"H911+I911+J911","v":940716000},{"$f":"K911-L911","v":0}]
[]
[null,null,null,null,null,null,null,null,{"$f":"H911+I911","v":907397000}]
[null,null,null,null,null,null,null,null,{"$f":"4135500+1529989","v":5665489}]
[null,null,null,null,null,null,null,null,{"$f":"I913-I914","v":901731511}]
[null,null,null,null,null,null,null,null,8930000]
[null,null,null,null,null,null,null,{"$f":"H914+I914","v":5665489},{"$f":"I915+I916+H918","v":913161511}]
[null,null,null,null,null,null,"Romska ulica",2500000,900000000]
[null,null,null,null,null,null,null,null,{"$f":"I918-I917","v":-13161511}]

{"sheet":"ekonomska","index":4,"n_rows":42,"n_cols":4,"rows_kept":42,"cut":false,"hidden":false,"merged":[]}
[]
[]
[null,"Values"]
["Row Labels","Sum of Средства из буџета         ","Sum of Средства из буџета    републике","Sum of Укупно"]
[411,212210000,0,212210000]
[412,37916900,0,37916900]
[413,10000,null,10000]
[414,10084000,null,10084000]
[415,8083000,null,8083000]
[416,2388000,null,2388000]
[421,44712000,null,44712000]
[422,2812000,null,2812000]
[423,49480500,3000000,52480500]
[424,11310000,null,11310000]
[425,13130000,25120000,38250000]
[426,19623000,null,19623000]
[451,25000000,null,25000000]
[463,95968400,0,95968400]
[464,18700000,null,18700000]
[465,23317200,null,23317200]
[472,13200000,6696000,19896000]
[481,24330000,null,24330000]
[482,685000,null,685000]
[483,3320000,null,3320000]
[511,480000,null,480000]
[512,7320000,null,7320000]
[515,700000,null,700000]
[49911,500000,null,500000]
[49912,11500000,null,11500000]
["423",9362000,6520000,15882000]
["425",21205000,4000000,25205000]
["451",25000000,null,25000000]
["454",15000000,null,15000000]
["463",23585000,null,23585000]
["472",3548000,480000,4028000]
["481",3530000,null,3530000]
["483",10200000,null,10200000]
["485",1000000,null,1000000]
["511",78594000,275480000,354074000]
["512",1000000,13400000,14400000]
["541",1000000,null,1000000]
["Grand Total",829804000,334696000,1164500000]

{"sheet":"funkcionalna","index":5,"n_rows":32,"n_cols":4,"rows_kept":32,"cut":false,"hidden":false,"merged":[]}
[]
[]
[null,"Values"]
["Row Labels","Sum of Средства из буџета         ","Sum of Средства из буџета    републике","Sum of Укупно"]
["Функција 070:",7100000,6000000,13100000]
["Функција 090:",7800000,4000000,11800000]
["Функција 111:",38163600,0,38163600]
["Функција 130:",202815000,0,202815000]
["Функција 160:",15363000,0,15363000]
["Функција 330:",5472200,0,5472200]
["Функција 411:",35000000,0,35000000]
["Функција 421:",22400000,0,22400000]
["Функција 451:",95189000,81920000,177109000]
["Функција 473:",8000000,0,8000000]
["Функција 550:",4550000,17680000,22230000]
["Функција 560:",2250000,18400000,20650000]
["Функција 620:",10960000,0,10960000]
["Функција 630:",25250000,0,25250000]
["Функција 640:",20500000,0,20500000]
["Функција 660:",10000000,0,10000000]
["Функција 721:",400000,0,400000]
["Функција 740:",18850000,0,18850000]
["Функција 810:",31696700,0,31696700]
["Функција 820:",39915100,0,39915100]
["Функција 830:",5000000,0,5000000]
["Функција 840:",2900000,0,2900000]
["Функција 860:",4930000,0,4930000]
["Функција 911:",108246000,0,108246000]
["Функција 912:",61831700,200000000,261831700]
["Функција 920:",23693700,0,23693700]
["Функција 960:",21528000,6696000,28224000]
["Grand Total",829804000,334696000,1164500000]

{"sheet":"projekti","index":6,"n_rows":148,"n_cols":4,"rows_kept":148,"cut":false,"hidden":false,"merged":[]}
[]
[]
[null,"Values"]
["Row Labels","Sum of Средства из буџета         ","Sum of Средства из буџета    републике","Sum of Укупно"]
["Програмска активност 0101-0002:",22400000,0,22400000]
["Програмска активност 0401-0001:",4550000,17680000,22230000]
["Програмска активност 0401-0004:",250000,0,250000]
["Програмска активност 0401-0005:",0,18400000,18400000]
["Програмска активност 0602-0001:",194578000,0,194578000]
["Програмска активност 0602-0002:",3900000,0,3900000]
["Програмска активност 0602-0004:",5472200,0,5472200]
["Програмска активност 0602-0007:",4000000,0,4000000]
["Програмска активност 0602-0009:",11500000,0,11500000]
["Програмска активност 0602-0010:",500000,0,500000]
["Програмска активност 0602-0014:",1500000,0,1500000]
["Програмска активност 0901-0001:",6000000,0,6000000]
["Програмска активност 0901-0002:",3200000,0,3200000]
["Програмска активност 0901-0005:",500000,0,500000]
["Програмска активност 0901-0006:",600000,4000000,4600000]
["Програмска активност 0901-0007:",600000,6000000,6600000]
["Програмска активност 1101-0001:",15960000,0,15960000]
["Програмска активност 1102-0001:",20500000,0,20500000]
["Програмска активност 1102-0002:",1000000,0,1000000]
["Програмска активност 1102-0003:",9000000,0,9000000]
["Програмска активност 1102-0004:",1200000,0,1200000]
["Програмска активност 1102-0008:",25250000,0,25250000]
["Програмска активност 1201-0001",23139000,0,23139000]
["Програмска активност 1201-0001:",15826100,0,15826100]
["Програмска активност 1201-0002:",4930000,0,4930000]
["Програмска активност 1201-0003:",2900000,0,2900000]
["Програмска активност 1201-0004:",5000000,0,5000000]
["Програмска активност 1301-0001:",9000000,0,9000000]
["Програмска активност 1301-0004:",21186700,0,21186700]
["Програмска активност 1301-0005:",800000,0,800000]
["Програмска активност 1501-0002:",20000000,0,20000000]
["Програмска активност 1501-0003:",15000000,0,15000000]
["Програмска активност 1502-0001:",7760000,0,7760000]
["Програмска активност 1502-0002:",240000,0,240000]
["Програмска активност 1801-0001:",18850000,0,18850000]
["Програмска активност 1801-0002:",400000,0,400000]
["Програмска активност 2001-0001:",108246000,0,108246000]
["Програмска активност 2002-0001:",70881700,200000000,270881700]
["Програмска активност 2003-0001:",36171700,6696000,42867700]
["Програмска активност 2101-0001:",19543100,0,19543100]
["Програмска активност 2101-0002:",11170500,0,11170500]
["Програмска активност 2101-0003:",7450000,0,7450000]
["Пројекат 0701-01",0,25120000,25120000]
["Пројекат 0701-02",0,3800000,3800000]
["Пројекат 0701-03",0,20000000,20000000]
["Пројекат 0701-04",1760000,25000000,26760000]
["Пројекат 0701-05",0,8000000,8000000]
["Пројекат 0701-06",1000000,0,1000000]
["Пројекат 0701-07",3000000,0,3000000]
["Пројекат 0701-08",3000000,0,3000000]
["Пројекат 0701-09",2500000,0,2500000]
["Пројекат 0701-10",3000000,0,3000000]
["Пројекат 0701-11",1725000,0,1725000]
["Пројекат 0701-12",500000,0,500000]
["Пројекат 0701-13",600000,0,600000]
["Пројекат 0701-15",650000,0,650000]
["Пројекат 0701-16",400000,0,400000]
["Пројекат 0701-17",650000,0,650000]
["Пројекат 0701-18",650000,0,650000]
["Пројекат 0701-19",300000,0,300000]
["Пројекат 0701-20",650000,0,650000]
["Пројекат 0701-21",650000,0,650000]
["Пројекат 0701-22",650000,0,650000]
["Пројекат 0701-23",650000,0,650000]
["Пројекат 0701-24",650000,0,650000]
["Пројекат 0701-25",2480000,0,2480000]
["Пројекат 0701-26",495000,0,495000]
["Пројекат 0701-27",2500000,0,2500000]
["Пројекат 0701-28",700000,0,700000]
["Пројекат 0701-29",4050000,0,4050000]
["Пројекат 0701-30",400000,0,400000]
["Пројекат 0701-31",3000000,0,3000000]
["Пројекат 0701-32",2200000,0,2200000]
["Пројекат 0701-33",470000,0,470000]
["Пројекат 0701-34",1150000,0,1150000]
["Пројекат 0701-35",2000000,0,2000000]
["Пројекат 0701-36",1100000,0,1100000]
["Пројекат 0701-37",800000,0,800000]
["Пројекат 0701-38",1230000,0,1230000]
["Пројекат 0701-39",1200000,0,1200000]
["Пројекат 0701-40",320000,0,320000]
["Пројекат 0701-41",2300000,0,2300000]
["Пројекат 0701-42",1289000,0,1289000]
["Пројекат 0701-43",2800000,0,2800000]
["Пројекат 0701-44",660000,0,660000]
["Пројекат 0701-45",830000,0,830000]
["Пројекат 0701-46",1100000,0,1100000]
["Пројекат 0701-47",580000,0,580000]
["Пројекат 0701-48",300000,0,300000]
["Пројекат 0701-49",400000,0,400000]
["Пројекат 0701-50",450000,0,450000]
["Пројекат 0701-51",400000,0,400000]
["Пројекат 0701-52",520000,0,520000]
["Пројекат 0701-53",250000,0,250000]
["Пројекат 0701-54",830000,0,830000]
["Пројекат 0701-55",870000,0,870000]
["Пројекат 0701-56",550000,0,550000]
["Пројекат 0701-57",530000,0,530000]
["Пројекат 0701-58",1300000,0,1300000]
["Пројекат 0701-59",1600000,0,1600000]
["Пројекат 0701-60",530000,0,530000]
["Пројекат 1201-01",150000,0,150000]
["Пројекат 1201-02",150000,0,150000]
["Пројекат 1201-03",400000,0,400000]
["Пројекат 1201-04:",250000,0,250000]
["Пројекат 1301-01:",710000,0,710000]
["Програмска активност 0401-0006:",2000000,0,2000000]
["Пројекат 0701-14",600000,0,600000]
["Пројекат 0701-61",4300000,0,4300000]
["Пројекат 0701-62",700000,0,700000]
["Пројекат 0701-63",520000,0,520000]
["Пројекат 0701-64",700000,0,700000]
["Пројекат 0701-65",680000,0,680000]
["Пројекат 0701-66",700000,0,700000]
["Пројекат 0701-67",2300000,0,2300000]
["Пројекат 0701-68",450000,0,450000]
["Пројекат 0701-69",430000,0,430000]
["Пројекат 0701-70",450000,0,450000]
["Пројекат 0701-71",400000,0,400000]
["Пројекат 0701-72",400000,0,400000]
["Пројекат 0701-73",500000,0,500000]
["Пројекат 0701-74",500000,0,500000]
["Пројекат 0701-75",735000,0,735000]
["Пројекат 0701-76",620000,0,620000]
["Пројекат 0701-77",480000,0,480000]
["Пројекат 0701-78",475000,0,475000]
["Пројекат 0701-79",450000,0,450000]
["Пројекат 0701-80",400000,0,400000]
["Пројекат 0701-81",680000,0,680000]
["Пројекат 0701-82",520000,0,520000]
["Пројекат 0701-83",600000,0,600000]
["Пројекат 0701-84",540000,0,540000]
["Пројекат 0701-85",1040000,0,1040000]
["Пројекат 0701-86",600000,0,600000]
["Пројекат 0701-87",2000000,0,2000000]
["Пројекат 0701-88",2000000,0,2000000]
["Пројекат 0701-89",450000,0,450000]
["Пројекат 0701-90",400000,0,400000]
["Пројекат 0701-91",400000,0,400000]
["Пројекат 0701-92",2000000,0,2000000]
["Пројекат 0701-93",400000,0,400000]
["Пројекат 0701-94",1200000,0,1200000]
["Пројекат 0701-95",400000,0,400000]
["Grand Total",829804000,334696000,1164500000]

{"sheet":"Troškovi 2018","index":7,"n_rows":1144,"n_cols":18,"rows_kept":1144,"cut":false,"hidden":false,"merged":[]}
["Раздео","Глава","Програмска активност","Функција","Позиција","Економска класификација","ОПИС","Средства из буџета         ","Средства из буџета    републике","Средства из сопствених извора","Укупно"]
[1,2,3,4,5,6,7,8,9,10,10]
[1,"1.01",null,null,null,null,"СКУПШТИНА ОПШТИНЕ"]
[null,null,2101,null,null,null,"ПРОГРАМ 16: ПОЛИТИЧКИ СИСТЕМ ЛОКАЛНЕ САМОУПРАВЕ",null,null,null,null,{"$f":"H4+I4+J4","v":0},{"$f":"K4-L4","v":0}]
[null,null,"2101-0001",null,null,null,"Функционисање скупштине",null,null,null,null,0,0]
[null,null,null,111,null,null,"Извршни и законодавни органи, финансијски и фискални послови",null,null,null,null,0,0]
[null,null,null,null,1,411,"Плате, додаци и накнаде запосленима",{"$f":"2400000*1.05","v":2520000},null,null,{"$f":"H7+I7+J7","v":2520000},{"$f":"H7+I7+J7","v":2520000},{"$f":"K7-L7","v":0},null,null,null,{"$f":"IF(E7>0,H7,0)","v":2520000},{"$f":"IF(E7=0,H7,\"\")","v":""}]
[null,null,null,null,2,412,"Социјални доприноси на терет послодавца",451100,null,null,451100,{"$f":"H8+I8+J8","v":451100},{"$f":"K8-L8","v":0},null,null,null,{"$f":"IF(E8>0,H8,0)","v":451100},{"$f":"IF(E8=0,H8,\"\")","v":""}]
[null,null,null,null,3,414,"Социјална давања запосленима",100000,null,null,100000,100000,0,null,null,null,100000,""]
[null,null,null,null,4,416,"Награде, бонуси и остали пословни расхода",5000,null,null,5000,5000,0,null,null,null,5000,""]
[null,null,null,null,5,422,"Трошкови путовања",100000,null,null,100000,100000,0,null,null,null,100000,""]
[null,null,null,null,6,423,"Услуге по уговору",15600000,null,null,15600000,15600000,0,null,null,null,15600000,""]
[null,null,null,null,7,426,"Материјал",50000,null,null,50000,50000,0,null,null,null,50000,""]
[null,null,null,null,8,465,"Остале текуће донације по закону",350000,null,null,350000,350000,0,null,null,null,350000,""]
[null,null,null,null,9,481,"Дотација - редован рад политичких странака (порески приходи*0,105%)",367000,null,null,367000,367000,0,null,null,null,367000,""]
[null,null,null,null,null,null,"Функција 111:",{"$f":"SUBTOTAL(9,H7:H15)","v":19543100},{"$f":"SUBTOTAL(9,I7:I15)","v":0},{"$f":"SUBTOTAL(9,J7:J15)","v":0},{"$f":"SUBTOTAL(9,K7:K15)","v":19543100},19543100,0,null,null,null,0,19543100]
[null,null,null,null,null,null,"Програмска активност 2101-0001:",{"$f":"SUBTOTAL(9,H7:H15)","v":19543100},{"$f":"SUBTOTAL(9,I7:I15)","v":0},{"$f":"SUBTOTAL(9,J7:J15)","v":0},{"$f":"SUBTOTAL(9,K7:K15)","v":19543100},19543100,0,null,null,null,0,19543100]
[null,null,null,null,null,null,null,null,null,null,null,0,0,null,null,null,0,0]
[null,2,"2101-0003",null,null,null,"Подршка раду извршних органа власти и скупштине",null,null,null,{"$f":"H19+I19+J19","v":0},0,0,null,null,null,0,0]
[null,null,null,111,null,null,"Извршни и законодавни органи",null,null,null,0,0,0,null,null,null,0,0]
[null,null,null,null,10,423,"Услуге по уговору",2750000,null,null,2750000,2750000,0,null,null,null,2750000,""]
[null,null,null,null,11,481,"Дотације - Савет за безбедност општине Бујановац",800000,null,null,800000,800000,0,null,null,null,800000,""]
[null,null,null,null,12,481,"Дотације - Савет за међунационалне односе",200000,null,null,200000,200000,0,null,null,null,200000,""]
[null,null,null,null,13,481,"Дотације - Савет за родну равноправност",200000,null,null,200000,200000,0,null,null,null,200000,""]
[null,null,null,null,null,null,"Функција 111:",{"$f":"SUBTOTAL(9,H21:H24)","v":3950000},{"$f":"SUBTOTAL(9,I21:I24)","v":0},0,3950000,3950000,0,null,null,null,0,3950000]
[null,null,null,null,null,null,"Програмска активност 2101-0003:",{"$f":"SUBTOTAL(9,H21:H24)","v":3950000},{"$f":"SUBTOTAL(9,I21:I24)","v":0},0,3950000,3950000,0,null,null,null,0,3950000]
[null,null,null,null,null,null,"УКУПНО ЗА ГЛАВУ 1.01:",{"$f":"SUBTOTAL(9,H7:H26)","v":23493100},{"$f":"SUBTOTAL(9,I7:I26)","v":0},0,23493100,23493100,0,null,null,null,0,23493100]
[null,null,null,null,null,null,"УКУПНО ЗА РАЗДЕО 1:",{"$f":"SUBTOTAL(9,H7:H27)","v":23493100},{"$f":"SUBTOTAL(9,I7:I27)","v":0},0,23493100,23493100,0,null,null,null,0,23493100]
[null,null,null,null,null,null,null,null,null,null,{"$f":"H29+I29+J29","v":0},0,0,null,null,null,0,0]
[2,"2.01",null,null,null,null,"ПРЕДСЕДНИК ОПШТИНЕ",null,null,null,0,0,0,null,null,null,0,0]
[null,null,2101,null,null,null,"ПРОГРАМ 16: ПОЛИТИЧКИ СИСТЕМ ЛОКАЛНЕ САМОУПРАВЕ",null,null,null,0,0,0,null,null,null,0,0]
[null,null,"2101-0002",null,null,null,"Функционисање извршних органа",null,null,null,0,0,0,null,null,null,0,0]
[null,null,null,111,null,null,"Извршни и законодавни органи",null,null,null,0,0,0,null,null,null,0,0]
[null,null,null,null,14,411,"Плате, додаци и накнаде запосленима",2635000,null,null,2635000,2635000,0,null,null,null,2635000,""]
[null,null,null,null,15,412,"Социјални доприноси на терет послодавца",400000,null,null,400000,400000,0,null,null,null,400000,""]
[null,null,null,null,16,414,"Социјална давања запосленима",50000,null,null,50000,50000,0,null,null,null,50000,""]
[null,null,null,null,17,416,"Награде, бонуси и остали пословни расхода",100000,null,null,100000,100000,0,null,null,null,100000,""]
[null,null,null,null,18,422,"Трошкови путовања",500000,null,null,500000,500000,0,null,null,null,500000,""]
[null,null,null,null,19,423,"Услуге по уговору",2370000,null,null,2370000,2370000,0,null,null,null,2370000,""]
[null,null,null,null,20,426,"Материјал",50000,null,null,50000,50000,0,null,null,null,50000,""]
[null,null,null,null,21,465,"Остале текуће донације по закону",350000,null,null,350000,350000,0,null,null,null,350000,""]
[null,null,null,null,null,null,"Функција 111:",{"$f":"SUBTOTAL(9,H34:H41)","v":6455000},{"$f":"SUBTOTAL(9,I34:I41)","v":0},{"$f":"SUBTOTAL(9,J34:J41)","v":0},{"$f":"SUBTOTAL(9,K34:K41)","v":6455000},6455000,0,null,null,null,0,6455000]
[null,null,null,null,null,null,"Програмска активност 2101-0002:",{"$f":"SUBTOTAL(9,H34:H41)","v":6455000},{"$f":"SUBTOTAL(9,I34:I41)","v":0},{"$f":"SUBTOTAL(9,J34:J41)","v":0},{"$f":"SUBTOTAL(9,K34:K41)","v":6455000},6455000,0,null,null,null,0,6455000]
[null,null,"2101-0002",null,null,null,"Функционисање извршних органа",null,null,null,{"$f":"H44+I44+J44","v":0},0,0,null,null,null,0,0]
[null,null,null,111,null,null,"Извршни и законодавни органи",null,null,null,0,0,0,null,null,null,0,0]
[null,null,null,null,22,423,"Обележавање дана Општине Бујановац",200000,null,null,200000,200000,0,null,null,null,200000,""]
[null,null,null,null,23,"423","Обележавање дана дијаспоре",150000,null,null,150000,150000,0,null,null,null,150000,""]
[null,null,null,null,null,null,"Функција 111:",{"$f":"SUBTOTAL(9,H46:H47)","v":350000},{"$f":"SUBTOTAL(9,I46:I47)","v":0},0,350000,350000,0,null,null,null,0,350000]
[null,null,null,null,null,null,"Програмска активност 2101-0002:",{"$f":"SUBTOTAL(9,H46:H47)","v":350000},{"$f":"SUBTOTAL(9,I46:I47)","v":0},0,350000,350000,0,null,null,null,0,350000]
[null,null,null,null,null,null,"УКУПНО ЗА ГЛАВУ 2.01:",{"$f":"SUBTOTAL(9,H34:H49)","v":6805000},{"$f":"SUBTOTAL(9,I34:I49)","v":0},0,6805000,6805000,0,null,null,null,0,6805000]
[null,null,null,null,null,null,"УКУПНО ЗА РАЗДЕО 2:",{"$f":"SUBTOTAL(9,H34:H50)","v":6805000},{"$f":"SUBTOTAL(9,I34:I50)","v":0},0,6805000,6805000,0,null,null,null,0,6805000]
[null,null,null,null,null,null,null,null,null,null,null,0,0,null,null,null,0,0]
[3,"3.01",null,null,null,null,"ОПШТИНСКО ВЕЋЕ",null,null,null,{"$f":"H53+I53+J53","v":0},0,0,null,null,null,0,0]
[null,null,2101,null,null,null,"ПРОГРАМ 16: ПОЛИТИЧКИ СИСТЕМ ЛОКАЛНЕ САМОУПРАВЕ",null,null,null,0,0,0,null,null,null,0,0]
[null,null,"2101-0002",null,null,null,"Функционисање извршних органа",null,null,null,0,0,0,null,null,null,0,0]
[null,null,null,111,null,null,"Извршни и законодавни органи",null,null,null,0,0,0,null,null,null,0,0]
[null,null,null,null,24,423,"Услуге по уговору",4315500,null,null,4315500,4315500,0,null,null,null,4315500,""]
[null,null,null,null,25,426,"Материјал",50000,null,null,50000,50000,0,null,null,null,50000,""]
[null,null,null,null,null,null,"Функција 111:",{"$f":"SUBTOTAL(9,H57:H58)","v":4365500},{"$f":"SUBTOTAL(9,I57:I58)","v":0},0,4365500,4365500,0,null,null,null,0,4365500]
[null,null,null,null,null,null,"Програмска активност 2101-0002:",{"$f":"SUBTOTAL(9,H57:H58)","v":4365500},{"$f":"SUBTOTAL(9,I57:I58)","v":0},0,4365500,4365500,0,null,null,null,0,4365500]
[null,null,null,null,null,null,null,null,null,null,null,0,0,null,null,null,0,0]
[null,null,"2101-0003",null,null,null,"Подршка раду извршних органа власти и скупштине",null,null,null,{"$f":"H62+I62+J62","v":0},0,0,null,null,null,0,0]
[null,null,null,111,null,null,"Извршни и законодавни органи - рад комисија",null,null,null,{"$f":"H63+I63+J63","v":0},0,0,null,null,null,0,0]
[null,null,null,null,26,423,"Услуге по уговору",3500000,null,null,{"$f":"H64+I64+J64","v":3500000},3500000,0,null,null,null,3500000,""]
[null,null,null,null,null,null,"Функција 111:",{"$f":"SUBTOTAL(9,H64)","v":3500000},{"$f":"SUBTOTAL(9,I64)","v":0},0,3500000,3500000,0,null,null,null,0,3500000]
[null,null,null,null,null,null,"Програмска активност 2101-0003:",{"$f":"SUBTOTAL(9,H64)","v":3500000},{"$f":"SUBTOTAL(9,I64)","v":0},0,3500000,3500000,0,null,null,null,0,3500000]
[null,null,null,null,null,null,"УКУПНО ЗА ГЛАВУ 3.01:",{"$f":"SUBTOTAL(9,H57:H66)","v":7865500},{"$f":"SUBTOTAL(9,I57:I66)","v":0},0,7865500,7865500,0,null,null,null,0,7865500]
[null,null,null,null,null,null,"УКУПНО ЗА РАЗДЕО 3:",{"$f":"SUBTOTAL(9,H57:H67)","v":7865500},{"$f":"SUBTOTAL(9,I57:I67)","v":0},0,7865500,7865500,0,null,null,null,0,7865500]
[null,null,null,null,null,null,null,null,null,null,null,0,0,null,null,null,0,0]
[4,"4.01",null,null,null,null,"ПРАВОБРАНИЛАШТВО ОПШТИНЕ БУЈАНОВАЦ",null,null,null,{"$f":"H70+I70+J70","v":0},0,0,null,null,null,0,0]
[null,null,"0602",null,null,null,"ПРОГРАМ 15: ЛОКАЛНА САМОУПРАВА",null,null,null,0,0,0,null,null,null,0,0]
[null,null,"0602-0004",null,null,null,"Правобранилаштво општине Бујановац",null,null,null,0,{"$f":"H72+I72+J72","v":0},{"$f":"K72-L72","v":0},null,null,null,{"$f":"IF(E72>0,H72,0)","v":0},{"$f":"IF(E72=0,H72,\"\")","v":0}]
[null,null,null,330,null,null,"Судови",null,null,null,0,0,0,null,null,null,0,0]
[null,null,null,null,27,411,"Плате, додаци и накнаде запосленима",1800000,null,null,1800000,1800000,0,null,null,null,1800000,""]
[null,null,null,null,28,412,"Социјални доприноси на терет послодавца",322200,null,null,322200,322200,0,null,null,null,322200,""]
[null,null,null,null,29,422,"Трошкови путовања",20000,null,null,20000,20000,0,null,null,null,20000,""]
[null,null,null,null,30,423,"Услуге по уговору",100000,null,null,100000,100000,0,null,null,null,100000,""]
[null,null,null,null,31,426,"Материјал",10000,null,null,10000,10000,0,null,null,null,10000,""]
[null,null,null,null,32,465,"Остале текуће донације по закону",220000,null,null,220000,220000,0,null,null,null,220000,""]
[null,null,null,null,33,483,"Новчане казне и пенали по решењу судова",3000000,null,null,3000000,3000000,0,null,null,null,3000000,""]
[null,null,null,null,null,null,"Функција 330:",{"$f":"SUBTOTAL(9,H74:H80)","v":5472200},{"$f":"SUBTOTAL(9,I74:I80)","v":0},0,5472200,5472200,0,null,null,null,0,5472200]
[null,null,null,null,null,null,"Програмска активност 0602-0004:",{"$f":"SUBTOTAL(9,H74:H80)","v":5472200},{"$f":"SUBTOTAL(9,I74:I80)","v":0},0,5472200,5472200,0,null,null,null,0,5472200]
[null,null,null,null,null,null,"УКУПНО ЗА ГЛАВУ 4.01:",{"$f":"SUBTOTAL(9,H74:H80)","v":5472200},{"$f":"SUBTOTAL(9,I74:I80)","v":0},0,5472200,5472200,0,null,null,null,0,5472200]
[null,null,null,null,null,null,"УКУПНО ЗА РАЗДЕО 4:",{"$f":"SUBTOTAL(9,H74:H83)","v":5472200},{"$f":"SUBTOTAL(9,I74:I83)","v":0},0,5472200,5472200,0,null,null,null,0,5472200]
[null,null,null,null,null,null,null,null,null,null,{"$f":"H85+I85+J85","v":0},0,0,null,null,null,0,0]
[5,"5.01",null,null,null,null,"ОПШТИНСКА УПРАВА",null,null,null,0,0,0,null,null,null,0,0]
[null,null,"0602",null,null,null,"ПРОГРАМ 15: ЛОКАЛНА САМОУПРАВА",null,null,null,0,0,0,null,null,null,0,0]
[null,null,"0602-0001",null,null,null,"Функционисање локалне самоуправе  и градских општина",null,null,null,0,0,0,null,null,null,0,0]
[null,null,null,130,null,null,"Опште јавне услуге",null,null,null,0,0,0,null,null,null,0,0]
[null,null,null,null,34,411,"Плате, додаци и накнаде запосленима",107500000,null,null,107500000,107500000,0,null,null,null,107500000,""]
[null,null,null,null,35,412,"Социјални доприноси на терет послодавца",19245000,null,null,19245000,19245000,0,null,null,null,19245000,""]
[null,null,null,null,36,413,"Накнаде у натури",10000,null,null,10000,10000,0,null,null,null,10000,""]
[null,null,null,null,37,414,"Социјална давања запосленима",{"$f":"4607900+392100","v":5000000},null,null,5000000,5000000,0,null,null,null,5000000,""]
[null,null,null,null,38,415,"Накнаде трошкова за запослене",5000000,null,null,5000000,5000000,0,null,null,null,5000000,""]
[null,null,null,null,39,416,"Награде, бонуси и остали пословни расхода",1500000,null,null,1500000,1500000,0,null,null,null,1500000,""]
[null,null,null,null,40,421,"Стални трошкови",{"$f":"12000000-500000-200000","v":11300000},null,null,11300000,11300000,0,null,null,null,11300000,""]
[null,null,null,null,41,422,"Трошкови путовања",{"$f":"2000000-300000","v":1700000},null,null,1700000,1700000,0,null,null,null,1700000,""]
[null,null,null,null,42,423,"Услуге по уговору",10000000,null,null,10000000,10000000,0,null,null,null,10000000,""]
[null,null,null,null,43,424,"Специјализоване услуге",500000,null,null,500000,500000,0,null,null,null,500000,""]
[null,null,null,null,44,425,"Текуће поправке и  одржавање",{"$f":"2500000-200000","v":2300000},null,null,2300000,2300000,0,null,null,null,2300000,""]
[null,null,null,null,45,426,"Материјал",{"$f":"11500000-1500000-300000+100000-800000","v":9000000},null,null,9000000,9000000,0,null,null,null,9000000,""]
[null,null,null,null,46,465,"Остале текуће донације по закону",11500000,null,null,11500000,11500000,0,null,null,null,11500000,""]
[null,null,null,null,47,482,"Порези , обавезне таксе и казне",{"$f":"700000-200000","v":500000},null,null,500000,500000,0,null,null,null,500000,""]
[null,null,null,null,48,483,"Новчане казне и пенали по решењу судова",50000,null,null,50000,50000,0,null,null,null,50000,""]
[null,null,null,null,49,511,"Зграде и грађевински објекти",10000,null,null,10000,10000,0,null,null,null,10000,""]
[null,null,null,null,50,512,"Машине и опрема",{"$f":"5000000-500000","v":4500000},null,null,4500000,4500000,0,null,null,null,4500000,""]
[null,null,null,null,51,515,"Нематеријална имовина",200000,null,null,200000,200000,0,null,null,null,200000,""]
[null,null,null,null,52,"541","Набавка земљишта",1000000,null,null,1000000,1000000,0,null,null,null,1000000,""]
[null,null,null,null,null,null,"Функција 130:",{"$f":"SUBTOTAL(9,H90:H108)","v":190815000},{"$f":"SUBTOTAL(9,I90:I107)","v":0},0,{"$f":"SUBTOTAL(9,K90:K108)","v":190815000},190815000,0,null,null,null,0,190815000]
[null,null,null,null,null,null,"Програмска активност 0602-0001:",{"$f":"SUBTOTAL(9,H90:H108)","v":190815000},{"$f":"SUBTOTAL(9,I90:I107)","v":0},0,{"$f":"SUBTOTAL(9,K90:K108)","v":190815000},190815000,0,null,null,null,0,190815000]
[null,null,null,null,null,null,null,null,null,null,null,0,0,null,null,null,0,0]
[null,null,"0602-0001",null,null,null,"Подршка раду извршних органа власти и скупштине",null,null,null,{"$f":"H112+I112+J112","v":0},0,0,null,null,null,0,0]
[null,null,null,160,null,null,"Опште јавне услуге које нису класификоване на другом месту",null,null,null,0,0,0,null,null,null,0,0]
[null,null,null,null,53,481,"Дотације - Агенција за развој Бујановца и Прешева",400000,null,null,400000,400000,0,null,null,null,400000,""]
[null,null,null,null,54,481,"Дотација - Центар за развој Пчињског и Јабланичког округа",200000,null,null,200000,200000,0,null,null,null,200000,""]
[null,null,null,null,55,481,"Дотације  - Привредна комора ",400000,null,null,400000,400000,0,null,null,null,400000,""]
[null,null,null,null,56,481,"Дотација - Стална конференција градова и општина (чланарина)",500000,null,null,500000,500000,0,null,null,null,500000,""]
[null,null,null,null,57,481,"Дотација са страним донаторима - фондови ЕУ ",{"$f":"4000000-2000000-300000","v":1700000},null,null,1700000,1700000,0,null,null,null,1700000,""]
[null,null,null,null,58,481,"Дотација - Налед",100000,null,null,100000,100000,0,null,null,null,100000,""]
[null,null,null,null,59,481,"Дотације - Историјски архив Врање",463000,null,null,463000,463000,0,null,null,null,463000,""]
[null,null,null,null,null,null,"Функција 160:",{"$f":"SUBTOTAL(9,H114:H120)","v":3763000},{"$f":"SUBTOTAL(9,I114:I120)","v":0},0,3763000,3763000,0,null,null,null,0,3763000]
[null,null,null,null,null,null,"Програмска активност 0602-0001:",{"$f":"SUBTOTAL(9,H114:H120)","v":3763000},{"$f":"SUBTOTAL(9,I114:I120)","v":0},0,3763000,3763000,0,null,null,null,0,3763000]
[null,null,null,null,null,null,null,null,null,null,{"$f":"H123+I123+J123","v":0},0,0,null,null,null,0,0]
[null,null,"0602-0007",null,null,null,"Функционисање националних савета националних мањина",null,null,null,{"$f":"H124+I124+J124","v":0},0,0,null,null,null,0,0]
[null,null,null,"090",null,null,"Социјална заштита некласификована на другом месту ",null,null,null,{"$f":"H125+I125+J125","v":0},0,0,null,null,null,0,0]
[null,null,null,null,60,481,"Дотације невладиним организацијама - Декада Рома",1000000,null,null,{"$f":"H126+I126+J126","v":1000000},1000000,0,null,null,null,1000000,""]
[null,null,null,null,61,481,"Дотације невладиним организацијама - Национални савет Албанаца",3000000,null,null,{"$f":"H127+I127+J127","v":3000000},3000000,0,null,null,null,3000000,""]
[null,null,null,null,null,null,"Функција 090:",{"$f":"SUBTOTAL(9,H126:H127)","v":4000000},{"$f":"SUBTOTAL(9,I126:I127)","v":0},{"$f":"SUBTOTAL(9,J126:J127)","v":0},{"$f":"SUBTOTAL(9,K126:K127)","v":4000000},4000000,0,null,null,null,0,4000000]
[null,null,null,null,null,null,"Програмска активност 0602-0007:",{"$f":"SUBTOTAL(9,H126:H127)","v":4000000},{"$f":"SUBTOTAL(9,I126:I127)","v":0},{"$f":"SUBTOTAL(9,J126:J127)","v":0},{"$f":"SUBTOTAL(9,K126:K127)","v":4000000},4000000,0,null,null,null,0,4000000]
[null,null,null,null,null,null,null,null,null,null,null,0,0,null,null,null,0,0]
[null,null,"0602-0009",null,null,null,"Текућа буџетска резерва",null,null,null,{"$f":"H131+I131+J131","v":0},0,0,null,null,null,0,0]
[null,null,null,130,null,null,"Опште јавне услуге",null,null,null,{"$f":"H132+I132+J132","v":0},0,0,null,null,null,0,0]
[null,null,null,null,62,49912,"Текућа резерва",{"$f":"20000000-5000000-5000000+1500000","v":11500000},null,null,{"$f":"H133+I133+J133","v":11500000},11500000,0,null,null,null,11500000,""]
[null,null,null,null,null,null,"Функција 130:",{"$f":"SUBTOTAL(9,H133)","v":11500000},{"$f":"SUBTOTAL(9,I133)","v":0},0,11500000,11500000,0,null,null,null,0,11500000]
[null,null,null,null,null,null,"Програмска активност 0602-0009:",{"$f":"SUBTOTAL(9,H133)","v":11500000},{"$f":"SUBTOTAL(9,I133)","v":0},0,11500000,11500000,0,null,null,null,0,11500000]
[null,null,null,null,null,null,null,null,null,null,null,{"$f":"H136+I136+J136","v":0},{"$f":"K136-L136","v":0},null,null,null,{"$f":"IF(E136>0,H136,0)","v":0},{"$f":"IF(E136=0,H136,\"\")","v":0}]
[null,null,"0602-0010",null,null,null,"Стална буџетска резерва",null,null,null,{"$f":"H137+I137+J137","v":0},0,0,null,null,null,0,0]
[null,null,null,130,null,null,"Опште јавне услуге",null,null,null,{"$f":"H138+I138+J138","v":0},0,0,null,null,null,0,0]
[null,null,null,null,63,49911,"Стална резерва",500000,null,null,{"$f":"H139+I139+J139","v":500000},500000,0,null,null,null,500000,""]
[null,null,null,null,null,null,"Функција 130:",{"$f":"SUBTOTAL(9,H139)","v":500000},{"$f":"SUBTOTAL(9,I139)","v":0},0,500000,500000,0,null,null,null,0,500000]
[null,null,null,null,null,null,"Програмска активност 0602-0010:",{"$f":"SUBTOTAL(9,H139)","v":500000},{"$f":"SUBTOTAL(9,I139)","v":0},0,500000,500000,0,null,null,null,0,500000]
[null,null,null,null,null,null,null,null,null,null,{"$f":"H142+I142+J142","v":0},0,0,null,null,null,0,0]
[null,null,"0602-0014",null,null,null,"Ванредне ситуације",null,null,null,{"$f":"H143+I143+J143","v":0},0,0,null,null,null,0,0]
[null,null,null,"160",null,null,"Опште јавне услуге које нису класификоване на другом месту",null,null,null,{"$f":"H144+I144+J144","v":0},0,0,null,null,null,0,0]
[null,null,null,null,64,"423","Услуге по уговору",400000,null,null,{"$f":"H145+I145+J145","v":400000},400000,0,null,null,null,400000,""]
[null,null,null,null,65,"425","Текуће поправке и одржавање",1100000,null,null,{"$f":"H146+I146+J146","v":1100000},1100000,0,null,null,null,1100000,""]
[null,null,null,null,null,null,"Функција 160:",{"$f":"SUBTOTAL(9,H145:H146)","v":1500000},{"$f":"SUBTOTAL(9,I145:I146)","v":0},0,1500000,1500000,0,null,null,null,0,1500000]
[null,null,null,null,null,null,"Програмска активност 0602-0014:",{"$f":"SUBTOTAL(9,H145:H146)","v":1500000},{"$f":"SUBTOTAL(9,I145:I146)","v":0},0,1500000,1500000,0,null,null,null,0,1500000]
[null,null,null,null,null,null,null,null,null,null,null,0,0,null,null,null,0,0]
[null,null,null,null,null,null,"ПРОГРАМ 1: ЛОКАЛНИ РАЗВОЈ И ПРОСТОРНО ПЛАНИРАЊЕ",null,null,null,{"$f":"H150+I150+J150","v":0},0,0,null,null,null,0,0]
[null,null,"1101-0001",null,null,null,"Просторно и урбанистичко планирање",null,null,null,0,0,0,null,null,null,0,0]
[null,null,null,"160",null,null,"Опште јавне услуге које нису класификоване на другом месту",null,null,null,0,0,0,null,null,null,0,0]
[null,null,null,null,66,"511","Зграде и грађевински објекти - Израда пројектне документације",5000000,null,null,5000000,5000000,0,null,null,null,5000000,""]
[null,null,null,null,null,null,"Функција 160:",{"$f":"SUBTOTAL(9,H153)","v":5000000},{"$f":"SUBTOTAL(9,I153)","v":0},0,5000000,5000000,0,null,null,null,0,5000000]
[null,null,null,null,null,null,null,null,null,null,null,0,0,null,null,null,0,0]
[null,null,null,"620",null,null,"ЈП \"ДИРЕКЦИЈА ЗА ГРАЂЕВИНСКО ЗЕМЉИШТЕ, УРБАНИЗАМ, ПУТЕВЕ И СТАМБЕНЕ ПОСЛОВЕ ОПШТИНЕ БУЈАНОВАЦ\" - у Ликвидацији \nПо Закључку о давању сагласности СО Бујановац број 04-73/2017 од 05.10.2017. године на Почетни ликвидациони извештај - број решења АПР: БД 39792/2017 - део обавеза",null,null,null,null,0,0,null,null,null,0,0]
[null,null,null,null,67,"423","Услуге по уговору - надокнада ликвидационом управнику",{"$f":"12*80000","v":960000},null,null,{"$f":"H157+I157+J157","v":960000},960000,0,null,null,null,960000,""]
[null,null,null,null,68,"483","Новчане казне и пенали по решењу судова",10000000,null,null,{"$f":"H158+I158+J158","v":10000000},10000000,0,null,null,null,10000000,""]
[null,null,null,null,null,null,"Функција 620:",{"$f":"SUBTOTAL(9,H157:H158)","v":10960000},{"$f":"SUBTOTAL(9,I157:I158)","v":0},0,10960000,10960000,0,null,null,null,0,10960000]
[null,null,null,null,null,null,"Програмска активност 1101-0001:",{"$f":"SUBTOTAL(9,H153:H159)","v":15960000},{"$f":"SUBTOTAL(9,I153:I159)","v":0},0,15960000,15960000,0,null,null,null,0,15960000]
[null,null,null,null,null,null,null,null,null,null,null,0,0,null,null,null,0,0]
[null,null,1102,null,null,null,"ПРОГРАМ 2: КОМУНАЛНА ДЕЛАТНОСТ",null,null,null,{"$f":"H162+I162+J162","v":0},0,0,null,null,null,0,0]
[null,null,"1102-0001",null,null,null,"Јавна расвета",null,null,null,0,0,0,null,null,null,0,0]
[null,null,null,640,null,null,"Улична расвета",null,null,null,0,0,0,null,null,null,0,0]
[null,null,null,null,69,421,"Стални трошкови",17000000,null,null,17000000,17000000,0,null,null,null,17000000,""]
[null,null,null,null,70,425,"Текуће поправке и одржавање",3500000,null,null,3500000,3500000,0,null,null,null,3500000,""]
[null,null,null,null,null,null,"Функција 640:",{"$f":"SUBTOTAL(9,H165:H166)","v":20500000},{"$f":"SUBTOTAL(9,I165:I166)","v":0},{"$f":"SUBTOTAL(9,J165:J166)","v":0},{"$f":"SUBTOTAL(9,K165:K166)","v":20500000},20500000,0,null,null,null,0,20500000]
[null,null,null,null,null,null,"Програмска активност 1102-0001:",{"$f":"SUBTOTAL(9,H165:H166)","v":20500000},{"$f":"SUBTOTAL(9,I165:I166)","v":0},{"$f":"SUBTOTAL(9,J165:J166)","v":0},{"$f":"SUBTOTAL(9,K165:K166)","v":20500000},20500000,0,null,null,null,0,20500000]
[null,null,null,null,null,null,null,null,null,null,null,0,0,null,null,null,0,0]
[null,null,"1102-0002",null,null,null,"Уређење и одржавање зеленила",null,null,null,{"$f":"H170+I170+J170","v":0},0,0,null,null,null,0,0]
[null,null,null,660,null,null,"Послови становања и заједнице некласификоване на другом месту",null,null,null,{"$f":"H171+I171+J171","v":0},0,0,null,null,null,0,0]
[null,null,null,null,71,424,"Специјализоване услуге - одржавање зеленила",1000000,null,null,{"$f":"H172+I172+J172","v":1000000},1000000,0,null,null,null,1000000,""]
[null,null,null,null,null,null,"Функција 660:",{"$f":"SUBTOTAL(9,H172)","v":1000000},{"$f":"SUBTOTAL(9,I172)","v":0},0,1000000,1000000,0,null,null,null,0,1000000]
[null,null,null,null,null,null,"Програмска активност 1102-0002:",{"$f":"SUBTOTAL(9,H172)","v":1000000},{"$f":"SUBTOTAL(9,I172)","v":0},0,1000000,1000000,0,null,null,null,0,1000000]
[null,null,null,null,null,null,null,null,null,null,null,0,0,null,null,null,0,0]
[null,null,"1102-0003",null,null,null,"Јавна хигијена",null,null,null,{"$f":"H176+I176+J176","v":0},0,0,null,null,null,0,0]
[null,null,null,660,null,null,"Послови становања и заједнице некласификоване на другом месту",null,null,null,0,0,0,null,null,null,0,0]
[null,null,null,null,72,424,"Специјализоване услуге - метење улица",9000000,null,null,9000000,9000000,0,null,null,null,9000000,""]
[null,null,null,null,null,null,"Функција 660:",{"$f":"SUBTOTAL(9,H178)","v":9000000},{"$f":"SUBTOTAL(9,I178)","v":0},0,9000000,9000000,0,null,null,null,0,9000000]
[null,null,null,null,null,null,"Програмска активност 1102-0003:",{"$f":"SUBTOTAL(9,H178)","v":9000000},{"$f":"SUBTOTAL(9,I178)","v":0},0,9000000,9000000,0,null,null,null,0,9000000]
[null,null,null,null,null,null,null,null,null,null,null,0,0,null,null,null,0,0]
[null,null,"1102-0004",null,null,null,"Зоохигијена",null,null,null,{"$f":"H182+I182+J182","v":0},0,0,null,null,null,0,0]
[null,null,null,"160",null,null,"Опште јавне услуге некласификоване на другом месту",null,null,null,{"$f":"H183+I183+J183","v":0},0,0,null,null,null,0,0]
[null,null,null,null,73,"483","Новчане казне и пенали по решењу судова",200000,null,null,{"$f":"H184+I184+J184","v":200000},200000,0,null,null,null,200000,""]
[null,null,null,null,74,"485","Накнаде штете за повреде или штете нанете од стране државних органа",1000000,null,null,{"$f":"H185+I185+J185","v":1000000},1000000,0,null,null,null,1000000,""]
[null,null,null,null,null,null,"Функција 160:",{"$f":"SUBTOTAL(9,H184:H185)","v":1200000},{"$f":"SUBTOTAL(9,I184:I185)","v":0},0,1200000,1200000,0,null,null,null,0,1200000]
[null,null,null,null,null,null,"Програмска активност 1102-0004:",{"$f":"SUBTOTAL(9,H184:H185)","v":1200000},{"$f":"SUBTOTAL(9,I184:I185)","v":0},0,1200000,1200000,0,null,null,null,0,1200000]
[null,null,null,null,null,null,null,null,null,null,null,0,0]
[null,null,"1102-0008",null,null,null,"Водоснабдевање",null,null,null,{"$f":"H189+I189+J189","v":0},0,0,null,null,null,0,0]
[null,null,null,630,null,null,"Водоснабдевање",null,null,null,{"$f":"H190+I190+J190","v":0},0,0,null,null,null,0,0]
[null,null,null,null,75,423,"Услуге по уговору - снабдевање пијаћом водом",250000,null,null,{"$f":"H191+I191+J191","v":250000},250000,0,null,null,null,250000,""]
[null,null,null,null,76,451,"Реализација посебног програма ЈП \"Комуналац\" Бујановац",25000000,null,null,{"$f":"H192+I192+J192","v":25000000},25000000,0,null,null,null,25000000,""]
[null,null,null,null,null,null,"Функција 630:",{"$f":"SUBTOTAL(9,H191:H192)","v":25250000},{"$f":"SUBTOTAL(9,I191:I192)","v":0},0,25250000,25250000,0,null,null,null,0,25250000]
[null,null,null,null,null,null,"Програмска активност 1102-0008:",{"$f":"SUBTOTAL(9,H191:H192)","v":25250000},{"$f":"SUBTOTAL(9,I191:I192)","v":0},0,25250000,25250000,0,null,null,null,0,25250000]
[null,null,null,null,null,null,null,null,null,null,null,0,0,null,null,null,0,0]
[null,null,1501,null,null,null,"ПРОГРАМ 3: ЛОКАЛНИ ЕКОНОМСКИ РАЗВОЈ",null,null,null,{"$f":"H196+I196+J196","v":0},0,0,null,null,null,0,0]
[null,null,"1501-0002",null,null,null,"Стручна пракса 2018",null,null,null,{"$f":"H197+I197+J197","v":0},0,0,null,null,null,0,0]
[null,null,null,411,null,null,"Општи економски и комерцијални послови",null,null,null,{"$f":"H198+I198+J198","v":0},0,0,null,null,null,0,0]
[null,null,null,null,77,"463","Текући трансфери осталим нивоима власти",20000000,null,null,{"$f":"H199+I199+J199","v":20000000},20000000,0,null,null,null,20000000,""]
[null,null,null,null,null,null,"Функција 411:",{"$f":"SUBTOTAL(9,H199)","v":20000000},{"$f":"SUBTOTAL(9,I199)","v":0},0,20000000,{"$f":"H200+I200+J200","v":20000000},{"$f":"K200-L200","v":0},null,null,null,0,20000000]
[null,null,null,null,null,null,"Програмска активност 1501-0002:",{"$f":"SUBTOTAL(9,H199)","v":20000000},{"$f":"SUBTOTAL(9,I199)","v":0},0,20000000,20000000,0,null,null,null,{"$f":"IF(E201>0,H201,0)","v":0},{"$f":"IF(E201=0,H201,\"\")","v":20000000}]
[null,null,null,null,null,null,null,null,null,null,null,0,0,null,null,null,0,0]
[null,null,"1501-0003",null,null,null,"Подстицај за развој предузетништва",null,null,null,{"$f":"H203+I203+J203","v":0},0,0,null,null,null,0,0]
[null,null,null,null,null,null,"Текуће субвенције предузетницима",null,null,null,{"$f":"H204+I204+J204","v":0},0,0,null,null,null,0,0]
[null,null,null,411,null,null,"Општи економски и комерцијални послови",null,null,null,{"$f":"H205+I205+J205","v":0},0,0,null,null,null,0,0]
[null,null,null,null,78,"454","Текуће субвенције осталим јавним нефинансијским предузећима",15000000,null,null,{"$f":"H206+I206+J206","v":15000000},15000000,0,null,null,null,15000000,""]
[null,null,null,null,null,null,"Функција 411:",{"$f":"SUBTOTAL(9,H206)","v":15000000},{"$f":"SUBTOTAL(9,I206)","v":0},0,15000000,15000000,0,null,null,null,0,15000000]
[0,null,null,null,null,null,"Програмска активност 1501-0003:",{"$f":"SUBTOTAL(9,H206)","v":15000000},{"$f":"SUBTOTAL(9,I206)","v":0},0,15000000,15000000,0,null,null,null,0,15000000]
[null,null,null,null,null,null,null,null,null,null,null,0,0,null,null,null,0,0]
[null,null,"0101",null,null,null,"ПРОГРАМ 5: РАЗВОЈ ПОЉОПРИВРЕДЕ",null,null,null,{"$f":"H210+I210+J210","v":0},0,0,null,null,null,0,0]
[null,null,"0101-0002",null,null,null,"Мере подршке руралном развоју",null,null,null,0,0,0,null,null,null,0,0]
[null,null,null,421,null,null,"Пољопривреда",null,null,null,0,0,0,null,null,null,0,0]
[null,null,null,null,79,"451","Текуће субвенције пољопривреди",20000000,null,null,20000000,20000000,0,null,null,null,20000000,""]
[null,null,null,null,80,"423","Услуге по уговору",2000000,null,null,2000000,2000000,0,null,null,null,2000000,""]
[null,null,null,null,81,"481","Дотација - Четврта изложба говеда сименталске расе",400000,null,null,400000,400000,0,null,null,null,400000,""]
[null,null,null,null,null,null,"Функција 421:",{"$f":"SUBTOTAL(9,H213:H215)","v":22400000},0,0,{"$f":"SUBTOTAL(9,K213:K215)","v":22400000},22400000,0,null,null,null,0,22400000]
[null,null,null,null,null,null,"Програмска активност 0101-0002:",{"$f":"SUBTOTAL(9,H213:H215)","v":22400000},{"$f":"SUBTOTAL(9,I213:I215)","v":0},{"$f":"SUBTOTAL(9,J213:J215)","v":0},{"$f":"SUBTOTAL(9,K213:K215)","v":22400000},22400000,0,null,null,null,0,22400000]
[null,null,null,null,null,null,null,null,null,null,null,0,0,null,null,null,0,0]
[null,null,"0401",null,null,null,"ПРОГРАМ 6: ЗАШТИТА ЖИВОТНЕ СРЕДИНЕ",null,null,null,{"$f":"H219+I219+J219","v":0},0,0,null,null,null,0,0]
[null,null,"0401-0001",null,null,null,"Управљање заштитом животне средине",null,null,null,{"$f":"H220+I220+J220","v":0},0,0,null,null,null,0,0]
[null,null,null,550,null,null,"Заштита животне средине - истраживање и развој",null,null,null,{"$f":"H221+I221+J221","v":0},0,0,null,null,null,0,0]
[null,null,null,null,82,"425","Текуће поправке и одржавање - Регулација Јошаничког потока у селу Раковац",2000000,null,null,{"$f":"H222+I222+J222","v":2000000},2000000,0]
[null,null,null,null,83,"511","Зграде и грађевински објекти - Уређење корита Трновачке реке",null,17680000,null,{"$f":"H223+I223+J223","v":17680000},17680000,0,null,null,null,0,""]
[null,null,null,null,84,"511","Зграде и грађевински објекти - Уређење корита реке у селу Велики Трновац код Нагипа, Л=370м, С=1м, косина = 0,8м, ширина обале корита 2м",1550000,null,null,1550000,1550000,0,null,null,null,1550000,""]
[null,null,null,null,85,"512","Машине и опрема",1000000,null,null,{"$f":"H225+I225+J225","v":1000000},1000000,0,null,null,null,1000000,""]
[null,null,null,null,null,null,"Функција 550:",{"$f":"SUBTOTAL(9,H222:H225)","v":4550000},{"$f":"SUBTOTAL(9,I223:I225)","v":17680000},{"$f":"SUBTOTAL(9,J223:J225)","v":0},{"$f":"SUBTOTAL(9,K222:K225)","v":22230000},22230000,0,null,null,null,0,4550000]
[null,null,null,null,null,null,"Програмска активност 0401-0001:",{"$f":"SUBTOTAL(9,H222:H225)","v":4550000},{"$f":"SUBTOTAL(9,I223:I225)","v":17680000},{"$f":"SUBTOTAL(9,J223:J225)","v":0},{"$f":"SUBTOTAL(9,K222:K225)","v":22230000},22230000,0,null,null,null,0,4550000]
[null,null,null,null,null,null,null,null,null,null,null,0,0,null,null,null,0,0]
[null,null,"0401-0004",null,null,null,"Управљање отпадним водама",null,null,null,{"$f":"H229+I229+J229","v":0},0,0,null,null,null,0,0]
[null,null,null,"560",null,null,"Заштита животне средине некласификована на другом месту",null,null,null,{"$f":"H230+I230+J230","v":0},0,0,null,null,null,0,0]
[null,null,null,null,86,"425","Изградња каналне решеткасте шахте за одвод атмосферске воде у селу Божињевац",250000,null,null,{"$f":"H231+I231+J231","v":250000},250000,0,null,null,null,250000,""]
[null,null,null,null,87,"511","Наставак изградње канализационе мреже у селу Несалце",2300000,null,null,{"$f":"H232+I232+J232","v":2300000},2300000,0]
[null,null,null,null,null,null,"Функција 560:",{"$f":"SUBTOTAL(9,H231:H232)","v":2550000},{"$f":"SUBTOTAL(9,I231)","v":0},0,{"$f":"SUBTOTAL(9,K231:K232)","v":2550000},2550000,0,null,null,null,0,2550000]
[null,null,null,null,null,null,"Програмска активност 0401-0004:",{"$f":"SUBTOTAL(9,H231:H232)","v":2550000},{"$f":"SUBTOTAL(9,I231)","v":0},0,{"$f":"SUBTOTAL(9,K231:K232)","v":2550000},2550000,0,null,null,null,0,2550000]
[null,null,null,null,null,null,null,null,null,null,null,0,0,null,null,null,0,0]
[null,null,"0401-0005",null,null,null,"Управљање комуналним отпадом",null,null,null,{"$f":"H236+I236+J236","v":0},0,0,null,null,null,0,0]
[null,null,null,560,null,null,"Заштита животне средине некласификована на другом месту",null,null,null,{"$f":"H237+I237+J237","v":0},0,0,null,null,null,0,0]
[null,null,null,null,88,"512","Машине и опрема - Набавка опреме за трансфер станицу",null,13400000,null,{"$f":"H238+I238+J238","v":13400000},13400000,0,null,null,null,0,""]
[null,null,null,null,89,"511","Изградња спољних прикључака за трансфер станицу",null,5000000,null,{"$f":"H239+I239+J239","v":5000000},5000000,0,null,null,null,0,""]
[null,null,null,null,null,null,"Функција 560:",{"$f":"SUBTOTAL(9,H238:H239)","v":0},{"$f":"SUBTOTAL(9,I238:I239)","v":18400000},{"$f":"SUBTOTAL(9,J238:J239)","v":0},{"$f":"SUBTOTAL(9,K238:K239)","v":18400000},18400000,0,null,null,null,0,0]
[null,null,null,null,null,null,"Програмска активност 0401-0005:",{"$f":"SUBTOTAL(9,H238:H239)","v":0},{"$f":"SUBTOTAL(9,I238:I239)","v":18400000},{"$f":"SUBTOTAL(9,J238:J239)","v":0},18400000,18400000,0,null,null,null,0,0]
[null,null,null,null,null,null,null,null,null,null,null,0,0,null,null,null,0,0]
[null,null,"0401-0006",null,null,null,"Одрживо управљање осталим врстама отпада",null,null,null,{"$f":"H243+I243+J243","v":0},0,0,null,null,null,0,0]
[null,null,null,560,null,null,"Заштита животне средине некласификована на другом месту",null,null,null,{"$f":"H244+I244+J244","v":0},0,0,null,null,null,0,0]
[null,null,null,null,90,"423","Чишћење дивљих депонија на територији општине Бујановац",2000000,null,null,{"$f":"H245+I245+J245","v":2000000},2000000,0,null,null,null,2000000,""]
[null,null,null,null,null,null,"Функција 560:",{"$f":"SUBTOTAL(9,H245)","v":2000000},{"$f":"SUBTOTAL(9,I245:I245)","v":0},{"$f":"SUBTOTAL(9,J245:J245)","v":0},{"$f":"SUBTOTAL(9,K245:K245)","v":2000000},2000000,0,null,null,null,0,2000000]
[null,null,null,null,null,null,"Програмска активност 0401-0006:",{"$f":"SUBTOTAL(9,H245)","v":2000000},{"$f":"SUBTOTAL(9,I245)","v":0},0,2000000,2000000,0,null,null,null,0,2000000]
[null,null,null,null,null,null,null,null,null,null,null,0,0,null,null,null,0,0]
[null,null,"0701",null,null,null,"ПРОГРАМ 7: ПУТНА ИНФРАСТРУКТУРА",null,null,null,{"$f":"H249+I249+J249","v":0},0,0,null,null,null,0,0]
[null,null,null,451,null,null,"Друмски саобраћај",null,null,null,{"$f":"H250+I250+J250","v":0},0,0,null,null,null,0,0]
[null,null,"0701-01",null,91,425,"Текуће поправке и одржавање - Пут од Југокопа до Кршевице",null,25120000,null,{"$f":"H251+I251+J251","v":25120000},25120000,0,null,null,null,0,""]
[null,null,null,null,null,null,"Функција 451:",{"$f":"SUBTOTAL(9,H251)","v":0},{"$f":"SUBTOTAL(9,I251)","v":25120000},0,25120000,25120000,0,null,null,null,0,0]
[null,null,null,null,null,null,"Пројекат 0701-01",{"$f":"SUBTOTAL(9,H251)","v":0},{"$f":"SUBTOTAL(9,I251)","v":25120000},0,25120000,25120000,0,null,null,null,0,0]
[null,null,null,null,null,null,null,null,null,null,{"$f":"H254+I254+J254","v":0},0,0,null,null,null,0,0]
[null,null,null,451,null,null,"Друмски саобраћај",null,null,null,0,0,0,null,null,null,0,0]
[null,null,"0701-02",null,92,"511","Уређење петље на улазу у Бујановац",null,3800000,null,3800000,3800000,0,null,null,null,0,""]
[null,null,null,null,null,null,"Функција 451:",{"$f":"SUBTOTAL(9,H256)","v":0},{"$f":"SUBTOTAL(9,I256)","v":3800000},0,3800000,3800000,0,null,null,null,0,0]
[null,null,null,null,null,null,"Пројекат 0701-02",{"$f":"SUBTOTAL(9,H256)","v":0},{"$f":"SUBTOTAL(9,I256)","v":3800000},0,3800000,3800000,0,null,null,null,0,0]
[null,null,null,null,null,null,null,null,null,null,{"$f":"H259+I259+J259","v":0},0,0,null,null,null,0,0]
[null,null,null,451,null,null,"Друмски саобраћај",null,null,null,0,0,0,null,null,null,0,0]
[null,null,"0701-03",null,93,"511","Суфинансирање регионалног пута Р125-Б Муховац - Зарбинце",null,20000000,null,20000000,20000000,0,null,null,null,0,""]
[null,null,null,null,null,null,"Функција 451:",{"$f":"SUBTOTAL(9,H261)","v":0},{"$f":"SUBTOTAL(9,I261)","v":20000000},0,20000000,20000000,0,null,null,null,0,0]
[null,null,null,null,null,null,"Пројекат 0701-03",{"$f":"SUBTOTAL(9,H261)","v":0},{"$f":"SUBTOTAL(9,I261)","v":20000000},0,20000000,20000000,0,null,null,null,0,0]
[null,null,null,null,null,null,null,null,null,null,{"$f":"H264+I264+J264","v":0},{"$f":"H264+I264+J264","v":0},{"$f":"K264-L264","v":0},null,null,null,0,0]
[null,null,"0701-04",451,null,null,"Друмски саобраћај",null,null,null,0,0,0,null,null,null,0,0]
[null,null,null,null,null,null,"Афалтирање локалних путева на територији општине Бујановац",null,null,null,0,0,0,null,null,null,0,0]
[null,null,null,null,94,"511","Асфалтирање улице К. Петровића код Рамадана",null,1100000,null,1100000,1100000,0,null,null,null,{"$f":"IF(E267>0,H267,0)","v":0},{"$f":"IF(E267=0,H267,\"\")","v":""}]
[null,null,null,null,95,"511","Асфалтирање улице у селу Велики Трновац код Нагипа",null,1100000,null,1100000,1100000,0,null,null,null,0,""]
[null,null,null,null,96,"511","Асфалтирање улице у селу Велики Трновац код Нехата",null,3300000,null,3300000,3300000,0,null,null,null,0,""]
[null,null,null,null,97,"511","Асфалтирање улице у селу Биљача код школе",null,5300000,null,5300000,5300000,0,null,null,null,0,""]
[null,null,null,null,98,"511","Асфалтирање улице у селу Самољица - Доња махала",null,4200000,null,4200000,4200000,0,null,null,null,0,""]
[null,null,null,null,99,"511","Асфалтирање обилазнице у Бујановачкој Бањи L=250м, Б=4м",500000,5000000,null,5500000,5500000,0,null,null,null,500000,""]
[null,null,null,null,100,"425","Реконструкција пута у селу Жужељица",1000000,4000000,null,5000000,5000000,0,null,null,null,1000000,""]
[null,null,null,null,101,"511","Асфалтирање паркинга у дворишту цркве у селу Раковац, П=600м2",260000,1000000,null,1260000,1260000,0,null,null,null,260000,""]
[null,null,null,null,null,null,"Функција 451:",{"$f":"SUBTOTAL(9,H267:H274)","v":1760000},{"$f":"SUBTOTAL(9,I267:I274)","v":25000000},{"$f":"SUBTOTAL(9,J267:J274)","v":0},{"$f":"SUBTOTAL(9,K267:K274)","v":26760000},26760000,0,null,null,null,0,1760000]
[null,null,null,null,null,null,"Пројекат 0701-04",{"$f":"SUBTOTAL(9,H267:H275)","v":1760000},{"$f":"SUBTOTAL(9,I267:I275)","v":25000000},{"$f":"SUBTOTAL(9,J267:J275)","v":0},{"$f":"SUBTOTAL(9,K267:K275)","v":26760000},26760000,0,null,null,null,0,1760000]
[null,null,null,null,null,null,null,null,null,null,null,0,0,null,null,null,0,0]
[null,null,null,451,null,null,"Друмски саобраћај",null,null,null,{"$f":"H278+I278+J278","v":0},0,0,null,null,null,0,0]
[null,null,"0701-05",null,102,"511","Реконструкција ул. К. Петровић у функцији оснивања пешачке зоне",null,{"$f":"5000000+3000000","v":8000000},null,8000000,8000000,0,null,null,null,0,""]
[null,null,null,null,null,null,"Функција 451:",{"$f":"SUBTOTAL(9,H279)","v":0},{"$f":"SUBTOTAL(9,I279)","v":8000000},0,8000000,8000000,0,null,null,null,0,0]
[null,null,null,null,null,null,"Пројекат 0701-05",{"$f":"SUBTOTAL(9,H279)","v":0},{"$f":"SUBTOTAL(9,I279)","v":8000000},0,8000000,8000000,0,null,null,null,0,0]
[null,null,null,null,null,null,null,null,null,null,null,0,0,null,null,null,0,0]
[null,null,null,451,null,null,"Друмски саобраћај",null,null,null,{"$f":"H283+I283+J283","v":0},0,0,null,null,null,0,0]
[null,null,"0701-06",null,103,"511","Асфалтирање улице Мирослав Нојковић Цале, Л=318м, ширина асфалта Б=3м",{"$f":"600000+400000","v":1000000},null,null,1000000,1000000,0,null,null,null,1000000,""]
[null,null,null,null,null,null,"Функција 451:",{"$f":"SUBTOTAL(9,H284)","v":1000000},{"$f":"SUBTOTAL(9,I284)","v":0},0,1000000,1000000,0,null,null,null,0,1000000]
[null,null,null,null,null,null,"Пројекат 0701-06",{"$f":"SUBTOTAL(9,H284)","v":1000000},{"$f":"SUBTOTAL(9,I284)","v":0},0,1000000,1000000,0,null,null,null,0,1000000]
[null,null,null,null,null,null,null,null,null,null,{"$f":"H287+I287+J287","v":0},0,0,null,null,null,0,0]
[null,null,null,451,null,null,"Друмски саобраћај",null,null,null,0,0,0,null,null,null,0,0]
[null,null,"0701-07",null,104,"425","Крпљење ударних рупа на територији општине Бујановац",3000000,null,null,3000000,3000000,0,null,null,null,3000000,""]
[null,null,null,null,null,null,"Функција 451:",{"$f":"SUBTOTAL(9,H289)","v":3000000},{"$f":"SUBTOTAL(9,I289)","v":0},0,3000000,3000000,0,null,null,null,0,3000000]
[null,null,null,null,null,null,"Пројекат 0701-07",{"$f":"SUBTOTAL(9,H289)","v":3000000},{"$f":"SUBTOTAL(9,I289)","v":0},0,3000000,3000000,0,null,null,null,0,3000000]
[null,null,null,null,null,null,null,null,null,null,{"$f":"H292+I292+J292","v":0},0,0,null,null,null,0,0]
[null,null,null,451,null,null,"Друмски саобраћај",null,null,null,0,0,0,null,null,null,0,0]
[null,null,"0701-08",null,105,425,"Зимско одржавање путева",3000000,null,null,3000000,3000000,0,null,null,null,3000000,""]
[null,null,null,null,null,null,"Функција 451:",{"$f":"SUBTOTAL(9,H294)","v":3000000},{"$f":"SUBTOTAL(9,I294)","v":0},0,3000000,3000000,0,null,null,null,0,3000000]
[null,null,null,null,null,null,"Пројекат 0701-08",{"$f":"SUBTOTAL(9,H294)","v":3000000},{"$f":"SUBTOTAL(9,I294)","v":0},0,3000000,3000000,0,null,null,null,0,3000000]
[null,null,null,null,null,null,null,null,null,null,{"$f":"H297+I297+J297","v":0},0,0,null,null,null,0,0]
[null,null,null,451,null,null,"Друмски саобраћај",null,null,null,0,0,0,null,null,null,0,0]
[null,null,"0701-09",null,106,"511","Стручни надзор",2500000,null,null,2500000,2500000,0,null,null,null,2500000,""]
[null,null,null,null,null,null,"Функција 451:",{"$f":"SUBTOTAL(9,H299)","v":2500000},{"$f":"SUBTOTAL(9,I299)","v":0},0,2500000,2500000,0,null,null,null,0,2500000]
[null,null,null,null,null,null,"Пројекат 0701-09",{"$f":"SUBTOTAL(9,H299)","v":2500000},{"$f":"SUBTOTAL(9,I299)","v":0},0,2500000,2500000,0,null,null,null,0,2500000]
[null,null,null,null,null,null,null,null,null,null,{"$f":"H302+I302+J302","v":0},0,0,null,null,null,0,0]
[null,null,null,451,null,null,"Друмски саобраћај",null,null,null,0,0,0,null,null,null,0,0]
[null,null,"0701-10",null,107,"425","Текуће поправке и одржавање - Одржавање пружних прелаза",3000000,null,null,3000000,3000000,0,null,null,null,3000000,""]
[null,null,null,null,null,null,"Функција 451:",{"$f":"SUBTOTAL(9,H304)","v":3000000},{"$f":"SUBTOTAL(9,I304)","v":0},0,3000000,3000000,0,null,null,null,0,3000000]
[null,null,null,null,null,null,"Пројекат 0701-10",{"$f":"SUBTOTAL(9,H304)","v":3000000},{"$f":"SUBTOTAL(9,I304)","v":0},0,3000000,3000000,0,null,null,null,0,3000000]
[null,null,null,null,null,null,null,null,null,null,null,0,0,null,null,null,0,0]
[null,null,null,451,null,null,"Друмски саобраћај",null,null,null,{"$f":"H308+I308+J308","v":0},0,0,null,null,null,0,0]
[null,null,"0701-11",null,null,null,"Изградња моста на реци између Света Петке и Трејака са прилазним саобраћајницама",null,null,null,null,0,0,null,null,null,0,0]
[null,null,null,null,108,"511","Зграде и грађевински објекти",1725000,null,null,1725000,1725000,0,null,null,null,1725000,""]
[null,null,null,null,null,null,"Функција 451:",{"$f":"SUBTOTAL(9,H310)","v":1725000},{"$f":"SUBTOTAL(9,I310)","v":0},0,1725000,1725000,0,null,null,null,0,1725000]
[null,null,null,null,null,null,"Пројекат 0701-11",{"$f":"SUBTOTAL(9,H310)","v":1725000},{"$f":"SUBTOTAL(9,I310)","v":0},0,1725000,1725000,0,null,null,null,0,1725000]
[null,null,null,null,null,null,null,null,null,null,null,0,0,null,null,null,0,0]
[null,null,null,451,null,null,"Друмски саобраћај",null,null,null,{"$f":"H314+I314+J314","v":0},0,0,null,null,null,0,0]
[null,null,"0701-12",null,null,null,"Асфалтирање улице Шабан Бајрамовић у Бујановцу",null,null,null,null,0,0,null,null,null,0,0]
[null,null,null,null,109,"511","Зграде и грађевински објекти",500000,null,null,{"$f":"H316+I316+J316","v":500000},500000,0,null,null,null,500000,""]
[null,null,null,null,null,null,"Функција 451:",{"$f":"SUBTOTAL(9,H316)","v":500000},{"$f":"SUBTOTAL(9,I316)","v":0},0,500000,500000,0,null,null,null,0,500000]
[null,null,null,null,null,null,"Пројекат 0701-12",{"$f":"SUBTOTAL(9,H316)","v":500000},{"$f":"SUBTOTAL(9,I316)","v":0},0,500000,500000,0,null,null,null,0,500000]
[null,null,null,null,null,null,null,null,null,null,null,0,0,null,null,null,0,0]
[null,null,null,451,null,null,"Друмски саобраћај",null,null,null,{"$f":"H320+I320+J320","v":0},0,0,null,null,null,0,0]
[null,null,"0701-13",null,null,null,"Асфалтирање улице код Реџепа у Бујановцу, Л=138м, Б=5м",null,null,null,null,0,0,null,null,null,0,0]
[null,null,null,null,110,"511","Зграде и грађевински објекти",600000,null,null,{"$f":"H322+I322+J322","v":600000},600000,0,null,null,null,600000,""]
[null,null,null,null,null,null,"Функција 451:",{"$f":"SUBTOTAL(9,H322)","v":600000},{"$f":"SUBTOTAL(9,I322)","v":0},0,600000,600000,0,null,null,null,0,600000]
[null,null,null,null,null,null,"Пројекат 0701-13",{"$f":"SUBTOTAL(9,H322)","v":600000},{"$f":"SUBTOTAL(9,I322)","v":0},0,600000,600000,0,null,null,null,0,600000]
[null,null,null,null,null,null,null,null,null,null,null,0,0,null,null,null,0,0]
[null,null,null,451,null,null,"Друмски саобраћај",null,null,null,{"$f":"H326+I326+J326","v":0},0,0,null,null,null,0,0]
[null,null,"0701-14",null,null,null,"Асфалтирање улице у Бујановцу, прилаз 20 - код Рефика, Л=133м, Б=3,2м",null,null,null,null,0,0,null,null,null,0,0]
[null,null,null,null,111,"511","Зграде и грађевински објекти",600000,null,null,{"$f":"H328+I328+J328","v":600000},{"$f":"H328+I328+J328","v":600000},{"$f":"K328-L328","v":0},null,null,null,600000,""]
[null,null,null,null,null,null,"Функција 451:",{"$f":"SUBTOTAL(9,H328)","v":600000},{"$f":"SUBTOTAL(9,I328)","v":0},0,600000,600000,0,null,null,null,0,600000]
[null,null,null,null,null,null,"Пројекат 0701-14",{"$f":"SUBTOTAL(9,H328)","v":600000},{"$f":"SUBTOTAL(9,I328)","v":0},0,600000,600000,0,null,null,null,0,600000]
[null,null,null,null,null,null,null,null,null,null,null,0,0,null,null,null,{"$f":"IF(E331>0,H331,0)","v":0},{"$f":"IF(E331=0,H331,\"\")","v":0}]
[null,null,null,451,null,null,"Друмски саобраћај",null,null,null,{"$f":"H332+I332+J332","v":0},0,0,null,null,null,0,0]
[null,null,"0701-15",null,null,null,"Асфалтирање улице Беким Фехмију у Бујановцу код Фадила, Л=73м, Б=5м",null,null,null,null,0,0,null,null,null,0,0]
[null,null,null,null,112,"511","Зграде и грађевински објекти",650000,null,null,{"$f":"H334+I334+J334","v":650000},650000,0,null,null,null,650000,""]
[null,null,null,null,null,null,"Функција 451:",{"$f":"SUBTOTAL(9,H334)","v":650000},{"$f":"SUBTOTAL(9,I334)","v":0},0,650000,650000,0,null,null,null,0,650000]
[null,null,null,null,null,null,"Пројекат 0701-15",{"$f":"SUBTOTAL(9,H334)","v":650000},{"$f":"SUBTOTAL(9,I334)","v":0},0,650000,650000,0,null,null,null,0,650000]
[null,null,null,null,null,null,null,null,null,null,null,0,0,null,null,null,0,0]
[null,null,null,451,null,null,"Друмски саобраћај",null,null,null,{"$f":"H338+I338+J338","v":0},0,0,null,null,null,0,0]
[null,null,"0701-16",null,null,null,"Асфалтирање улице у Несалцу код Мејдије",null,null,null,null,0,0,null,null,null,0,0]
[null,null,null,null,113,"511","Зграде и грађевински објекти",400000,null,null,{"$f":"H340+I340+J340","v":400000},400000,0,null,null,null,400000,""]
[null,null,null,null,null,null,"Функција 451:",{"$f":"SUBTOTAL(9,H340)","v":400000},{"$f":"SUBTOTAL(9,I340)","v":0},0,400000,400000,0,null,null,null,0,400000]
[null,null,null,null,null,null,"Пројекат 0701-16",{"$f":"SUBTOTAL(9,H340)","v":400000},{"$f":"SUBTOTAL(9,I340)","v":0},0,400000,400000,0,null,null,null,0,400000]
[null,null,null,null,null,null,null,null,null,null,null,0,0,null,null,null,0,0]
[null,null,null,451,null,null,"Друмски саобраћај",null,null,null,{"$f":"H344+I344+J344","v":0},0,0,null,null,null,0,0]
[null,null,"0701-17",null,null,null,"Асфалтирање улице Беким Фехмију у Бујановцу код Сехата, Л=120м, Б=3,8м",null,null,null,null,0,0,null,null,null,0,0]
[null,null,null,null,114,"511","Зграде и грађевински објекти",650000,null,null,{"$f":"H346+I346+J346","v":650000},650000,0,null,null,null,650000,""]
[null,null,null,null,null,null,"Функција 451:",{"$f":"SUBTOTAL(9,H346)","v":650000},{"$f":"SUBTOTAL(9,I346)","v":0},0,650000,650000,0,null,null,null,0,650000]
[null,null,null,null,null,null,"Пројекат 0701-17",{"$f":"SUBTOTAL(9,H346)","v":650000},{"$f":"SUBTOTAL(9,I346)","v":0},0,650000,650000,0,null,null,null,0,650000]
[null,null,null,null,null,null,null,null,null,null,null,0,0,null,null,null,0,0]
[null,null,null,451,null,null,"Друмски саобраћај",null,null,null,{"$f":"H350+I350+J350","v":0},0,0,null,null,null,0,0]
[null,null,"0701-18",null,null,null,"Асфалтирање улице у Бујановцу, прилаз 25 - код Џабири, Л=105м, Б=3,5м",null,null,null,null,0,0,null,null,null,0,0]
[null,null,null,null,115,"511","Зграде и грађевински објекти",650000,null,null,{"$f":"H352+I352+J352","v":650000},650000,0,null,null,null,650000,""]
[null,null,null,null,null,null,"Функција 451:",{"$f":"SUBTOTAL(9,H352)","v":650000},{"$f":"SUBTOTAL(9,I352)","v":0},0,650000,650000,0,null,null,null,0,650000]
[null,null,null,null,null,null,"Пројекат 0701-18",{"$f":"SUBTOTAL(9,H352)","v":650000},{"$f":"SUBTOTAL(9,I352)","v":0},0,650000,650000,0,null,null,null,0,650000]
[null,null,null,null,null,null,null,null,null,null,null,0,0,null,null,null,0,0]
[null,null,null,451,null,null,"Друмски саобраћај",null,null,null,{"$f":"H356+I356+J356","v":0},0,0,null,null,null,0,0]
[null,null,"0701-19",null,null,null,"Асфалтирање улице Лам Брезница Бујановац - код Гафура, Л=40м, Б=4м",null,null,null,null,0,0,null,null,null,0,0]
[null,null,null,null,116,"511","Зграде и грађевински објекти",300000,null,null,{"$f":"H358+I358+J358","v":300000},300000,0,null,null,null,300000,""]
[null,null,null,null,null,null,"Функција 451:",{"$f":"SUBTOTAL(9,H358)","v":300000},{"$f":"SUBTOTAL(9,I358)","v":0},0,300000,300000,0,null,null,null,0,300000]
[null,null,null,null,null,null,"Пројекат 0701-19",{"$f":"SUBTOTAL(9,H358)","v":300000},{"$f":"SUBTOTAL(9,I358)","v":0},0,300000,300000,0,null,null,null,0,300000]
[null,null,null,null,null,null,null,null,null,null,null,0,0,null,null,null,0,0]
[null,null,null,451,null,null,"Друмски саобраћај",null,null,null,{"$f":"H362+I362+J362","v":0},0,0,null,null,null,0,0]
[null,null,"0701-20",null,null,null,"Асфалтирање улице Лопардински пут Бујановац - код Бекима, Л=100м, Б=3,5м",null,null,null,null,0,0,null,null,null,0,0]
[null,null,null,null,117,"511","Зграде и грађевински објекти",650000,null,null,{"$f":"H364+I364+J364","v":650000},650000,0,null,null,null,650000,""]
[null,null,null,null,null,null,"Функција 451:",{"$f":"SUBTOTAL(9,H364)","v":650000},{"$f":"SUBTOTAL(9,I364)","v":0},0,650000,650000,0,null,null,null,0,650000]
[null,null,null,null,null,null,"Пројекат 0701-20",{"$f":"SUBTOTAL(9,H364)","v":650000},{"$f":"SUBTOTAL(9,I364)","v":0},0,650000,650000,0,null,null,null,0,650000]
[null,null,null,null,null,null,null,null,null,null,null,0,0,null,null,null,0,0]
[null,null,null,451,null,null,"Друмски саобраћај",null,null,null,{"$f":"H368+I368+J368","v":0},0,0,null,null,null,0,0]
[null,null,"0701-21",null,null,null,"Асфалтирање улице у селу Велики Трновац - код Хаџи Ваји, Л=131м, Б=3,8м",null,null,null,null,0,0,null,null,null,0,0]
[null,null,null,null,118,"511","Зграде и грађевински објекти",650000,null,null,{"$f":"H370+I370+J370","v":650000},650000,0,null,null,null,650000,""]
[null,null,null,null,null,null,"Функција 451:",{"$f":"SUBTOTAL(9,H370)","v":650000},{"$f":"SUBTOTAL(9,I370)","v":0},0,650000,650000,0,null,null,null,0,650000]
[null,null,null,null,null,null,"Пројекат 0701-21",{"$f":"SUBTOTAL(9,H370)","v":650000},{"$f":"SUBTOTAL(9,I370)","v":0},0,650000,650000,0,null,null,null,0,650000]
[null,null,null,null,null,null,null,null,null,null,null,0,0,null,null,null,0,0]
[null,null,null,451,null,null,"Друмски саобраћај",null,null,null,{"$f":"H374+I374+J374","v":0},0,0,null,null,null,0,0]
[null,null,"0701-22",null,null,null,"Асфалтирање улице у селу Велики Трновац - код Хаџи Исуфи, Л=100м, Б=4м",null,null,null,null,0,0,null,null,null,0,0]
[null,null,null,null,119,"511","Зграде и грађевински објекти",650000,null,null,{"$f":"H376+I376+J376","v":650000},650000,0,null,null,null,650000,""]
[null,null,null,null,null,null,"Функција 451:",{"$f":"SUBTOTAL(9,H376)","v":650000},{"$f":"SUBTOTAL(9,I376)","v":0},0,650000,650000,0,null,null,null,0,650000]
[null,null,null,null,null,null,"Пројекат 0701-22",{"$f":"SUBTOTAL(9,H376)","v":650000},{"$f":"SUBTOTAL(9,I376)","v":0},0,650000,650000,0,null,null,null,0,650000]
[null,null,null,null,null,null,null,null,null,null,null,0,0,null,null,null,0,0]
[null,null,null,451,null,null,"Друмски саобраћај",null,null,null,{"$f":"H380+I380+J380","v":0},0,0,null,null,null,0,0]
[null,null,"0701-23",null,null,null,"Асфалтирање улице у селу Велики Трновац код Мусе, Л=163м, Б=3,5м",null,null,null,null,0,0,null,null,null,0,0]
[null,null,null,null,120,"511","Зграде и грађевински објекти",650000,null,null,{"$f":"H382+I382+J382","v":650000},650000,0,null,null,null,650000,""]
[null,null,null,null,null,null,"Функција 451:",{"$f":"SUBTOTAL(9,H382)","v":650000},{"$f":"SUBTOTAL(9,I382)","v":0},0,650000,650000,0,null,null,null,0,650000]
[null,null,null,null,null,null,"Пројекат 0701-23",{"$f":"SUBTOTAL(9,H382)","v":650000},{"$f":"SUBTOTAL(9,I382)","v":0},0,650000,650000,0,null,null,null,0,650000]
[null,null,null,null,null,null,null,null,null,null,null,0,0,null,null,null,0,0]
[null,null,null,451,null,null,"Друмски саобраћај",null,null,null,{"$f":"H386+I386+J386","v":0},0,0,null,null,null,0,0]
[null,null,"0701-24",null,null,null,"Асфалтирање улице у селу Велики Трновац код Фатмира, Л=105м, Б=4м",null,null,null,null,0,0,null,null,null,0,0]
[null,null,null,null,121,"511","Зграде и грађевински објекти",650000,null,null,{"$f":"H388+I388+J388","v":650000},650000,0,null,null,null,650000,""]
[null,null,null,null,null,null,"Функција 451:",{"$f":"SUBTOTAL(9,H388)","v":650000},{"$f":"SUBTOTAL(9,I388)","v":0},0,650000,650000,0,null,null,null,0,650000]
[null,null,null,null,null,null,"Пројекат 0701-24",{"$f":"SUBTOTAL(9,H388)","v":650000},{"$f":"SUBTOTAL(9,I388)","v":0},0,650000,650000,0,null,null,null,0,650000]
[null,null,null,null,null,null,null,null,null,null,null,0,0,null,null,null,0,0]
[null,null,null,451,null,null,"Друмски саобраћај",null,null,null,{"$f":"H392+I392+J392","v":0},{"$f":"H392+I392+J392","v":0},{"$f":"K392-L392","v":0},null,null,null,0,0]
[null,null,"0701-25",null,null,null,"Регулација корита реке у зони моста на путу за село Трејак",null,null,null,null,0,0,null,null,null,0,0]
[null,null,null,null,122,"511","Зграде и грађевински објекти",2480000,null,null,{"$f":"H394+I394+J394","v":2480000},2480000,0,null,null,null,2480000,""]
[null,null,null,null,null,null,"Функција 451:",{"$f":"SUBTOTAL(9,H394)","v":2480000},{"$f":"SUBTOTAL(9,I394)","v":0},0,2480000,2480000,0,null,null,null,{"$f":"IF(E395>0,H395,0)","v":0},{"$f":"IF(E395=0,H395,\"\")","v":2480000}]
[null,null,null,null,null,null,"Пројекат 0701-25",{"$f":"SUBTOTAL(9,H394)","v":2480000},{"$f":"SUBTOTAL(9,I394)","v":0},0,2480000,2480000,0,null,null,null,0,2480000]
[null,null,null,null,null,null,null,null,null,null,null,0,0,null,null,null,0,0]
[null,null,null,451,null,null,"Друмски саобраћај",null,null,null,{"$f":"H398+I398+J398","v":0},0,0,null,null,null,0,0]
[null,null,"0701-26",null,null,null,"Насипање пута у селу Клиновац од асфалтног пута преко реке до Ђоке",null,null,null,null,0,0,null,null,null,0,0]
[null,null,null,null,123,"425","Текуће поправке и одржавање",495000,null,null,{"$f":"H400+I400+J400","v":495000},495000,0,null,null,null,495000,""]
[null,null,null,null,null,null,"Функција 451:",{"$f":"SUBTOTAL(9,H400)","v":495000},{"$f":"SUBTOTAL(9,I400)","v":0},0,495000,495000,0,null,null,null,0,495000]
[null,null,null,null,null,null,"Пројекат 0701-26",{"$f":"SUBTOTAL(9,H400)","v":495000},{"$f":"SUBTOTAL(9,I400)","v":0},0,495000,495000,0,null,null,null,0,495000]
[null,null,null,null,null,null,null,null,null,null,null,0,0,null,null,null,0,0]
[null,null,null,451,null,null,"Друмски саобраћај",null,null,null,{"$f":"H404+I404+J404","v":0},0,0,null,null,null,0,0]
[null,null,"0701-27",null,null,null,"Асфалтирање улице у селу Српска кућа Л=250м+40м",null,null,null,null,0,0,null,null,null,0,0]
[null,null,null,null,124,"511","Зграде и грађевински објекти",2500000,null,null,{"$f":"H406+I406+J406","v":2500000},2500000,0,null,null,null,2500000,""]
[null,null,null,null,null,null,"Функција 451:",{"$f":"SUBTOTAL(9,H406)","v":2500000},{"$f":"SUBTOTAL(9,I406)","v":0},0,2500000,2500000,0,null,null,null,0,2500000]
[null,null,null,null,null,null,"Пројекат 0701-27",{"$f":"SUBTOTAL(9,H406)","v":2500000},{"$f":"SUBTOTAL(9,I406)","v":0},0,2500000,2500000,0,null,null,null,0,2500000]
[null,null,null,null,null,null,null,null,null,null,null,0,0,null,null,null,0,0]
[null,null,null,451,null,null,"Друмски саобраћај",null,null,null,{"$f":"H410+I410+J410","v":0},0,0,null,null,null,0,0]
[null,null,"0701-28",null,null,null,"Асфалтирање улице у селу Велики Трновац код Мевљуда Пиља, Л=156м, Б=4м",null,null,null,null,0,0,null,null,null,0,0]
[null,null,null,null,125,"511","Зграде и грађевински објекти",700000,null,null,{"$f":"H412+I412+J412","v":700000},700000,0,null,null,null,700000,""]
[null,null,null,null,null,null,"Функција 451:",{"$f":"SUBTOTAL(9,H412)","v":700000},{"$f":"SUBTOTAL(9,I412)","v":0},0,700000,700000,0,null,null,null,0,700000]
[null,null,null,null,null,null,"Пројекат 0701-28",{"$f":"SUBTOTAL(9,H412)","v":700000},{"$f":"SUBTOTAL(9,I412)","v":0},0,700000,700000,0,null,null,null,0,700000]
[null,null,null,null,null,null,null,null,null,null,null,0,0,null,null,null,0,0]
[null,null,null,451,null,null,"Друмски саобраћај",null,null,null,{"$f":"H416+I416+J416","v":0},0,0,null,null,null,0,0]
[null,null,"0701-29",null,null,null,"Изградња тротоара на деоници пута од села Света Петка до села Кленике Л=500м",null,null,null,null,0,0,null,null,null,0,0]
[null,null,null,null,126,"511","Зграде и грађевински објекти",4050000,null,null,{"$f":"H418+I418+J418","v":4050000},4050000,0,null,null,null,4050000,""]
[null,null,null,null,null,null,"Функција 451:",{"$f":"SUBTOTAL(9,H418)","v":4050000},{"$f":"SUBTOTAL(9,I418)","v":0},0,4050000,4050000,0,null,null,null,0,4050000]
[null,null,null,null,null,null,"Пројекат 0701-29",{"$f":"SUBTOTAL(9,H418)","v":4050000},{"$f":"SUBTOTAL(9,I418)","v":0},0,4050000,4050000,0,null,null,null,0,4050000]
[null,null,null,null,null,null,null,null,null,null,null,0,0,null,null,null,0,0]
[null,null,null,451,null,null,"Друмски саобраћај",null,null,null,{"$f":"H422+I422+J422","v":0},0,0,null,null,null,0,0]
[null,null,"0701-30",null,null,null,"Асфалтирање улице у селу Велики Трновац - Толска махала код Решата",null,null,null,null,0,0,null,null,null,0,0]
[null,null,null,null,127,"511","Зграде и грађевински објекти",400000,null,null,{"$f":"H424+I424+J424","v":400000},400000,0,null,null,null,400000,""]
[null,null,null,null,null,null,"Функција 451:",{"$f":"SUBTOTAL(9,H424)","v":400000},{"$f":"SUBTOTAL(9,I424)","v":0},0,400000,400000,0,null,null,null,0,400000]
[null,null,null,null,null,null,"Пројекат 0701-30",{"$f":"SUBTOTAL(9,H424)","v":400000},{"$f":"SUBTOTAL(9,I424)","v":0},0,400000,400000,0,null,null,null,0,400000]
[null,null,null,null,null,null,null,null,null,null,null,0,0,null,null,null,0,0]
[null,null,null,451,null,null,"Друмски саобраћај",null,null,null,{"$f":"H428+I428+J428","v":0},0,0,null,null,null,0,0]
[null,null,"0701-31",null,null,null,"Рад механизације (булдожер, грејдер, ваљак и др.) на поправци сеоских путева у српској заједници",null,null,null,null,0,0,null,null,null,0,0]
[null,null,null,null,128,"423","Услуге по уговору",3000000,null,null,{"$f":"H430+I430+J430","v":3000000},3000000,0,null,null,null,3000000,""]
[null,null,null,null,null,null,"Функција 451:",{"$f":"SUBTOTAL(9,H430)","v":3000000},{"$f":"SUBTOTAL(9,I430)","v":0},0,3000000,3000000,0,null,null,null,0,3000000]
[null,null,null,null,null,null,"Пројекат 0701-31",{"$f":"SUBTOTAL(9,H430)","v":3000000},{"$f":"SUBTOTAL(9,I430)","v":0},0,3000000,3000000,0,null,null,null,0,3000000]
[null,null,null,null,null,null,null,null,null,null,null,0,0,null,null,null,0,0]
[null,null,null,451,null,null,"Друмски саобраћај",null,null,null,{"$f":"H434+I434+J434","v":0},0,0,null,null,null,0,0]
[null,null,"0701-32",null,null,null,"Асфалтирање улице у селу Карадник - Багалејска махала, Л=250м",null,null,null,null,0,0,null,null,null,0,0]
[null,null,null,null,129,"511","Зграде и грађевински објекти",2200000,null,null,{"$f":"H436+I436+J436","v":2200000},2200000,0,null,null,null,2200000,""]
[null,null,null,null,null,null,"Функција 451:",{"$f":"SUBTOTAL(9,H436)","v":2200000},{"$f":"SUBTOTAL(9,I436)","v":0},0,2200000,2200000,0,null,null,null,0,2200000]
[null,null,null,null,null,null,"Пројекат 0701-32",{"$f":"SUBTOTAL(9,H436)","v":2200000},{"$f":"SUBTOTAL(9,I436)","v":0},0,2200000,2200000,0,null,null,null,0,2200000]
[null,null,null,null,null,null,null,null,null,null,null,0,0,null,null,null,0,0]
[null,null,null,451,null,null,"Друмски саобраћај",null,null,null,{"$f":"H440+I440+J440","v":0},0,0,null,null,null,0,0]
[null,null,"0701-33",null,null,null,"Асфалтирање прилазног пута према основној школи у селу Кленике, Л=50м",null,null,null,null,0,0,null,null,null,0,0]
[null,null,null,null,130,"511","Зграде и грађевински објекти",470000,null,null,{"$f":"H442+I442+J442","v":470000},470000,0,null,null,null,470000,""]
[null,null,null,null,null,null,"Функција 451:",{"$f":"SUBTOTAL(9,H442)","v":470000},{"$f":"SUBTOTAL(9,I442)","v":0},0,470000,470000,0,null,null,null,0,470000]
[null,null,null,null,null,null,"Пројекат 0701-33",{"$f":"SUBTOTAL(9,H442)","v":470000},{"$f":"SUBTOTAL(9,I442)","v":0},0,470000,470000,0,null,null,null,0,470000]
[null,null,null,null,null,null,null,null,null,null,null,0,0,null,null,null,0,0]
[null,null,null,451,null,null,"Друмски саобраћај",null,null,null,{"$f":"H446+I446+J446","v":0},0,0,null,null,null,0,0]
[null,null,"0701-34",null,null,null,"Текућа поправка асфалтног пута за село Куштица (деоница од зелене ливаде према Бојаџијској махали), Л=130м",null,null,null,null,0,0,null,null,null,0,0]
[null,null,null,null,131,"425","Текуће поправке и одржавање",1150000,null,null,{"$f":"H448+I448+J448","v":1150000},1150000,0,null,null,null,1150000,""]
[null,null,null,null,null,null,"Функција 451:",{"$f":"SUBTOTAL(9,H448)","v":1150000},{"$f":"SUBTOTAL(9,I448)","v":0},0,1150000,1150000,0,null,null,null,0,1150000]
[null,null,null,null,null,null,"Пројекат 0701-34",{"$f":"SUBTOTAL(9,H448)","v":1150000},{"$f":"SUBTOTAL(9,I448)","v":0},0,1150000,1150000,0,null,null,null,0,1150000]
[null,null,null,null,null,null,null,null,null,null,null,0,0,null,null,null,0,0]
[null,null,null,451,null,null,"Друмски саобраћај",null,null,null,{"$f":"H452+I452+J452","v":0},0,0,null,null,null,0,0]
[null,null,"0701-35",null,null,null,"Насипање пута у селу Осларе (деоница од излаза из села до гробља у селу Левосоје), Л=900м",null,null,null,null,0,0,null,null,null,0,0]
[null,null,null,null,132,"425","Текуће поправке и одржавање",2000000,null,null,{"$f":"H454+I454+J454","v":2000000},2000000,0,null,null,null,2000000,""]
[null,null,null,null,null,null,"Функција 451:",{"$f":"SUBTOTAL(9,H454)","v":2000000},{"$f":"SUBTOTAL(9,I454)","v":0},0,2000000,2000000,0,null,null,null,0,2000000]
[null,null,null,null,null,null,"Пројекат 0701-35",{"$f":"SUBTOTAL(9,H454)","v":2000000},{"$f":"SUBTOTAL(9,I454)","v":0},0,2000000,{"$f":"H456+I456+J456","v":2000000},{"$f":"K456-L456","v":0},null,null,null,0,2000000]
[null,null,null,null,null,null,null,null,null,null,null,0,0,null,null,null,0,0]
[null,null,null,451,null,null,"Друмски саобраћај",null,null,null,{"$f":"H458+I458+J458","v":0},0,0,null,null,null,0,0]
[null,null,"0701-36",null,null,null,"Насипање пута у селу Доњи Старац (деоница од домаћинства попа Драгољуба до домаћинства Тисе), Л=500м",null,null,null,null,0,0,null,null,null,{"$f":"IF(E459>0,H459,0)","v":0},{"$f":"IF(E459=0,H459,\"\")","v":0}]
[null,null,null,null,133,"425","Текуће поправке и одржавање",1100000,null,null,{"$f":"H460+I460+J460","v":1100000},1100000,0,null,null,null,1100000,""]
[null,null,null,null,null,null,"Функција 451:",{"$f":"SUBTOTAL(9,H460)","v":1100000},{"$f":"SUBTOTAL(9,I460)","v":0},0,1100000,1100000,0,null,null,null,0,1100000]
[null,null,null,null,null,null,"Пројекат 0701-36",{"$f":"SUBTOTAL(9,H460)","v":1100000},{"$f":"SUBTOTAL(9,I460)","v":0},0,1100000,1100000,0,null,null,null,0,1100000]
[null,null,null,null,null,null,null,null,null,null,null,0,0,null,null,null,0,0]
[null,null,null,451,null,null,"Друмски саобраћај",null,null,null,{"$f":"H464+I464+J464","v":0},0,0,null,null,null,0,0]
[null,null,"0701-37",null,null,null,"Насипање пута у селу Света Петка у махали Зељци, Л=350м",null,null,null,null,0,0,null,null,null,0,0]
[null,null,null,null,134,"425","Текуће поправке и одржавање",800000,null,null,{"$f":"H466+I466+J466","v":800000},800000,0,null,null,null,800000,""]
[null,null,null,null,null,null,"Функција 451:",{"$f":"SUBTOTAL(9,H466)","v":800000},{"$f":"SUBTOTAL(9,I466)","v":0},0,800000,800000,0,null,null,null,0,800000]
[null,null,null,null,null,null,"Пројекат 0701-37",{"$f":"SUBTOTAL(9,H466)","v":800000},{"$f":"SUBTOTAL(9,I466)","v":0},0,800000,800000,0,null,null,null,0,800000]
[null,null,null,null,null,null,null,null,null,null,null,0,0,null,null,null,0,0]
[null,null,null,451,null,null,"Друмски саобраћај",null,null,null,{"$f":"H470+I470+J470","v":0},0,0,null,null,null,0,0]
[null,null,"0701-38",null,null,null,"Изградња цевастог пропуста у селу Клиновац у махали Скримаци, Л=8 м (2 * ФИ1000)",null,null,null,null,0,0,null,null,null,0,0]
[null,null,null,null,135,"511","Зграде и грађевински објекти",1230000,null,null,{"$f":"H472+I472+J472","v":1230000},1230000,0,null,null,null,1230000,""]
[null,null,null,null,null,null,"Функција 451:",{"$f":"SUBTOTAL(9,H472)","v":1230000},{"$f":"SUBTOTAL(9,I472)","v":0},0,1230000,1230000,0,null,null,null,0,1230000]
[null,null,null,null,null,null,"Пројекат 0701-38",{"$f":"SUBTOTAL(9,H472)","v":1230000},{"$f":"SUBTOTAL(9,I472)","v":0},0,1230000,1230000,0,null,null,null,0,1230000]
[null,null,null,null,null,null,null,null,null,null,null,0,0,null,null,null,0,0]
[null,null,null,451,null,null,"Друмски саобраћај",null,null,null,{"$f":"H476+I476+J476","v":0},0,0,null,null,null,0,0]
[null,null,"0701-39",null,null,null,"Изградња потпорног зида на бараљевској реци у селу Кленике, Л=25м, Х=2,5м",null,null,null,null,0,0,null,null,null,0,0]
[null,null,null,null,136,"511","Зграде и грађевински објекти",1200000,null,null,{"$f":"H478+I478+J478","v":1200000},1200000,0,null,null,null,1200000,""]
[null,null,null,null,null,null,"Функција 451:",{"$f":"SUBTOTAL(9,H478)","v":1200000},{"$f":"SUBTOTAL(9,I478)","v":0},0,1200000,1200000,0,null,null,null,0,1200000]
[null,null,null,null,null,null,"Пројекат 0701-39",{"$f":"SUBTOTAL(9,H478)","v":1200000},{"$f":"SUBTOTAL(9,I478)","v":0},0,1200000,1200000,0,null,null,null,0,1200000]
[null,null,null,null,null,null,null,null,null,null,null,0,0,null,null,null,0,0]
[null,null,null,451,null,null,"Друмски саобраћај",null,null,null,{"$f":"H482+I482+J482","v":0},0,0,null,null,null,0,0]
[null,null,"0701-40",null,null,null,"Текућа поправка цевастог пропуста у селу Спанчевац",null,null,null,null,0,0,null,null,null,0,0]
[null,null,null,null,137,"425","Текуће поправке и одржавање",320000,null,null,{"$f":"H484+I484+J484","v":320000},320000,0,null,null,null,320000,""]
[null,null,null,null,null,null,"Функција 451:",{"$f":"SUBTOTAL(9,H484)","v":320000},{"$f":"SUBTOTAL(9,I484)","v":0},0,320000,320000,0,null,null,null,0,320000]
[null,null,null,null,null,null,"Пројекат 0701-40",{"$f":"SUBTOTAL(9,H484)","v":320000},{"$f":"SUBTOTAL(9,I484)","v":0},0,320000,320000,0,null,null,null,0,320000]
[null,null,null,null,null,null,null,null,null,null,null,0,0,null,null,null,0,0]
[null,null,null,451,null,null,"Друмски саобраћај",null,null,null,{"$f":"H488+I488+J488","v":0},0,0,null,null,null,0,0]
[null,null,"0701-41",null,null,null,"Текућа поправка тротоара у ул. Јована Цвијића у Бујановцу, Л=270м x 2",null,null,null,null,0,0,null,null,null,0,0]
[null,null,null,null,138,"425","Текуће поправке и одржавање",2300000,null,null,{"$f":"H490+I490+J490","v":2300000},2300000,0,null,null,null,2300000,""]
[null,null,null,null,null,null,"Функција 451:",{"$f":"SUBTOTAL(9,H490)","v":2300000},{"$f":"SUBTOTAL(9,I490)","v":0},0,2300000,2300000,0,null,null,null,0,2300000]
[null,null,null,null,null,null,"Пројекат 0701-41",{"$f":"SUBTOTAL(9,H490)","v":2300000},{"$f":"SUBTOTAL(9,I490)","v":0},0,2300000,2300000,0,null,null,null,0,2300000]
[null,null,null,null,null,null,null,null,null,null,null,0,0,null,null,null,0,0]
[null,null,null,451,null,null,"Друмски саобраћај",null,null,null,{"$f":"H494+I494+J494","v":0},0,0,null,null,null,0,0]
[null,null,"0701-42",null,null,null,"Асфалтирање улице у селу Жбевац (Уча Аврам - Ирдинци), Л=200м",null,null,null,null,0,0,null,null,null,0,0]
[null,null,null,null,139,"511","Зграде и грађевински објекти",1289000,null,null,{"$f":"H496+I496+J496","v":1289000},1289000,0,null,null,null,1289000,""]
[null,null,null,null,null,null,"Функција 451:",{"$f":"SUBTOTAL(9,H496)","v":1289000},{"$f":"SUBTOTAL(9,I496)","v":0},0,1289000,1289000,0,null,null,null,0,1289000]
[null,null,null,null,null,null,"Пројекат 0701-42",{"$f":"SUBTOTAL(9,H496)","v":1289000},{"$f":"SUBTOTAL(9,I496)","v":0},0,1289000,1289000,0,null,null,null,0,1289000]
[null,null,null,null,null,null,null,null,null,null,null,0,0,null,null,null,0,0]
[null,null,null,451,null,null,"Друмски саобраћај",null,null,null,{"$f":"H500+I500+J500","v":0},0,0,null,null,null,0,0]
[null,null,"0701-43",null,null,null,"Асфалтирање улице у селу Жбевац (махала Дебоњци), Л=800м",null,null,null,null,0,0,null,null,null,0,0]
[null,null,null,null,140,"511","Зграде и грађевински објекти",2800000,null,null,{"$f":"H502+I502+J502","v":2800000},2800000,0,null,null,null,2800000,""]
[null,null,null,null,null,null,"Функција 451:",{"$f":"SUBTOTAL(9,H502)","v":2800000},{"$f":"SUBTOTAL(9,I502)","v":0},0,2800000,2800000,0,null,null,null,0,2800000]
[null,null,null,null,null,null,"Пројекат 0701-43",{"$f":"SUBTOTAL(9,H502)","v":2800000},{"$f":"SUBTOTAL(9,I502)","v":0},0,2800000,2800000,0,null,null,null,0,2800000]
[null,null,null,null,null,null,null,null,null,null,null,0,0,null,null,null,0,0]
[null,null,null,451,null,null,"Друмски саобраћај",null,null,null,{"$f":"H506+I506+J506","v":0},0,0,null,null,null,0,0]
[null,null,"0701-44",null,null,null,"Насипање улице у селу Божињевац, Л=300м",null,null,null,null,0,0,null,null,null,0,0]
[null,null,null,null,141,"425","Текуће поправке и одржавање",660000,null,null,{"$f":"H508+I508+J508","v":660000},660000,0,null,null,null,660000,""]
[null,null,null,null,null,null,"Функција 451:",{"$f":"SUBTOTAL(9,H508)","v":660000},{"$f":"SUBTOTAL(9,I508)","v":0},0,660000,660000,0,null,null,null,0,660000]
[null,null,null,null,null,null,"Пројекат 0701-44",{"$f":"SUBTOTAL(9,H508)","v":660000},{"$f":"SUBTOTAL(9,I508)","v":0},0,660000,660000,0,null,null,null,0,660000]
[null,null,null,null,null,null,null,null,null,null,null,0,0,null,null,null,0,0]
[null,null,null,451,null,null,"Друмски саобраћај",null,null,null,{"$f":"H512+I512+J512","v":0},0,0,null,null,null,0,0]
[null,null,"0701-45",null,null,null,"Текућа поправка улице Браће Југовића у Бујановцу",null,null,null,null,0,0,null,null,null,0,0]
[null,null,null,null,142,"425","Текуће поправке и одржавање",830000,null,null,{"$f":"H514+I514+J514","v":830000},830000,0,null,null,null,830000,""]
[null,null,null,null,null,null,"Функција 451:",{"$f":"SUBTOTAL(9,H514)","v":830000},{"$f":"SUBTOTAL(9,I514)","v":0},0,830000,830000,0,null,null,null,0,830000]
[null,null,null,null,null,null,"Пројекат 0701-45",{"$f":"SUBTOTAL(9,H514)","v":830000},{"$f":"SUBTOTAL(9,I514)","v":0},0,830000,830000,0,null,null,null,0,830000]
[null,null,null,null,null,null,null,null,null,null,null,0,0,null,null,null,0,0]
[null,null,null,451,null,null,"Друмски саобраћај",null,null,null,{"$f":"H518+I518+J518","v":0},0,0,null,null,null,0,0]
[null,null,"0701-46",null,null,null,"Асфалтирање улице у селу Велики Трновац код Дугана Центар, Л=170м, Б=4,5м",null,null,null,null,0,0,null,null,null,0,0]
[null,null,null,null,143,"511","Зграде и грађевински објекти",1100000,null,null,{"$f":"H520+I520+J520","v":1100000},{"$f":"H520+I520+J520","v":1100000},{"$f":"K520-L520","v":0},null,null,null,1100000,""]
[null,null,null,null,null,null,"Функција 451:",{"$f":"SUBTOTAL(9,H520)","v":1100000},{"$f":"SUBTOTAL(9,I520)","v":0},0,1100000,1100000,0,null,null,null,0,1100000]
[null,null,null,null,null,null,"Пројекат 0701-46",{"$f":"SUBTOTAL(9,H520)","v":1100000},{"$f":"SUBTOTAL(9,I520)","v":0},0,1100000,1100000,0,null,null,null,0,1100000]
[null,null,null,null,null,null,null,null,null,null,null,0,0,null,null,null,{"$f":"IF(E523>0,H523,0)","v":0},{"$f":"IF(E523=0,H523,\"\")","v":0}]
[null,null,null,451,null,null,"Друмски саобраћај",null,null,null,{"$f":"H524+I524+J524","v":0},0,0,null,null,null,0,0]
[null,null,"0701-47",null,null,null,"Асфалтирање улице у селу Велики Трновац код Тељата, Л=110м, Б=4м",null,null,null,null,0,0,null,null,null,0,0]
[null,null,null,null,144,"511","Зграде и грађевински објекти",580000,null,null,{"$f":"H526+I526+J526","v":580000},580000,0,null,null,null,580000,""]
[null,null,null,null,null,null,"Функција 451:",{"$f":"SUBTOTAL(9,H526)","v":580000},{"$f":"SUBTOTAL(9,I526)","v":0},0,580000,580000,0,null,null,null,0,580000]
[null,null,null,null,null,null,"Пројекат 0701-47",{"$f":"SUBTOTAL(9,H526)","v":580000},{"$f":"SUBTOTAL(9,I526)","v":0},0,580000,580000,0,null,null,null,0,580000]
[null,null,null,null,null,null,null,null,null,null,null,0,0,null,null,null,0,0]
[null,null,null,451,null,null,"Друмски саобраћај",null,null,null,{"$f":"H530+I530+J530","v":0},0,0,null,null,null,0,0]
[null,null,"0701-48",null,null,null,"Асфалтирање улице у селу Велики Трновац код Ђепу, Л=28м, Б=5м",null,null,null,null,0,0,null,null,null,0,0]
[null,null,null,null,145,"511","Зграде и грађевински објекти",300000,null,null,{"$f":"H532+I532+J532","v":300000},300000,0,null,null,null,300000,""]
[null,null,null,null,null,null,"Функција 451:",{"$f":"SUBTOTAL(9,H532)","v":300000},{"$f":"SUBTOTAL(9,I532)","v":0},0,300000,300000,0,null,null,null,0,300000]
[null,null,null,null,null,null,"Пројекат 0701-48",{"$f":"SUBTOTAL(9,H532)","v":300000},{"$f":"SUBTOTAL(9,I532)","v":0},0,300000,300000,0,null,null,null,0,300000]
[null,null,null,null,null,null,null,null,null,null,null,0,0,null,null,null,0,0]
[null,null,null,451,null,null,"Друмски саобраћај",null,null,null,{"$f":"H536+I536+J536","v":0},0,0,null,null,null,0,0]
[null,null,"0701-49",null,null,null,"Асфалтирање улице у селу Велики Трновац код Нехата, Л=47м, Б=4м",null,null,null,null,0,0,null,null,null,0,0]
[null,null,null,null,146,"511","Зграде и грађевински објекти",400000,null,null,{"$f":"H538+I538+J538","v":400000},400000,0,null,null,null,400000,""]
[null,null,null,null,null,null,"Функција 451:",{"$f":"SUBTOTAL(9,H538)","v":400000},{"$f":"SUBTOTAL(9,I538)","v":0},0,400000,400000,0,null,null,null,0,400000]
[null,null,null,null,null,null,"Пројекат 0701-49",{"$f":"SUBTOTAL(9,H538)","v":400000},{"$f":"SUBTOTAL(9,I538)","v":0},0,400000,400000,0,null,null,null,0,400000]
[null,null,null,null,null,null,null,null,null,null,null,0,0,null,null,null,0,0]
[null,null,null,451,null,null,"Друмски саобраћај",null,null,null,{"$f":"H542+I542+J542","v":0},0,0,null,null,null,0,0]
[null,null,"0701-50",null,null,null,"Асфалтирање улице у селу Велики Трновац код Лавдима, Л=60м, Б=4,2м",null,null,null,null,0,0,null,null,null,0,0]
[null,null,null,null,147,"511","Зграде и грађевински објекти",450000,null,null,{"$f":"H544+I544+J544","v":450000},450000,0,null,null,null,450000,""]
[null,null,null,null,null,null,"Функција 451:",{"$f":"SUBTOTAL(9,H544)","v":450000},{"$f":"SUBTOTAL(9,I544)","v":0},0,450000,450000,0,null,null,null,0,450000]
[null,null,null,null,null,null,"Пројекат 0701-50",{"$f":"SUBTOTAL(9,H544)","v":450000},{"$f":"SUBTOTAL(9,I544)","v":0},0,450000,450000,0,null,null,null,0,450000]
[null,null,null,null,null,null,null,null,null,null,null,0,0,null,null,null,0,0]
[null,null,null,451,null,null,"Друмски саобраћај",null,null,null,{"$f":"H548+I548+J548","v":0},0,0,null,null,null,0,0]
[null,null,"0701-51",null,null,null,"Асфалтирање улице у селу Велики Трновац код Далија, Л=61м, Б=3,5м",null,null,null,null,0,0,null,null,null,0,0]
[null,null,null,null,148,"511","Зграде и грађевински објекти",400000,null,null,{"$f":"H550+I550+J550","v":400000},400000,0,null,null,null,400000,""]
[null,null,null,null,null,null,"Функција 451:",{"$f":"SUBTOTAL(9,H550)","v":400000},{"$f":"SUBTOTAL(9,I550)","v":0},0,400000,400000,0,null,null,null,0,400000]
[null,null,null,null,null,null,"Пројекат 0701-51",{"$f":"SUBTOTAL(9,H550)","v":400000},{"$f":"SUBTOTAL(9,I550)","v":0},0,400000,400000,0,null,null,null,0,400000]
[null,null,null,null,null,null,null,null,null,null,null,0,0,null,null,null,0,0]
[null,null,null,451,null,null,"Друмски саобраћај",null,null,null,{"$f":"H554+I554+J554","v":0},0,0,null,null,null,0,0]
[null,null,"0701-52",null,null,null,"Асфалтирање улице у селу Велики Трновац код Буњамина, Л=82м, Б=4,2м",null,null,null,null,0,0,null,null,null,0,0]
[null,null,null,null,149,"511","Зграде и грађевински објекти",520000,null,null,{"$f":"H556+I556+J556","v":520000},520000,0,null,null,null,520000,""]
[null,null,null,null,null,null,"Функција 451:",{"$f":"SUBTOTAL(9,H556)","v":520000},{"$f":"SUBTOTAL(9,I556)","v":0},0,520000,520000,0,null,null,null,0,520000]
[null,null,null,null,null,null,"Пројекат 0701-52",{"$f":"SUBTOTAL(9,H556)","v":520000},{"$f":"SUBTOTAL(9,I556)","v":0},0,520000,520000,0,null,null,null,0,520000]
[null,null,null,null,null,null,null,null,null,null,null,0,0,null,null,null,0,0]
[null,null,null,451,null,null,"Друмски саобраћај",null,null,null,{"$f":"H560+I560+J560","v":0},0,0,null,null,null,0,0]
[null,null,"0701-53",null,null,null,"Асфалтирање улице у селу Велики Трновац код Бетима, Л=30м, Б=4м",null,null,null,null,0,0,null,null,null,0,0]
[null,null,null,null,150,"511","Зграде и грађевински објекти",250000,null,null,{"$f":"H562+I562+J562","v":250000},250000,0,null,null,null,250000,""]
[null,null,null,null,null,null,"Функција 451:",{"$f":"SUBTOTAL(9,H562)","v":250000},{"$f":"SUBTOTAL(9,I562)","v":0},0,250000,250000,0,null,null,null,0,250000]
[null,null,null,null,null,null,"Пројекат 0701-53",{"$f":"SUBTOTAL(9,H562)","v":250000},{"$f":"SUBTOTAL(9,I562)","v":0},0,250000,250000,0,null,null,null,0,250000]
[null,null,null,null,null,null,null,null,null,null,null,0,0,null,null,null,0,0]
[null,null,null,451,null,null,"Друмски саобраћај",null,null,null,{"$f":"H566+I566+J566","v":0},0,0,null,null,null,0,0]
[null,null,"0701-54",null,null,null,"Асфалтирање улице у селу Велики Трновац код Ћанију, Л=130м, Б=4,5м",null,null,null,null,0,0,null,null,null,0,0]
[null,null,null,null,151,"511","Зграде и грађевински објекти",830000,null,null,{"$f":"H568+I568+J568","v":830000},830000,0,null,null,null,830000,""]
[null,null,null,null,null,null,"Функција 451:",{"$f":"SUBTOTAL(9,H568)","v":830000},{"$f":"SUBTOTAL(9,I568)","v":0},0,830000,830000,0,null,null,null,0,830000]
[null,null,null,null,null,null,"Пројекат 0701-54",{"$f":"SUBTOTAL(9,H568)","v":830000},{"$f":"SUBTOTAL(9,I568)","v":0},0,830000,830000,0,null,null,null,0,830000]
[null,null,null,null,null,null,null,null,null,null,null,0,0,null,null,null,0,0]
[null,null,null,451,null,null,"Друмски саобраћај",null,null,null,{"$f":"H572+I572+J572","v":0},0,0,null,null,null,0,0]
[null,null,"0701-55",null,null,null,"Асфалтирање улице у селу Велики Трновац код Сефера, Л=210, Б=4,3м",null,null,null,null,0,0,null,null,null,0,0]
[null,null,null,null,152,"511","Зграде и грађевински објекти",870000,null,null,{"$f":"H574+I574+J574","v":870000},870000,0,null,null,null,870000,""]
[null,null,null,null,null,null,"Функција 451:",{"$f":"SUBTOTAL(9,H574)","v":870000},{"$f":"SUBTOTAL(9,I574)","v":0},0,870000,870000,0,null,null,null,0,870000]
[null,null,null,null,null,null,"Пројекат 0701-55",{"$f":"SUBTOTAL(9,H574)","v":870000},{"$f":"SUBTOTAL(9,I574)","v":0},0,870000,870000,0,null,null,null,0,870000]
[null,null,null,null,null,null,null,null,null,null,null,0,0,null,null,null,0,0]
[null,null,null,451,null,null,"Друмски саобраћај",null,null,null,{"$f":"H578+I578+J578","v":0},0,0,null,null,null,0,0]
[null,null,"0701-56",null,null,null,"Асфалтирање улице у селу Велики Трновац код Рахима, Л=90м, Б=4,5",null,null,null,null,0,0,null,null,null,0,0]
[null,null,null,null,153,"511","Зграде и грађевински објекти",550000,null,null,{"$f":"H580+I580+J580","v":550000},550000,0,null,null,null,550000,""]
[null,null,null,null,null,null,"Функција 451:",{"$f":"SUBTOTAL(9,H580)","v":550000},{"$f":"SUBTOTAL(9,I580)","v":0},0,550000,550000,0,null,null,null,0,550000]
[null,null,null,null,null,null,"Пројекат 0701-56",{"$f":"SUBTOTAL(9,H580)","v":550000},{"$f":"SUBTOTAL(9,I580)","v":0},0,550000,550000,0,null,null,null,0,550000]
[null,null,null,null,null,null,null,null,null,null,null,0,0,null,null,null,0,0]
[null,null,null,451,null,null,"Друмски саобраћај",null,null,null,{"$f":"H584+I584+J584","v":0},{"$f":"H584+I584+J584","v":0},{"$f":"K584-L584","v":0},null,null,null,0,0]
[null,null,"0701-57",null,null,null,"Асфалтирање улице у селу Велики Трновац код Шабана Ризаха, Л=86, Б=4м",null,null,null,null,0,0,null,null,null,0,0]
[null,null,null,null,154,"511","Зграде и грађевински објекти",530000,null,null,{"$f":"H586+I586+J586","v":530000},530000,0,null,null,null,530000,""]
[null,null,null,null,null,null,"Функција 451:",{"$f":"SUBTOTAL(9,H586)","v":530000},{"$f":"SUBTOTAL(9,I586)","v":0},0,530000,530000,0,null,null,null,{"$f":"IF(E587>0,H587,0)","v":0},{"$f":"IF(E587=0,H587,\"\")","v":530000}]
[null,null,null,null,null,null,"Пројекат 0701-57",{"$f":"SUBTOTAL(9,H586)","v":530000},{"$f":"SUBTOTAL(9,I586)","v":0},0,530000,530000,0,null,null,null,0,530000]
[null,null,null,null,null,null,null,null,null,null,null,0,0,null,null,null,0,0]
[null,null,null,451,null,null,"Друмски саобраћај",null,null,null,{"$f":"H590+I590+J590","v":0},0,0,null,null,null,0,0]
[null,null,"0701-58",null,null,null,"Уређење парка у селу Велики Трновац код воденице",null,null,null,null,0,0,null,null,null,0,0]
[null,null,null,null,155,"511","Зграде и грађевински објекти",1300000,null,null,{"$f":"H592+I592+J592","v":1300000},1300000,0,null,null,null,1300000,""]
[null,null,null,null,null,null,"Функција 451:",{"$f":"SUBTOTAL(9,H592)","v":1300000},{"$f":"SUBTOTAL(9,I592)","v":0},0,1300000,1300000,0,null,null,null,0,1300000]
[null,null,null,null,null,null,"Пројекат 0701-58",{"$f":"SUBTOTAL(9,H592)","v":1300000},{"$f":"SUBTOTAL(9,I592)","v":0},0,1300000,1300000,0,null,null,null,0,1300000]
[null,null,null,null,null,null,null,null,null,null,null,0,0,null,null,null,0,0]
[null,null,null,451,null,null,"Друмски саобраћај",null,null,null,{"$f":"H596+I596+J596","v":0},0,0,null,null,null,0,0]
[null,null,"0701-59",null,null,null,"Асфалтирање улице у селу Биљача код Авније, Л=390м, Б=3,5м",null,null,null,null,0,0,null,null,null,0,0]
[null,null,null,null,156,"511","Зграде и грађевински објекти",1600000,null,null,{"$f":"H598+I598+J598","v":1600000},1600000,0,null,null,null,1600000,""]
[null,null,null,null,null,null,"Функција 451:",{"$f":"SUBTOTAL(9,H598)","v":1600000},{"$f":"SUBTOTAL(9,I598)","v":0},0,1600000,1600000,0,null,null,null,0,1600000]
[null,null,null,null,null,null,"Пројекат 0701-59",{"$f":"SUBTOTAL(9,H598)","v":1600000},{"$f":"SUBTOTAL(9,I598)","v":0},0,1600000,1600000,0,null,null,null,0,1600000]
[null,null,null,null,null,null,null,null,null,null,null,0,0,null,null,null,0,0]
[null,null,null,451,null,null,"Друмски саобраћај",null,null,null,{"$f":"H602+I602+J602","v":0},0,0,null,null,null,0,0]
[null,null,"0701-60",null,null,null,"Асфалтирање улице у селу Биљача код Сељамије, Л=110м, Б=4м",null,null,null,null,0,0,null,null,null,0,0]
[null,null,null,null,157,"511","Зграде и грађевински објекти",530000,null,null,{"$f":"H604+I604+J604","v":530000},530000,0,null,null,null,530000,""]
[null,null,null,null,null,null,"Функција 451:",{"$f":"SUBTOTAL(9,H604)","v":530000},{"$f":"SUBTOTAL(9,I604)","v":0},0,530000,530000,0,null,null,null,0,530000]
[null,null,null,null,null,null,"Пројекат 0701-60",{"$f":"SUBTOTAL(9,H604)","v":530000},{"$f":"SUBTOTAL(9,I604)","v":0},0,530000,530000,0,{"$f":"SUBTOTAL(9,H225:H606)","v":71319000},null,null,0,530000]
[null,null,null,null,null,null,null,null,null,null,null,0,0,null,null,null,0,0]
[null,null,null,451,null,null,"Друмски саобраћај",null,null,null,{"$f":"H608+I608+J608","v":0},0,0,null,null,null,0,0]
[null,null,"0701-61",null,null,null,"Проширење пута Несалце - Летовица, Л=2,6км, Б=1м",null,null,null,null,0,0,null,null,null,0,0]
[null,null,null,null,158,"511","Зграде и грађевински објекти",4300000,null,null,{"$f":"H610+I610+J610","v":4300000},4300000,0,null,null,null,4300000,""]
[null,null,null,null,null,null,"Функција 451:",{"$f":"SUBTOTAL(9,H610)","v":4300000},{"$f":"SUBTOTAL(9,I610)","v":0},0,4300000,4300000,0,null,null,null,0,4300000]
[null,null,null,null,null,null,"Пројекат 0701-61",{"$f":"SUBTOTAL(9,H610)","v":4300000},{"$f":"SUBTOTAL(9,I610)","v":0},0,4300000,4300000,0,{"$f":"SUBTOTAL(9,H231:H612)","v":74619000},null,null,0,4300000]
[null,null,null,null,null,null,null,null,null,null,null,0,0,null,null,null,0,0]
[null,null,null,451,null,null,"Друмски саобраћај",null,null,null,{"$f":"H614+I614+J614","v":0},0,0,null,null,null,0,0]
[null,null,"0701-62",null,null,null,"Асфалтирање улице у селу Летовица код Вељије, Л=200м, Б=3м",null,null,null,null,0,0,null,null,null,0,0]
[null,null,null,null,159,"511","Зграде и грађевински објекти",700000,null,null,{"$f":"H616+I616+J616","v":700000},700000,0,null,null,null,700000,""]
[null,null,null,null,null,null,"Функција 451:",{"$f":"SUBTOTAL(9,H616)","v":700000},{"$f":"SUBTOTAL(9,I616)","v":0},0,700000,700000,0,null,null,null,0,700000]
[null,null,null,null,null,null,"Пројекат 0701-62",{"$f":"SUBTOTAL(9,H616)","v":700000},{"$f":"SUBTOTAL(9,I616)","v":0},0,700000,700000,0,null,null,null,0,700000]
[null,null,null,null,null,null,null,null,null,null,null,0,0,null,null,null,0,0]
[null,null,null,451,null,null,"Друмски саобраћај",null,null,null,{"$f":"H620+I620+J620","v":0},0,0,null,null,null,0,0]
[null,null,"0701-63",null,null,null,"Асфалтирање улице у селу Летовица код Африма, Л=85м, Б=3м",null,null,null,null,0,0,null,null,null,0,0]
[null,null,null,null,160,"511","Зграде и грађевински објекти",520000,null,null,{"$f":"H622+I622+J622","v":520000},520000,0,null,null,null,520000,""]
[null,null,null,null,null,null,"Функција 451:",{"$f":"SUBTOTAL(9,H622)","v":520000},{"$f":"SUBTOTAL(9,I622)","v":0},0,520000,520000,0,null,null,null,0,520000]
[null,null,null,null,null,null,"Пројекат 0701-63",{"$f":"SUBTOTAL(9,H622)","v":520000},{"$f":"SUBTOTAL(9,I622)","v":0},0,520000,520000,0,null,null,null,0,520000]
[null,null,null,null,null,null,null,null,null,null,null,0,0,null,null,null,0,0]
[null,null,null,451,null,null,"Друмски саобраћај",null,null,null,{"$f":"H626+I626+J626","v":0},0,0,null,null,null,0,0]
[null,null,"0701-64",null,null,null,"Асфалтирање улице у селу Летовица код Исуфа, Л=162м, Б=3м",null,null,null,null,0,0,null,null,null,0,0]
[null,null,null,null,161,"511","Зграде и грађевински објекти",700000,null,null,{"$f":"H628+I628+J628","v":700000},700000,0,null,null,null,700000,""]
[null,null,null,null,null,null,"Функција 451:",{"$f":"SUBTOTAL(9,H628)","v":700000},{"$f":"SUBTOTAL(9,I628)","v":0},0,700000,700000,0,null,null,null,0,700000]
[null,null,null,null,null,null,"Пројекат 0701-64",{"$f":"SUBTOTAL(9,H628)","v":700000},{"$f":"SUBTOTAL(9,I628)","v":0},0,700000,700000,0,null,null,null,0,700000]
[null,null,null,null,null,null,null,null,null,null,null,0,0,null,null,null,0,0]
[null,null,null,451,null,null,"Друмски саобраћај",null,null,null,{"$f":"H632+I632+J632","v":0},0,0,null,null,null,0,0]
[null,null,"0701-65",null,null,null,"Асфалтирање улице у селу Летовица код Дине, Л=80м, Б=3м",null,null,null,null,0,0,null,null,null,0,0]
[null,null,null,null,162,"511","Зграде и грађевински објекти",680000,null,null,{"$f":"H634+I634+J634","v":680000},680000,0,null,null,null,680000,""]
[null,null,null,null,null,null,"Функција 451:",{"$f":"SUBTOTAL(9,H634)","v":680000},{"$f":"SUBTOTAL(9,I634)","v":0},0,680000,680000,0,null,null,null,0,680000]
[null,null,null,null,null,null,"Пројекат 0701-65",{"$f":"SUBTOTAL(9,H634)","v":680000},{"$f":"SUBTOTAL(9,I634)","v":0},0,680000,680000,0,{"$f":"SUBTOTAL(9,H256:H636)","v":72669000},null,null,0,680000]
[null,null,null,null,null,null,null,null,null,null,null,0,0,null,null,null,0,0]
[null,null,null,451,null,null,"Друмски саобраћај",null,null,null,{"$f":"H638+I638+J638","v":0},0,0,null,null,null,0,0]
[null,null,"0701-66",null,null,null,"Асфалтирање улице у селу Несалце код џамије, Л=180м, Б=3м",null,null,null,null,0,0,null,null,null,0,0]
[null,null,null,null,163,"511","Зграде и грађевински објекти",700000,null,null,{"$f":"H640+I640+J640","v":700000},700000,0,null,null,null,700000,""]
[null,null,null,null,null,null,"Функција 451:",{"$f":"SUBTOTAL(9,H640)","v":700000},{"$f":"SUBTOTAL(9,I640)","v":0},0,700000,700000,0,null,null,null,0,700000]
[null,null,null,null,null,null,"Пројекат 0701-66",{"$f":"SUBTOTAL(9,H640)","v":700000},{"$f":"SUBTOTAL(9,I640)","v":0},0,700000,700000,0,{"$f":"SUBTOTAL(9,H262:H642)","v":73369000},null,null,0,700000]
[null,null,null,null,null,null,null,null,null,null,null,0,0,null,null,null,0,0]
[null,null,null,451,null,null,"Друмски саобраћај",null,null,null,{"$f":"H644+I644+J644","v":0},0,0,null,null,null,0,0]
[null,null,"0701-67",null,null,null,"Асфалтирање улице у селу Несалце код Барије, Л=100м, Б=3м",null,null,null,null,0,0,null,null,null,{"$f":"IF(E645>0,H645,0)","v":0},{"$f":"IF(E645=0,H645,\"\")","v":0}]
[null,null,null,null,164,"511","Зграде и грађевински објекти",450000,null,null,{"$f":"H646+I646+J646","v":450000},450000,0,null,null,null,450000,""]
[null,null,null,null,null,null,"Функција 451:",{"$f":"SUBTOTAL(9,H646)","v":450000},{"$f":"SUBTOTAL(9,I646)","v":0},0,450000,450000,0,null,null,null,0,450000]
[null,null,null,null,null,null,"Пројекат 0701-67",{"$f":"SUBTOTAL(9,H646)","v":450000},{"$f":"SUBTOTAL(9,I646)","v":0},0,450000,{"$f":"H648+I648+J648","v":450000},{"$f":"K648-L648","v":0},null,null,null,0,450000]
[null,null,null,null,null,null,null,null,null,null,null,0,0,null,null,null,0,0]
[null,null,null,451,null,null,"Друмски саобраћај",null,null,null,{"$f":"H650+I650+J650","v":0},0,0,null,null,null,0,0]
[null,null,"0701-68",null,null,null,"Асфалтирање улице у селу Несалце код Хајриза, Л=100м, Б=2,5м",null,null,null,null,0,0,null,null,null,0,0]
[null,null,null,null,165,"511","Зграде и грађевински објекти",430000,null,null,{"$f":"H652+I652+J652","v":430000},430000,0,null,null,null,430000,""]
[null,null,null,null,null,null,"Функција 451:",{"$f":"SUBTOTAL(9,H652)","v":430000},{"$f":"SUBTOTAL(9,I652)","v":0},0,430000,430000,0,null,null,null,0,430000]
[null,null,null,null,null,null,"Пројекат 0701-68",{"$f":"SUBTOTAL(9,H652)","v":430000},{"$f":"SUBTOTAL(9,I652)","v":0},0,430000,430000,0,null,null,null,0,430000]
[null,null,null,null,null,null,null,null,null,null,null,0,0,null,null,null,0,0]
[null,null,null,451,null,null,"Друмски саобраћај",null,null,null,{"$f":"H656+I656+J656","v":0},0,0,null,null,null,0,0]
[null,null,"0701-69",null,null,null,"Асфалтирање улице у селу Несалце код Мендуха, Л=70м, Б=3м",null,null,null,null,0,0,null,null,null,0,0]
[null,null,null,null,166,"511","Зграде и грађевински објекти",450000,null,null,{"$f":"H658+I658+J658","v":450000},450000,0,null,null,null,450000,""]
[null,null,null,null,null,null,"Функција 451:",{"$f":"SUBTOTAL(9,H658)","v":450000},{"$f":"SUBTOTAL(9,I658)","v":0},0,450000,450000,0,null,null,null,0,450000]
[null,null,null,null,null,null,"Пројекат 0701-69",{"$f":"SUBTOTAL(9,H658)","v":450000},{"$f":"SUBTOTAL(9,I658)","v":0},0,450000,450000,0,{"$f":"SUBTOTAL(9,H286:H660)","v":71939000},null,null,0,450000]
[null,null,null,null,null,null,null,null,null,null,null,0,0,null,null,null,0,0]
[null,null,null,451,null,null,"Друмски саобраћај",null,null,null,{"$f":"H662+I662+J662","v":0},0,0,null,null,null,0,0]
[null,null,"0701-70",null,null,null,"Асфалтирање улице у селу Несалце код Пуст, Л=67м, Б=3м",null,null,null,null,0,0,null,null,null,0,0]
[null,null,null,null,167,"511","Зграде и грађевински објекти",400000,null,null,{"$f":"H664+I664+J664","v":400000},400000,0,null,null,null,400000,""]
[null,null,null,null,null,null,"Функција 451:",{"$f":"SUBTOTAL(9,H664)","v":400000},{"$f":"SUBTOTAL(9,I664)","v":0},0,400000,400000,0,null,null,null,0,400000]
[null,null,null,null,null,null,"Пројекат 0701-70",{"$f":"SUBTOTAL(9,H664)","v":400000},{"$f":"SUBTOTAL(9,I664)","v":0},0,400000,400000,0,{"$f":"SUBTOTAL(9,H292:H666)","v":69339000},null,null,0,400000]
[null,null,null,null,null,null,null,null,null,null,null,0,0,null,null,null,0,0]
[null,null,null,451,null,null,"Друмски саобраћај",null,null,null,{"$f":"H668+I668+J668","v":0},0,0,null,null,null,0,0]
[null,null,"0701-71",null,null,null,"Асфалтирање улице у селу Несалце код Рафе, Л=68м, Б=3,2м",null,null,null,null,0,0,null,null,null,0,0]
[null,null,null,null,168,"511","Зграде и грађевински објекти",400000,null,null,{"$f":"H670+I670+J670","v":400000},400000,0,null,null,null,400000,""]
[null,null,null,null,null,null,"Функција 451:",{"$f":"SUBTOTAL(9,H670)","v":400000},{"$f":"SUBTOTAL(9,I670)","v":0},0,400000,400000,0,null,null,null,0,400000]
[null,null,null,null,null,null,"Пројекат 0701-71",{"$f":"SUBTOTAL(9,H670)","v":400000},{"$f":"SUBTOTAL(9,I670)","v":0},0,400000,400000,0,null,null,null,0,400000]
[null,null,null,null,null,null,null,null,null,null,null,0,0,null,null,null,0,0]
[null,null,null,451,null,null,"Друмски саобраћај",null,null,null,{"$f":"H674+I674+J674","v":0},0,0,null,null,null,0,0]
[null,null,"0701-72",null,null,null,"Асфалтирање улице у селу Несалце код Садрије, Л=74м, Б=3м",null,null,null,null,0,0,null,null,null,0,0]
[null,null,null,null,169,"511","Зграде и грађевински објекти",500000,null,null,{"$f":"H676+I676+J676","v":500000},500000,0,null,null,null,500000,""]
[null,null,null,null,null,null,"Функција 451:",{"$f":"SUBTOTAL(9,H676)","v":500000},{"$f":"SUBTOTAL(9,I676)","v":0},0,500000,500000,0,null,null,null,0,500000]
[null,null,null,null,null,null,"Пројекат 0701-72",{"$f":"SUBTOTAL(9,H676)","v":500000},{"$f":"SUBTOTAL(9,I676)","v":0},0,500000,500000,0,null,null,null,0,500000]
[null,null,null,null,null,null,null,null,null,null,null,0,0,null,null,null,0,0]
[null,null,null,451,null,null,"Друмски саобраћај",null,null,null,{"$f":"H680+I680+J680","v":0},0,0,null,null,null,0,0]
[null,null,"0701-73",null,null,null,"Асфалтирање улице у селу Несалце код Тефика, Л=130, Б=3м",null,null,null,null,0,0,null,null,null,0,0]
[null,null,null,null,170,"511","Зграде и грађевински објекти",500000,null,null,{"$f":"H682+I682+J682","v":500000},500000,0,null,null,null,500000,""]
[null,null,null,null,null,null,"Функција 451:",{"$f":"SUBTOTAL(9,H682)","v":500000},{"$f":"SUBTOTAL(9,I682)","v":0},0,500000,500000,0,null,null,null,0,500000]
[null,null,null,null,null,null,"Пројекат 0701-73",{"$f":"SUBTOTAL(9,H682)","v":500000},{"$f":"SUBTOTAL(9,I682)","v":0},0,500000,500000,0,null,null,null,0,500000]
[null,null,null,null,null,null,null,null,null,null,null,0,0,null,null,null,0,0]
[null,null,null,451,null,null,"Друмски саобраћај",null,null,null,{"$f":"H686+I686+J686","v":0},0,0,null,null,null,0,0]
[null,null,"0701-74",null,null,null,"Асфалтирање улице у селу Самољица - Корб махала, Л=200м, Б=3,5м",null,null,null,null,0,0,null,null,null,0,0]
[null,null,null,null,171,"511","Зграде и грађевински објекти",735000,null,null,{"$f":"H688+I688+J688","v":735000},735000,0,null,null,null,735000,""]
[null,null,null,null,null,null,"Функција 451:",{"$f":"SUBTOTAL(9,H688)","v":735000},{"$f":"SUBTOTAL(9,I688)","v":0},0,735000,735000,0,null,null,null,0,735000]
[null,null,null,null,null,null,"Пројекат 0701-74",{"$f":"SUBTOTAL(9,H688)","v":735000},{"$f":"SUBTOTAL(9,I688)","v":0},0,735000,735000,0,{"$f":"SUBTOTAL(9,H316:H690)","v":61249000},null,null,0,735000]
[null,null,null,null,null,null,null,null,null,null,null,0,0,null,null,null,0,0]
[null,null,null,451,null,null,"Друмски саобраћај",null,null,null,{"$f":"H692+I692+J692","v":0},0,0,null,null,null,0,0]
[null,null,"0701-75",null,null,null,"Асфалтирање улице у селу Самољица код Екрема, Л=153м, Б=3,5м",null,null,null,null,0,0,null,null,null,0,0]
[null,null,null,null,172,"511","Зграде и грађевински објекти",620000,null,null,{"$f":"H694+I694+J694","v":620000},620000,0,null,null,null,620000,""]
[null,null,null,null,null,null,"Функција 451:",{"$f":"SUBTOTAL(9,H694)","v":620000},{"$f":"SUBTOTAL(9,I694)","v":0},0,620000,620000,0,null,null,null,0,620000]
[null,null,null,null,null,null,"Пројекат 0701-75",{"$f":"SUBTOTAL(9,H694)","v":620000},{"$f":"SUBTOTAL(9,I694)","v":0},0,620000,620000,0,{"$f":"SUBTOTAL(9,H322:H696)","v":61369000},null,null,0,620000]
[null,null,null,null,null,null,null,null,null,null,null,0,0,null,null,null,0,0]
[null,null,null,451,null,null,"Друмски саобраћај",null,null,null,{"$f":"H698+I698+J698","v":0},0,0,null,null,null,0,0]
[null,null,"0701-76",null,null,null,"Асфалтирање улице у селу Самољица код Недима, Л=90м, Б=3м",null,null,null,null,0,0,null,null,null,0,0]
[null,null,null,null,173,"511","Зграде и грађевински објекти",480000,null,null,{"$f":"H700+I700+J700","v":480000},480000,0,null,null,null,480000,""]
[null,null,null,null,null,null,"Функција 451:",{"$f":"SUBTOTAL(9,H700)","v":480000},{"$f":"SUBTOTAL(9,I700)","v":0},0,480000,480000,0,null,null,null,0,480000]
[null,null,null,null,null,null,"Пројекат 0701-76",{"$f":"SUBTOTAL(9,H700)","v":480000},{"$f":"SUBTOTAL(9,I700)","v":0},0,480000,480000,0,null,null,null,0,480000]
[null,null,null,null,null,null,null,null,null,null,null,0,0,null,null,null,0,0]
[null,null,null,451,null,null,"Друмски саобраћај",null,null,null,{"$f":"H704+I704+J704","v":0},0,0,null,null,null,0,0]
[null,null,"0701-77",null,null,null,"Асфалтирање улице у селу Лучане код Фисника, Л=60м, Б=3,5м",null,null,null,null,0,0,null,null,null,0,0]
[null,null,null,null,174,"511","Зграде и грађевински објекти",475000,null,null,{"$f":"H706+I706+J706","v":475000},475000,0,null,null,null,475000,""]
[null,null,null,null,null,null,"Функција 451:",{"$f":"SUBTOTAL(9,H706)","v":475000},{"$f":"SUBTOTAL(9,I706)","v":0},0,475000,475000,0,null,null,null,0,475000]
[null,null,null,null,null,null,"Пројекат 0701-77",{"$f":"SUBTOTAL(9,H706)","v":475000},{"$f":"SUBTOTAL(9,I706)","v":0},0,475000,475000,0,null,null,null,0,475000]
[null,null,null,null,null,null,null,null,null,null,null,0,0,null,null,null,{"$f":"IF(E709>0,H709,0)","v":0},{"$f":"IF(E709=0,H709,\"\")","v":0}]
[null,null,null,451,null,null,"Друмски саобраћај",null,null,null,{"$f":"H710+I710+J710","v":0},0,0,null,null,null,0,0]
[null,null,"0701-78",null,null,null,"Асфалтирање улице у селу Лучане код Хамдије, Л=61м, Б=3,5м",null,null,null,null,0,0,null,null,null,0,0]
[null,null,null,null,175,"511","Зграде и грађевински објекти",450000,null,null,{"$f":"H712+I712+J712","v":450000},{"$f":"H712+I712+J712","v":450000},{"$f":"K712-L712","v":0},null,null,null,450000,""]
[null,null,null,null,null,null,"Функција 451:",{"$f":"SUBTOTAL(9,H712)","v":450000},{"$f":"SUBTOTAL(9,I712)","v":0},0,450000,450000,0,null,null,null,0,450000]
[null,null,null,null,null,null,"Пројекат 0701-78",{"$f":"SUBTOTAL(9,H712)","v":450000},{"$f":"SUBTOTAL(9,I712)","v":0},0,450000,450000,0,null,null,null,0,450000]
[null,null,null,null,null,null,null,null,null,null,null,0,0,null,null,null,0,0]
[null,null,null,451,null,null,"Друмски саобраћај",null,null,null,{"$f":"H716+I716+J716","v":0},0,0,null,null,null,0,0]
[null,null,"0701-79",null,null,null,"Асфалтирање улице у селу Лучане код Куртеша, Л=68м, Б=3м",null,null,null,null,0,0,null,null,null,0,0]
[null,null,null,null,176,"511","Зграде и грађевински објекти",400000,null,null,{"$f":"H718+I718+J718","v":400000},400000,0,null,null,null,400000,""]
[null,null,null,null,null,null,"Функција 451:",{"$f":"SUBTOTAL(9,H718)","v":400000},{"$f":"SUBTOTAL(9,I718)","v":0},0,400000,400000,0,null,null,null,0,400000]
[null,null,null,null,null,null,"Пројекат 0701-79",{"$f":"SUBTOTAL(9,H718)","v":400000},{"$f":"SUBTOTAL(9,I718)","v":0},0,400000,400000,0,{"$f":"SUBTOTAL(9,H346:H720)","v":60924000},null,null,0,400000]
[null,null,null,null,null,null,null,null,null,null,null,0,0,null,null,null,0,0]
[null,null,null,451,null,null,"Друмски саобраћај",null,null,null,{"$f":"H722+I722+J722","v":0},0,0,null,null,null,0,0]
[null,null,"0701-80",null,null,null,"Асфалтирање улице у селу Лучане код Бејту, Л=195, Б=3м",null,null,null,null,0,0,null,null,null,0,0]
[null,null,null,null,177,"511","Зграде и грађевински објекти",680000,null,null,{"$f":"H724+I724+J724","v":680000},680000,0,null,null,null,680000,""]
[null,null,null,null,null,null,"Функција 451:",{"$f":"SUBTOTAL(9,H724)","v":680000},{"$f":"SUBTOTAL(9,I724)","v":0},0,680000,680000,0,null,null,null,0,680000]
[null,null,null,null,null,null,"Пројекат 0701-80",{"$f":"SUBTOTAL(9,H724)","v":680000},{"$f":"SUBTOTAL(9,I724)","v":0},0,680000,680000,0,{"$f":"SUBTOTAL(9,H352:H726)","v":60954000},null,null,0,680000]
[null,null,null,null,null,null,null,null,null,null,null,0,0,null,null,null,0,0]
[null,null,null,451,null,null,"Друмски саобраћај",null,null,null,{"$f":"H728+I728+J728","v":0},0,0,null,null,null,0,0]
[null,null,"0701-81",null,null,null,"Асфалтирање улице у селу Кончуљ код Азизи, Л=100м, Б=3м",null,null,null,null,0,0,null,null,null,0,0]
[null,null,null,null,178,"511","Зграде и грађевински објекти",520000,null,null,{"$f":"H730+I730+J730","v":520000},520000,0,null,null,null,520000,""]
[null,null,null,null,null,null,"Функција 451:",{"$f":"SUBTOTAL(9,H730)","v":520000},{"$f":"SUBTOTAL(9,I730)","v":0},0,520000,520000,0,null,null,null,0,520000]
[null,null,null,null,null,null,"Пројекат 0701-81",{"$f":"SUBTOTAL(9,H730)","v":520000},{"$f":"SUBTOTAL(9,I730)","v":0},0,520000,520000,0,null,null,null,0,520000]
[null,null,null,null,null,null,null,null,null,null,null,0,0,null,null,null,0,0]
[null,null,null,451,null,null,"Друмски саобраћај",null,null,null,{"$f":"H734+I734+J734","v":0},0,0,null,null,null,0,0]
[null,null,"0701-82",null,null,null,"Асфалтирање улице у селу Кончуљ код Браховита, Л=103м, Б=3м",null,null,null,null,0,0,null,null,null,0,0]
[null,null,null,null,179,"511","Зграде и грађевински објекти",600000,null,null,{"$f":"H736+I736+J736","v":600000},600000,0,null,null,null,600000,""]
[null,null,null,null,null,null,"Функција 451:",{"$f":"SUBTOTAL(9,H736)","v":600000},{"$f":"SUBTOTAL(9,I736)","v":0},0,600000,600000,0,null,null,null,0,600000]
[null,null,null,null,null,null,"Пројекат 0701-82",{"$f":"SUBTOTAL(9,H736)","v":600000},{"$f":"SUBTOTAL(9,I736)","v":0},0,600000,600000,0,null,null,null,0,600000]
[null,null,null,null,null,null,null,null,null,null,null,0,0,null,null,null,0,0]
[null,null,null,451,null,null,"Друмски саобраћај",null,null,null,{"$f":"H740+I740+J740","v":0},0,0,null,null,null,0,0]
[null,null,"0701-83",null,null,null,"Асфалтирање улице у селу Кончуљ код моста, Л=87м, Б=3м",null,null,null,null,0,0,null,null,null,0,0]
[null,null,null,null,180,"511","Зграде и грађевински објекти",540000,null,null,{"$f":"H742+I742+J742","v":540000},540000,0,null,null,null,540000,""]
[null,null,null,null,null,null,"Функција 451:",{"$f":"SUBTOTAL(9,H742)","v":540000},{"$f":"SUBTOTAL(9,I742)","v":0},0,540000,540000,0,null,null,null,0,540000]
[null,null,null,null,null,null,"Пројекат 0701-83",{"$f":"SUBTOTAL(9,H742)","v":540000},{"$f":"SUBTOTAL(9,I742)","v":0},0,540000,540000,0,null,null,null,0,540000]
[null,null,null,null,null,null,null,null,null,null,null,0,0,null,null,null,0,0]
[null,null,null,451,null,null,"Друмски саобраћај",null,null,null,{"$f":"H746+I746+J746","v":0},0,0,null,null,null,0,0]
[null,null,"0701-84",null,null,null,"Асфалтирање улице у селу Добросин код Исљама, Л=300м, Б=4м",null,null,null,null,0,0,null,null,null,0,0]
[null,null,null,null,181,"511","Зграде и грађевински објекти",1040000,null,null,{"$f":"H748+I748+J748","v":1040000},1040000,0,null,null,null,1040000,""]
[null,null,null,null,null,null,"Функција 451:",{"$f":"SUBTOTAL(9,H748)","v":1040000},{"$f":"SUBTOTAL(9,I748)","v":0},0,1040000,1040000,0,null,null,null,0,1040000]
[null,null,null,null,null,null,"Пројекат 0701-84",{"$f":"SUBTOTAL(9,H748)","v":1040000},{"$f":"SUBTOTAL(9,I748)","v":0},0,1040000,1040000,0,{"$f":"SUBTOTAL(9,H376:H750)","v":61404000},null,null,0,1040000]
[null,null,null,null,null,null,null,null,null,null,null,0,0,null,null,null,0,0]
[null,null,null,451,null,null,"Друмски саобраћај",null,null,null,{"$f":"H752+I752+J752","v":0},0,0,null,null,null,0,0]
[null,null,"0701-85",null,null,null,"Асфалтирање улице у селу Добросин код Азиза, Л=231м, Б=3м",null,null,null,null,0,0,null,null,null,0,0]
[null,null,null,null,182,"511","Зграде и грађевински објекти",600000,null,null,{"$f":"H754+I754+J754","v":600000},600000,0,null,null,null,600000,""]
[null,null,null,null,null,null,"Функција 451:",{"$f":"SUBTOTAL(9,H754)","v":600000},{"$f":"SUBTOTAL(9,I754)","v":0},0,600000,600000,0,null,null,null,0,600000]
[null,null,null,null,null,null,"Пројекат 0701-85",{"$f":"SUBTOTAL(9,H754)","v":600000},{"$f":"SUBTOTAL(9,I754)","v":0},0,600000,600000,0,{"$f":"SUBTOTAL(9,H382:H756)","v":61354000},null,null,0,600000]
[null,null,null,null,null,null,null,null,null,null,null,0,0,null,null,null,0,0]
[null,null,null,451,null,null,"Друмски саобраћај",null,null,null,{"$f":"H758+I758+J758","v":0},0,0,null,null,null,0,0]
[null,null,"0701-86",null,null,null,"Асфалтирање улице у селу Брезница код млина, Л=1.300, Б=4м",null,null,null,null,0,0,null,null,null,0,0]
[null,null,null,null,183,"511","Зграде и грађевински објекти",2000000,null,null,{"$f":"H760+I760+J760","v":2000000},2000000,0,null,null,null,2000000,""]
[null,null,null,null,null,null,"Функција 451:",{"$f":"SUBTOTAL(9,H760)","v":2000000},{"$f":"SUBTOTAL(9,I760)","v":0},0,2000000,2000000,0,null,null,null,0,2000000]
[null,null,null,null,null,null,"Пројекат 0701-86",{"$f":"SUBTOTAL(9,H760)","v":2000000},{"$f":"SUBTOTAL(9,I760)","v":0},0,2000000,2000000,0,null,null,null,0,2000000]
[null,null,null,null,null,null,null,null,null,null,null,0,0,null,null,null,0,0]
[null,null,null,451,null,null,"Друмски саобраћај",null,null,null,{"$f":"H764+I764+J764","v":0},0,0,null,null,null,0,0]
[null,null,"0701-87",null,null,null,"Асфалтирање улице у селу Брезница - Муховац - Зарбинце, Л=600м, Б=4м",null,null,null,null,0,0,null,null,null,0,0]
[null,null,null,null,184,"511","Зграде и грађевински објекти",2000000,null,null,{"$f":"H766+I766+J766","v":2000000},2000000,0,null,null,null,2000000,""]
[null,null,null,null,null,null,"Функција 451:",{"$f":"SUBTOTAL(9,H766)","v":2000000},{"$f":"SUBTOTAL(9,I766)","v":0},0,2000000,2000000,0,null,null,null,0,2000000]
[null,null,null,null,null,null,"Пројекат 0701-87",{"$f":"SUBTOTAL(9,H766)","v":2000000},{"$f":"SUBTOTAL(9,I766)","v":0},0,2000000,2000000,0,null,null,null,0,2000000]
[null,null,null,null,null,null,null,null,null,null,null,0,0,null,null,null,0,0]
[null,null,null,451,null,null,"Друмски саобраћај",null,null,null,{"$f":"H770+I770+J770","v":0},0,0,null,null,null,0,0]
[null,null,"0701-88",null,null,null,"Асфалтирање улице у селу Турија код Лукмана, Л=260м, Б=3м",null,null,null,null,0,0,null,null,null,0,0]
[null,null,null,null,185,"511","Зграде и грађевински објекти",450000,null,null,{"$f":"H772+I772+J772","v":450000},450000,0,null,null,null,450000,""]
[null,null,null,null,null,null,"Функција 451:",{"$f":"SUBTOTAL(9,H772)","v":450000},{"$f":"SUBTOTAL(9,I772)","v":0},0,450000,450000,0,null,null,null,{"$f":"IF(E773>0,H773,0)","v":0},{"$f":"IF(E773=0,H773,\"\")","v":450000}]
[null,null,null,null,null,null,"Пројекат 0701-88",{"$f":"SUBTOTAL(9,H772)","v":450000},{"$f":"SUBTOTAL(9,I772)","v":0},0,450000,450000,0,null,null,null,0,450000]
[null,null,null,null,null,null,null,null,null,null,null,0,0,null,null,null,0,0]
[null,null,null,451,null,null,"Друмски саобраћај",null,null,null,{"$f":"H776+I776+J776","v":0},{"$f":"H776+I776+J776","v":0},{"$f":"K776-L776","v":0},null,null,null,0,0]
[null,null,"0701-89",null,null,null,"Насипање улице у селу Велики Трновац код Колоније",null,null,null,null,0,0,null,null,null,0,0]
[null,null,null,null,186,"425","Текуће поправке и одржавање",400000,null,null,{"$f":"H778+I778+J778","v":400000},400000,0,null,null,null,400000,""]
[null,null,null,null,null,null,"Функција 451:",{"$f":"SUBTOTAL(9,H778)","v":400000},{"$f":"SUBTOTAL(9,I778)","v":0},0,400000,400000,0,null,null,null,0,400000]
[null,null,null,null,null,null,"Пројекат 0701-89",{"$f":"SUBTOTAL(9,H778)","v":400000},{"$f":"SUBTOTAL(9,I778)","v":0},0,400000,400000,0,{"$f":"SUBTOTAL(9,H406:H780)","v":61929000},null,null,0,400000]
[null,null,null,null,null,null,null,null,null,null,null,0,0,null,null,null,0,0]
[null,null,null,451,null,null,"Друмски саобраћај",null,null,null,{"$f":"H782+I782+J782","v":0},0,0,null,null,null,0,0]
[null,null,"0701-90",null,null,null,"Насипање улице у селу В. Бресић",null,null,null,null,0,0,null,null,null,0,0]
[null,null,null,null,187,"425","Текуће поправке и одржавање",400000,null,null,{"$f":"H784+I784+J784","v":400000},400000,0,null,null,null,400000,""]
[null,null,null,null,null,null,"Функција 451:",{"$f":"SUBTOTAL(9,H784)","v":400000},{"$f":"SUBTOTAL(9,I784)","v":0},0,400000,400000,0,null,null,null,0,400000]
[null,null,null,null,null,null,"Пројекат 0701-90",{"$f":"SUBTOTAL(9,H784)","v":400000},{"$f":"SUBTOTAL(9,I784)","v":0},0,400000,400000,0,{"$f":"SUBTOTAL(9,H412:H786)","v":59829000},null,null,0,400000]
[null,null,null,null,null,null,null,null,null,null,null,0,0,null,null,null,0,0]
[null,null,null,451,null,null,"Друмски саобраћај",null,null,null,{"$f":"H788+I788+J788","v":0},0,0,null,null,null,0,0]
[null,null,"0701-91",null,null,null,"Реконструкција асфалтирања улице у селу Велики Трновац (од главне трафо-станице до пута у нову махалу)",null,null,null,null,0,0,null,null,null,0,0]
[null,null,null,null,188,"511","Зграде и грађевински објекти",2000000,null,null,{"$f":"H790+I790+J790","v":2000000},2000000,0,null,null,null,2000000,""]
[null,null,null,null,null,null,"Функција 451:",{"$f":"SUBTOTAL(9,H790)","v":2000000},{"$f":"SUBTOTAL(9,I790)","v":0},0,2000000,2000000,0,null,null,null,0,2000000]
[null,null,null,null,null,null,"Пројекат 0701-91",{"$f":"SUBTOTAL(9,H790)","v":2000000},{"$f":"SUBTOTAL(9,I790)","v":0},0,2000000,2000000,0,null,null,null,0,2000000]
[null,null,null,null,null,null,null,null,null,null,null,0,0,null,null,null,0,0]
[null,null,null,451,null,null,"Друмски саобраћај",null,null,null,{"$f":"H794+I794+J794","v":0},0,0,null,null,null,0,0]
[null,null,"0701-92",null,null,null,"Насипање улице у селу Лучане код Рамиза",null,null,null,null,0,0,null,null,null,0,0]
[null,null,null,null,189,"425","Текуће поправке и одржавање",400000,null,null,{"$f":"H796+I796+J796","v":400000},400000,0,null,null,null,400000,""]
[null,null,null,null,null,null,"Функција 451:",{"$f":"SUBTOTAL(9,H796)","v":400000},{"$f":"SUBTOTAL(9,I796)","v":0},0,400000,400000,0,null,null,null,0,400000]
[null,null,null,null,null,null,"Пројекат 0701-92",{"$f":"SUBTOTAL(9,H796)","v":400000},{"$f":"SUBTOTAL(9,I796)","v":0},0,400000,400000,0,null,null,null,0,400000]
[null,null,null,null,null,null,null,null,null,null,null,0,0,null,null,null,0,0]
[null,null,null,451,null,null,"Друмски саобраћај",null,null,null,{"$f":"H800+I800+J800","v":0},0,0,null,null,null,0,0]
[null,null,"0701-93",null,null,null,"Асфалтирање улице у селу Турија од центра до Гњиланског пута, Л=723м",null,null,null,null,0,0,null,null,null,0,0]
[null,null,null,null,190,"511","Зграде и грађевински објекти",1200000,null,null,{"$f":"H802+I802+J802","v":1200000},1200000,0,null,null,null,1200000,""]
[null,null,null,null,null,null,"Функција 451:",{"$f":"SUBTOTAL(9,H802)","v":1200000},{"$f":"SUBTOTAL(9,I802)","v":0},0,1200000,1200000,0,null,null,null,0,1200000]
[null,null,null,null,null,null,"Пројекат 0701-93",{"$f":"SUBTOTAL(9,H802)","v":1200000},{"$f":"SUBTOTAL(9,I802)","v":0},0,1200000,1200000,0,null,null,null,0,1200000]
[null,null,null,null,null,null,null,null,null,null,null,0,0,null,null,null,0,0]
[null,null,null,451,null,null,"Друмски саобраћај",null,null,null,{"$f":"H806+I806+J806","v":0},0,0,null,null,null,0,0]
[null,null,"0701-94",null,null,null,"Асфалтирање улице у селу Осларе код Бајрама",null,null,null,null,0,0,null,null,null,0,0]
[null,null,null,null,191,"511","Зграде и грађевински објекти",400000,null,null,{"$f":"H808+I808+J808","v":400000},400000,0,null,null,null,400000,""]
[null,null,null,null,null,null,"Функција 451:",{"$f":"SUBTOTAL(9,H808)","v":400000},{"$f":"SUBTOTAL(9,I808)","v":0},0,400000,400000,0,null,null,null,0,400000]
[null,null,null,null,null,null,"Пројекат 0701-94",{"$f":"SUBTOTAL(9,H808)","v":400000},{"$f":"SUBTOTAL(9,I808)","v":0},0,400000,400000,0,{"$f":"SUBTOTAL(9,H436:H810)","v":55679000},null,null,0,400000]
[null,null,null,null,null,null,null,null,null,null,null,0,0,null,null,null,0,0]
[5,null,2002,null,null,null,"ПРОГРАМ 9: ОСНОВНО ОБРАЗОВАЊЕ",null,null,null,{"$f":"H812+I812+J812","v":0},0,0,null,null,null,0,0]
[null,null,"2002-0001",null,null,null,"Функционисање основних школа ",null,null,null,0,0,0,null,null,null,0,0]
[null,null,null,912,null,null,"Основно образовање",null,null,null,0,0,0,null,null,null,0,0]
[null,null,null,null,192,463,"Трансфер 421 Стални трошкови",{"$f":"Osn.skole!N106","v":29165700},null,null,29165700,29165700,0,null,null,null,29165700,""]
[null,null,null,null,193,463,"Трансфер 422 Трошкови путовања",{"$f":"Osn.skole!N107","v":20729500},null,null,20729500,20729500,0,null,null,null,20729500,""]
[null,null,null,null,194,463,"Трансфер 423 Услуге по уговору",{"$f":"Osn.skole!N108","v":1256000},null,null,1256000,1256000,0,null,null,null,1256000,""]
[null,null,null,null,195,463,"Трансфер 424 Специјализоване услуге",{"$f":"Osn.skole!N109","v":712000},null,null,712000,712000,0,null,null,null,712000,""]
[null,null,null,null,196,463,"Трансфер 425 Текуће поправке и одржавање",{"$f":"Osn.skole!N110","v":5681000},null,null,5681000,5681000,0,null,null,null,5681000,""]
[null,null,null,null,197,463,"Трансфер 426 Материјал",{"$f":"Osn.skole!N111","v":4287500},null,null,4287500,4287500,0,null,null,null,4287500,""]
[null,null,null,null,null,null,"Функција 912:",{"$f":"SUBTOTAL(9,H815:H820)","v":61831700},{"$f":"SUBTOTAL(9,I815:I820)","v":0},null,61831700,61831700,0,null,null,null,0,61831700]
[null,null,null,null,null,null,"Програмска активност 2002-0001:",{"$f":"SUBTOTAL(9,H815:H820)","v":61831700},{"$f":"SUBTOTAL(9,I815:I820)","v":0},null,61831700,61831700,0,null,null,null,0,61831700]
[null,null,null,null,null,null,null,null,null,null,null,0,0,null,null,null,0,0]
[null,null,"2002-0001",null,null,null,"Функционисање основних школа ",null,null,null,{"$f":"H824+I824+J824","v":0},0,0,null,null,null,0,0]
[null,null,null,"912",null,null,"Основно образовање",null,null,null,0,0,0,null,null,null,0,0]
[null,null,null,null,198,"511","Зграде и грађевински објекти - Доградња спортске сале у ОШ \"Десанка Максимовић\" у Биљачи",{"$f":"Osn.skole!N123","v":0},100000000,null,100000000,100000000,0,null,null,null,0,""]
[null,null,null,null,199,"511","Зграде и грађевински објекти - Изградња спортске сале са уређењем партера у ОШ \"Мухарем Кадриу\" Велики Трновац",null,100000000,null,100000000,100000000,0,null,null,null,0,""]
[null,null,null,null,null,null,"Функција 912:",{"$f":"SUBTOTAL(9,H826:H826)","v":0},{"$f":"SUBTOTAL(9,I826:I827)","v":200000000},null,{"$f":"SUBTOTAL(9,K826:K827)","v":200000000},200000000,0,null,null,null,0,0]
[null,null,null,null,null,null,"Програмска активност 2002-0001:",{"$f":"SUBTOTAL(9,H826:H826)","v":0},{"$f":"SUBTOTAL(9,I826:I827)","v":200000000},null,{"$f":"SUBTOTAL(9,K826:K827)","v":200000000},200000000,0,null,null,null,0,0]
[null,null,null,null,null,null,null,null,null,null,null,0,0,null,null,null,0,0]
[null,null,"2002-0001",null,null,null,"Функционисање основних школа ",null,null,null,{"$f":"H831+I831+J831","v":0},0,0,null,null,null,0,0]
[null,null,null,960,null,null,"Помоћне услуге у образовању",null,null,null,0,0,0,null,null,null,0,0]
[null,null,null,null,200,463,"Трансфер 416 - Јубиларне награде (основно образовање)",{"$f":"SUBTOTAL(9,H834:H845)","v":5470000},{"$f":"SUBTOTAL(9,I834:I845)","v":0},0,5470000,5470000,0,null,null,null,5470000,""]
[null,null,null,null,null,null,"Ова апропријација је намењена:",null,null,null,0,0,0,null,null,null,0,0]
[null,null,null,null,null,null,"ОШ ''Б. Радичевић'' Бујановац",1262000,null,null,1262000,1262000,0,null,null,null,0,1262000]
[null,null,null,null,null,null,"ОШ ''М. Кадриу'' В. Трновац",750000,null,null,750000,750000,0,null,null,null,0,750000]
[null,null,null,null,null,null,"ОШ ''Б. Станковић'' Кленике",400000,null,null,400000,400000,0,null,null,null,{"$f":"IF(E837>0,H837,0)","v":0},{"$f":"IF(E837=0,H837,\"\")","v":400000}]
[null,null,null,null,null,null,"ОШ ''В. С. Караџић'' Левосоје",{"$f":"270542-542","v":270000},null,null,270000,270000,0,null,null,null,0,270000]
[null,null,null,null,null,null,"ОШ ''Д. Максимовић'' Биљача",378000,null,null,378000,378000,0,null,null,null,0,378000]
[null,null,null,null,null,null,"ОШ ''Н. Фрашери'' Бујановац",{"$f":"528569-569","v":528000},null,null,528000,{"$f":"H840+I840+J840","v":528000},{"$f":"K840-L840","v":0},null,null,null,0,528000]
[null,null,null,null,null,null,"ОШ ''Миђени'' Муховац",470000,null,null,470000,470000,0,null,null,null,0,470000]
[null,null,null,null,null,null,"ОШ ''Д. Трајковић'' Жбевац",{"$f":"500000+35000","v":535000},null,null,535000,535000,0,null,null,null,0,535000]
[null,null,null,null,null,null,"ОШ ''С. Фрашери'' Лучане",495000,null,null,495000,495000,0,null,null,null,0,495000]
[null,null,null,null,null,null,"ОШ ''А. Бекташи'' Несалце",342000,null,null,342000,342000,0,null,null,null,0,342000]
[null,null,null,null,null,null,"Основна музичка школа Бујановац",40000,null,null,40000,40000,0,null,null,null,0,40000]
[null,null,null,null,201,463,"Текући трансфери  образовању - такмичења",500000,null,null,500000,500000,0,null,null,null,500000,""]
[null,null,null,null,202,463,"Текући трансфери  образовању - стручно усавршавање",500000,null,null,500000,500000,0,null,null,null,500000,""]
[null,null,null,null,203,"463","Трансфер 483 Новчане казне и пенали по решењу судова",100000,null,null,100000,100000,0,null,null,null,100000,""]
[null,null,null,null,204,463,"Капитални трансфери образовању (набавка машина и опреме)",2000000,null,null,2000000,2000000,0,null,null,null,2000000,""]
[null,null,null,null,205,463,"Текући трансфери образовању - помоћ у случају смрти члана или члана уже породице",240000,null,null,240000,240000,0,null,null,null,240000,""]
[null,null,null,null,206,463,"Текући трансфери образовању - помоћ у медицинском лечењу ",240000,null,null,240000,240000,0,null,null,null,240000,""]
[null,null,null,null,null,null,"Функција 960:",{"$f":"SUBTOTAL(9,H833:H851)","v":9050000},{"$f":"SUBTOTAL(9,I833:I851)","v":0},0,9050000,9050000,0,null,null,null,0,9050000]
[null,null,null,null,null,null,"Програмска активност 2002-0001:",{"$f":"SUBTOTAL(9,H833:H851)","v":9050000},{"$f":"SUBTOTAL(9,I833:I851)","v":0},0,9050000,9050000,0,null,null,null,0,9050000]
[null,null,null,null,null,null,null,null,null,null,null,0,0,null,null,null,0,0]
[null,null,2003,null,null,null,"ПРОГРАМ 10: СРЕДЊЕ ОБРАЗОВАЊЕ",null,null,null,{"$f":"H855+I855+J855","v":0},0,0,null,null,null,0,0]
[null,null,"2003-0001",null,null,null,"Функционисање средњих школа ",null,null,null,0,0,0,null,null,null,0,0]
[null,null,null,920,null,null,"Средње образовање",null,null,null,0,0,0,null,null,null,0,0]
[null,null,null,null,207,463,"Трансфер 421 Стални трошкови",{"$f":"Sred.skole!N17","v":13061200},null,null,13061200,13061200,0,null,null,null,13061200,""]
[null,null,null,null,208,463,"Трансфер 422 Трошкови путовања",{"$f":"Sred.skole!N18","v":6608000},null,null,6608000,6608000,0,null,null,null,6608000,""]
[null,null,null,null,209,463,"Трансфер 423 Услуге по уговору",{"$f":"Sred.skole!N19","v":1753000},null,null,1753000,1753000,0,null,null,null,1753000,""]
[null,null,null,null,210,463,"Трансфер 424 Специјализоване услуге",{"$f":"Sred.skole!N20","v":355500},null,null,355500,355500,0,null,null,null,355500,""]
[null,null,null,null,211,463,"Трансфер 425 Текуће поправке и одржавање",{"$f":"Sred.skole!N21","v":697000},null,null,697000,697000,0,null,null,null,697000,""]
[null,null,null,null,212,463,"Трансфер 426 Материјал",{"$f":"Sred.skole!N22","v":1219000},null,null,1219000,1219000,0,null,null,null,1219000,""]
[null,null,null,null,null,null,"Функција 920:",{"$f":"SUBTOTAL(9,H858:H863)","v":23693700},{"$f":"SUBTOTAL(9,I858:I863)","v":0},{"$f":"SUBTOTAL(9,J858:J863)","v":0},{"$f":"SUBTOTAL(9,K858:K863)","v":23693700},23693700,0,null,null,null,0,23693700]
[null,null,null,null,null,null,"Програмска активност 2003-0001:",{"$f":"SUBTOTAL(9,H858:H864)","v":23693700},{"$f":"SUBTOTAL(9,I858:I864)","v":0},{"$f":"SUBTOTAL(9,J858:J864)","v":0},{"$f":"SUBTOTAL(9,K858:K864)","v":23693700},23693700,0,null,null,null,0,23693700]
[null,null,null,null,null,null,null,null,null,null,null,0,0,null,null,null,0,0]
[null,null,"2003-0001",null,null,null,"Функционисање средњих школа ",null,null,null,{"$f":"H867+I867+J867","v":0},0,0,null,null,null,0,0]
[null,null,null,960,null,null,"Помоћне услуге у образовању",null,null,null,{"$f":"H868+I868+J868","v":0},0,0,null,null,null,0,0]
[null,null,null,null,213,463,"Трансфер 416 - Јубиларне награде (средње образовање)",{"$f":"SUBTOTAL(9,H870:H871)","v":1493000},{"$f":"SUBTOTAL(9,I870:I871)","v":0},0,1493000,1493000,0,null,null,null,1493000,""]
[null,null,null,null,null,null,"ССШ ''Свети Сава'' Бујановац",768000,null,null,{"$f":"H870+I870+J870","v":768000},768000,0,null,null,null,0,768000]
[null,null,null,null,null,null,"СШ ''Сезаи Сурои'' Бујановац",725000,null,null,{"$f":"H871+I871+J871","v":725000},725000,0,null,null,null,0,725000]
[null,null,null,null,214,"463","Трансфер 483 Новчане казне и пенали по решењу судова",{"$f":"2000000+185000-100000-85000-65000-1500000","v":435000},null,null,435000,435000,0,null,null,null,435000,""]
[null,null,null,null,215,"463","Капитални трансфери образовању (набавка машина и опреме)",550000,null,null,550000,550000,0,null,null,null,550000,""]
[null,null,null,null,216,472,"Стипендије за ученике Средњих школа из Координационог тела",null,{"$f":"124*6000*9","v":6696000},null,6696000,6696000,0,null,null,null,0,""]
[null,null,null,null,217,472,"Једнократна новчана помоћ студентима",10000000,null,null,10000000,10000000,0,null,null,null,10000000,""]
[null,null,null,null,null,null,"Функција 960:",{"$f":"SUBTOTAL(9,H869:H875)","v":12478000},{"$f":"SUBTOTAL(9,I869:I875)","v":6696000},0,19174000,19174000,0,null,null,null,0,12478000]
[null,null,null,null,null,null,"Програмска активност 2003-0001:",{"$f":"SUBTOTAL(9,H869:H875)","v":12478000},{"$f":"SUBTOTAL(9,I869:I875)","v":6696000},0,19174000,19174000,0,null,null,null,0,12478000]
[null,null,null,null,null,null,null,null,null,null,null,0,0,null,null,null,0,0]
[null,null,"0901",null,null,null,"ПРОГРАМ 11: СОЦИЈАЛНА И ДЕЧЈА ЗАШТИТА",null,null,null,{"$f":"H879+I879+J879","v":0},0,0,null,null,null,0,0]
[null,null,"0901-0001",null,null,null,"Социјалне помоћи",null,null,null,{"$f":"H880+I880+J880","v":0},0,0,null,null,null,0,0]
[null,null,null,"070",null,null,"Социјална помоћ некласификована на другом месту",null,null,null,{"$f":"H881+I881+J881","v":0},0,0,null,null,null,0,0]
[null,null,null,null,218,"463","Текући трансфер- Центар за социјални рад",2500000,null,null,{"$f":"H882+I882+J882","v":2500000},2500000,0,null,null,null,2500000,""]
[null,null,null,null,219,"472","Накнаде за социјалну заштиту из буџета - Центар за социјални рад",3500000,null,null,{"$f":"H883+I883+J883","v":3500000},3500000,0,null,null,null,3500000,""]
[null,null,null,null,null,null,"Функција 070:",{"$f":"SUBTOTAL(9,H882:H883)","v":6000000},{"$f":"SUBTOTAL(9,I882:I883)","v":0},0,6000000,6000000,0,null,null,null,0,6000000]
[null,null,null,null,null,null,"Програмска активност 0901-0001:",{"$f":"SUBTOTAL(9,H882:H883)","v":6000000},{"$f":"SUBTOTAL(9,I882:I883)","v":0},0,6000000,6000000,0,null,null,null,0,6000000]
[null,null,null,null,null,null,null,null,null,null,null,0,0,null,null,null,0,0]
[null,null,"0901-0002",null,null,null,"Прихватилишта, прихватне станице и друге врсте смештаја",null,null,null,{"$f":"H887+I887+J887","v":0},0,0,null,null,null,0,0]
[null,null,null,"090",null,null,"Социјална заштита некласификована на другом месту",null,null,null,{"$f":"H888+I888+J888","v":0},0,0,null,null,null,0,0]
[null,null,null,null,220,472,"Накнаде за социјалну заштиту из буџета - Смештај хендикепиране деце",1200000,null,null,{"$f":"H889+I889+J889","v":1200000},1200000,0,null,null,null,1200000,""]
[null,null,null,null,221,472,"Накнаде за социјалну заштиту из буџета - Превоз хендикепиране деце",{"$f":"2100000-100000","v":2000000},null,null,{"$f":"H890+I890+J890","v":2000000},2000000,0,null,null,null,2000000,""]
[null,null,null,null,null,null,"Функција 090:",{"$f":"SUBTOTAL(9,H889:H890)","v":3200000},{"$f":"SUBTOTAL(9,I889:I890)","v":0},{"$f":"SUBTOTAL(9,J889:J890)","v":0},{"$f":"SUBTOTAL(9,K889:K890)","v":3200000},3200000,0,null,null,null,0,3200000]
[null,null,null,null,null,null,"Програмска активност 0901-0002:",{"$f":"SUBTOTAL(9,H889:H890)","v":3200000},{"$f":"SUBTOTAL(9,I889:I890)","v":0},{"$f":"SUBTOTAL(9,J889:J890)","v":0},{"$f":"SUBTOTAL(9,K889:K890)","v":3200000},3200000,0,null,null,null,0,3200000]
[null,null,null,null,null,null,null,null,null,null,null,0,0,null,null,null,0,0]
[null,null,"0901-0005",null,null,null,"Активности ОО Црвеног крста Бујановац ",null,null,null,{"$f":"H894+I894+J894","v":0},0,0,null,null,null,0,0]
[null,null,null,"070",null,null,"Социјална помоћ некласификована на другом месту",null,null,null,{"$f":"H895+I895+J895","v":0},0,0,null,null,null,0,0]
[null,null,null,null,222,481,"Активности ОО Црвеног крста Бујановац ",500000,null,null,{"$f":"H896+I896+J896","v":500000},500000,0,null,null,null,500000,""]
[null,null,null,null,null,null,"Функција 070:",{"$f":"SUBTOTAL(9,H896)","v":500000},{"$f":"SUBTOTAL(9,I896)","v":0},0,500000,500000,0,null,null,null,0,500000]
[null,null,null,null,null,null,"Програмска активност 0901-0005:",{"$f":"SUBTOTAL(9,H896)","v":500000},{"$f":"SUBTOTAL(9,I896)","v":0},0,500000,500000,0,null,null,null,0,500000]
[null,null,null,null,null,null,null,null,null,null,null,0,0,null,null,null,0,0]
[null,null,"0901-0006",null,null,null,"Подршка деци и породицама са децом",null,null,null,{"$f":"H900+I900+J900","v":0},0,0,null,null,null,0,0]
[null,null,null,"090",null,null,"Социјална заштита некласификована на другом месту",null,null,null,{"$f":"H901+I901+J901","v":0},0,0,null,null,null,{"$f":"IF(E901>0,H901,0)","v":0},{"$f":"IF(E901=0,H901,\"\")","v":0}]
[null,null,null,null,223,"423","Услуге по уговору - Услуге личног пратиоца ученика у специјалним школама",100000,1000000,null,{"$f":"H902+I902+J902","v":1100000},1100000,0,null,null,null,100000,""]
[null,null,null,null,224,"423","Услуге по уговору - Рад Интерресорне комисије",200000,null,null,{"$f":"H903+I903+J903","v":200000},200000,0,null,null,null,200000,""]
[null,null,null,null,225,423,"Услуге по уговору - Персонални асистенти у редовним основним школама и предшколској установи",300000,3000000,null,{"$f":"H904+I904+J904","v":3300000},{"$f":"H904+I904+J904","v":3300000},{"$f":"K904-L904","v":0},null,null,null,300000,""]
[null,null,null,null,null,null,"Функција 090:",{"$f":"SUBTOTAL(9,H902:H904)","v":600000},{"$f":"SUBTOTAL(9,I902:I904)","v":4000000},0,4600000,4600000,0,null,null,null,0,600000]
[null,null,null,null,null,null,"Програмска активност 0901-0006:",{"$f":"SUBTOTAL(9,H902:H904)","v":600000},{"$f":"SUBTOTAL(9,I902:I904)","v":4000000},0,4600000,4600000,0,null,null,null,0,600000]
[null,null,null,null,null,null,null,null,null,null,null,0,0,null,null,null,0,0]
[null,null,"0901-0007",null,null,null,"Подршка старијим лицима и/или особама са инвалидитетом",null,null,null,{"$f":"H908+I908+J908","v":0},0,0,null,null,null,0,0]
[null,null,null,"070",null,null,"Социјална помоћ некласификована на другом месту",null,null,null,{"$f":"H909+I909+J909","v":0},0,0,null,null,null,0,0]
[null,null,null,null,226,"423","Саветодавне терапијске и социоедукативне услуге",100000,1000000,null,{"$f":"H910+I910+J910","v":1100000},1100000,0,null,null,null,100000,""]
[null,null,null,null,227,"423","Помоћ у кући",452000,4520000,null,{"$f":"H911+I911+J911","v":4972000},4972000,0,null,null,null,452000,""]
[null,null,null,null,228,"472","Превоз лица ометених у развоју",48000,480000,null,{"$f":"H912+I912+J912","v":528000},528000,0,null,null,null,48000,""]
[null,null,null,null,null,null,"Функција 070:",{"$f":"SUBTOTAL(9,H910:H912)","v":600000},{"$f":"SUBTOTAL(9,I910:I912)","v":6000000},{"$f":"SUBTOTAL(9,J910:J912)","v":0},6600000,6600000,0,null,null,null,0,600000]
[null,null,null,null,null,null,"Програмска активност 0901-0007:",{"$f":"SUBTOTAL(9,H910:H912)","v":600000},{"$f":"SUBTOTAL(9,I910:I912)","v":6000000},{"$f":"SUBTOTAL(9,J910:J912)","v":0},6600000,6600000,0,null,null,null,0,600000]
[null,null,null,null,null,null,null,null,null,null,null,0,0,null,null,null,0,0]
[null,null,1801,null,null,null,"ПРОГРАМ 12: ЗДРАВСТВЕНА ЗАШТИТА",null,null,null,{"$f":"H916+I916+J916","v":0},0,0,null,null,null,0,0]
[null,null,"1801-0001",null,null,null,"Функционисање установа примарне здравствене заштите",null,null,null,0,0,0,null,null,null,0,0]
[null,null,null,"740",null,null,"Услуге јавног здравства",null,null,null,0,0,0,null,null,null,0,0]
[null,null,null,null,229,464,"Трансфер - Дом здравља Бујановац",18000000,null,null,18000000,18000000,0,null,null,null,18000000,""]
[null,null,null,null,230,423,"Услуге по уговору - Комисије за рад у здравству",150000,null,null,150000,150000,0,null,null,null,150000,""]
[null,null,null,null,231,464,"Трансфер - Апотека Бујановац",700000,null,null,700000,700000,0,null,null,null,700000,""]
[null,null,null,null,null,null,"Функција 740:",{"$f":"SUBTOTAL(9,H919:H921)","v":18850000},{"$f":"SUBTOTAL(9,I919:I921)","v":0},{"$f":"SUBTOTAL(9,J919:J921)","v":0},{"$f":"SUBTOTAL(9,K919:K921)","v":18850000},18850000,0,null,null,null,0,18850000]
[null,null,null,null,null,null,"Програмска активност 1801-0001:",{"$f":"SUBTOTAL(9,H919:H921)","v":18850000},{"$f":"SUBTOTAL(9,I919:I921)","v":0},{"$f":"SUBTOTAL(9,J919:J921)","v":0},{"$f":"SUBTOTAL(9,K919:K921)","v":18850000},18850000,0,null,null,null,0,18850000]
[null,null,null,null,null,null,null,null,null,null,null,0,0,null,null,null,0,0]
[null,null,"1801-0002",null,null,null,"Мртвозорство",null,null,null,{"$f":"H925+I925+J925","v":0},0,0,null,null,null,0,0]
[null,null,null,"721",null,null,"Услуге јавног здравства",null,null,null,{"$f":"H926+I926+J926","v":0},0,0,null,null,null,0,0]
[null,null,null,null,232,423,"Услуге по уговору - Комисије за рад у здравству",400000,null,null,{"$f":"H927+I927+J927","v":400000},400000,0,null,null,null,400000,""]
[null,null,null,null,null,null,"Функција 721:",{"$f":"SUBTOTAL(9,H927)","v":400000},{"$f":"SUBTOTAL(9,I927)","v":0},0,400000,400000,0,null,null,null,0,400000]
[null,null,null,null,null,null,"Програмска активност 1801-0002:",{"$f":"SUBTOTAL(9,H927)","v":400000},{"$f":"SUBTOTAL(9,I927)","v":0},0,400000,400000,0,null,null,null,0,400000]
[null,null,null,null,null,null,null,null,null,null,null,0,0,null,null,null,0,0]
[null,null,null,null,null,null,"ПРОГРАМ 13: РАЗВОЈ КУЛТУРЕ",null,null,null,null,0,0,null,null,null,0,0]
[null,null,"1201-0002",null,null,null,"Јачање културне продукције и уметничког стваралаштва ",null,null,null,{"$f":"H932+I932+J932","v":0},0,0,null,null,null,0,0]
[null,null,null,"860",null,null,"Рекреација, спорт, култура и вере, некласифик. на другом месту",null,null,null,{"$f":"H933+I933+J933","v":0},0,0,null,null,null,0,0]
[null,null,null,null,233,481,"Дотације невладиним организацијама - КУД, аматерска позоришта",1800000,null,null,{"$f":"H934+I934+J934","v":1800000},1800000,0,null,null,null,1800000,""]
[null,null,null,null,234,"481","Дотације невладиним организацијама",3000000,null,null,{"$f":"H935+I935+J935","v":3000000},3000000,0,null,null,null,3000000,""]
[null,null,null,null,235,"481","Дотације невладиним организацијама - манифестација Шкембијада",{"$f":"150000-20000","v":130000},null,null,{"$f":"H936+I936+J936","v":130000},130000,0,null,null,null,130000,""]
[null,null,null,null,null,null,"Функција 860:",{"$f":"SUBTOTAL(9,H934:H936)","v":4930000},{"$f":"SUBTOTAL(9,I934:I936)","v":0},0,4930000,4930000,0,null,null,null,0,4930000]
[null,null,null,null,null,null,"Програмска активност 1201-0002:",{"$f":"SUBTOTAL(9,H934:H936)","v":4930000},{"$f":"SUBTOTAL(9,I934:I936)","v":0},0,4930000,4930000,0,null,null,null,0,4930000]
[null,null,null,null,null,null,null,null,null,null,{"$f":"H939+I939+J939","v":0},0,0,null,null,null,0,0]
[null,null,"1201-0003",null,null,null,"Унапређење система очувања и представљања културно-историјског наслеђа",null,null,null,{"$f":"H940+I940+J940","v":0},0,0,null,null,null,0,0]
[null,null,null,"840",null,null,"Верске и остале услуге заједнице",null,null,null,{"$f":"H941+I941+J941","v":0},0,0,null,null,null,0,0]
[null,null,null,null,236,481,"Дотације невладиним организацијама - Православна верска заједница",1400000,null,null,{"$f":"H942+I942+J942","v":1400000},1400000,0,null,null,null,1400000,""]
[null,null,null,null,237,481,"Дотације невладиним организацијама - Исламска верска заједница",1500000,null,null,{"$f":"H943+I943+J943","v":1500000},1500000,0,null,null,null,1500000,""]
[null,null,null,null,null,null,"Функција 840:",{"$f":"SUBTOTAL(9,H942:H943)","v":2900000},{"$f":"SUBTOTAL(9,I942:I943)","v":0},0,2900000,2900000,0,null,null,null,0,2900000]
[null,null,null,null,null,null,"Програмска активност 1201-0003:",{"$f":"SUBTOTAL(9,H942:H943)","v":2900000},{"$f":"SUBTOTAL(9,I942:I943)","v":0},0,2900000,2900000,0,null,null,null,0,2900000]
[null,null,null,null,null,null,null,null,null,null,null,0,0,null,null,null,0,0]
[null,null,"1201-0004",null,null,null,"Остваривање и унапређивање јавног интереса у области јавног информисања",null,null,null,{"$f":"H947+I947+J947","v":0},0,0,null,null,null,0,0]
[null,null,null,"830",null,null,"Услуге емитовања и штампања",null,null,null,{"$f":"H948+I948+J948","v":0},0,0,null,null,null,0,0]
[null,null,null,null,238,"451","Текуће субвенције медијима",5000000,null,null,{"$f":"H949+I949+J949","v":5000000},5000000,0,null,null,null,5000000,""]
[null,null,null,null,null,null,"Функција 830:",{"$f":"SUBTOTAL(9,H949)","v":5000000},{"$f":"SUBTOTAL(9,I949)","v":0},0,5000000,5000000,0,null,null,null,0,5000000]
[null,null,null,null,null,null,"Програмска активност 1201-0004:",{"$f":"SUBTOTAL(9,H949)","v":5000000},{"$f":"SUBTOTAL(9,I949)","v":0},0,5000000,5000000,0,null,null,null,0,5000000]
[null,null,null,null,null,null,null,null,null,null,null,0,0,null,null,null,0,0]
[null,null,null,null,null,null,"ПРОГРАМ 14: РАЗВОЈ СПОРТА И ОМЛАДИНЕ",null,null,null,null,0,0,null,null,null,0,0]
[null,null,"1301-0001",null,null,null,"Подршка локалним спорским организацијама, удружењима и савезима",null,null,null,{"$f":"H954+I954+J954","v":0},0,0,null,null,null,0,0]
[null,null,null,810,null,null,"Услуге рекреације и спорта",null,null,null,{"$f":"H955+I955+J955","v":0},0,0,null,null,null,0,0]
[null,null,null,null,null,null,"Дотације невладиним организацијама - спорским клубовима",null,null,null,{"$f":"H956+I956+J956","v":0},0,0,null,null,null,0,0]
[null,null,null,null,239,481,"Дотације невладиним организацијама - спорским клубовима",9000000,null,null,{"$f":"H957+I957+J957","v":9000000},9000000,0,null,null,null,9000000,""]
[null,null,null,null,null,null,"Функција 810:",{"$f":"SUBTOTAL(9,H957)","v":9000000},{"$f":"SUBTOTAL(9,I957)","v":0},0,9000000,9000000,0,null,null,null,0,9000000]
[null,null,null,null,null,null,"Програмска активност 1301-0001:",{"$f":"SUBTOTAL(9,H957)","v":9000000},{"$f":"SUBTOTAL(9,I957)","v":0},0,9000000,9000000,0,null,null,null,0,9000000]
[null,null,null,null,null,null,null,null,null,null,null,0,0,null,null,null,0,0]
[null,null,"1301-0005",null,null,null,"Спровођење омладинске политике",null,null,null,{"$f":"H961+I961+J961","v":0},0,0,null,null,null,0,0]
[null,null,null,810,null,null,"Услуге рекреације и спорта",null,null,null,{"$f":"H962+I962+J962","v":0},0,0,null,null,null,0,0]
[null,null,null,null,240,481,"Дотације невладиним организацијама - Канцеларија за младе",800000,null,null,{"$f":"H963+I963+J963","v":800000},800000,0,null,null,null,800000,""]
[null,null,null,null,null,null,"Функција 810:",{"$f":"SUBTOTAL(9,H963)","v":800000},{"$f":"SUBTOTAL(9,I963)","v":0},0,800000,800000,0,null,null,null,0,800000]
[null,null,null,null,null,null,"Програмска активност 1301-0005:",{"$f":"SUBTOTAL(9,H963)","v":800000},{"$f":"SUBTOTAL(9,I963)","v":0},0,800000,800000,0,null,null,null,{"$f":"IF(E965>0,H965,0)","v":0},{"$f":"IF(E965=0,H965,\"\")","v":800000}]
[null,null,null,null,null,null,null,null,null,null,null,0,0,null,null,null,0,0]
[null,null,null,"810",null,null,"Услуге рекреације и спорта",null,null,null,{"$f":"H967+I967+J967","v":0},0,0,null,null,null,0,0]
[null,null,"1301-01",null,null,null,"Асфалтирање спортског терена у селу Бараљевац, дужина 25 x 15м",null,null,null,null,{"$f":"H968+I968+J968","v":0},{"$f":"K968-L968","v":0},null,null,null,0,0]
[null,null,null,null,241,"511","Зграде и грађевински објекти",710000,null,null,{"$f":"H969+I969+J969","v":710000},710000,0,null,null,null,710000,""]
[null,null,null,null,null,null,"Функција 810:",{"$f":"SUBTOTAL(9,H969)","v":710000},{"$f":"SUBTOTAL(9,I969)","v":0},0,710000,710000,0,null,null,null,0,710000]
[null,null,null,null,null,null,"Пројекат 1301-01:",{"$f":"SUBTOTAL(9,H969)","v":710000},{"$f":"SUBTOTAL(9,I969)","v":0},0,710000,710000,0,null,null,null,0,710000]
[null,null,null,null,null,null,"УКУПНО ЗА ГЛАВУ 5.01:",{"$f":"SUBTOTAL(9,H90:H971)","v":604920400},{"$f":"SUBTOTAL(9,I90:I971)","v":334696000},{"$f":"SUBTOTAL(9,J90:J971)","v":0},{"$f":"SUBTOTAL(9,K90:K971)","v":939616400},939616400,0,null,null,null,0,604920400]
[null,null,null,null,null,null,null,null,null,null,null,0,0,null,null,null,0,0]
[5,"5.02",null,null,null,null,"МЕСНЕ ЗАЈЕДНИЦЕ",null,null,null,{"$f":"H974+I974+J974","v":0},0,0,null,null,null,0,0]
[null,null,"0602",null,null,null,"ПРОГРАМ 15: ЛОКАЛНА САМОУПРАВА",null,null,null,0,0,0,null,null,null,0,0]
[null,null,"0602-0002",null,null,null,"Функционисање месних заједница",null,null,null,0,0,0,null,null,null,0,0]
[null,null,null,160,null,null,"Опште јавне услуге које нису класификоване на другом месту",null,null,null,0,0,0,null,null,null,0,0]
[null,null,null,null,242,421,"Стални трошкови",120000,null,null,120000,120000,0,null,null,null,120000,""]
[null,null,null,null,243,422,"Трошкови путовања",{"$f":"400000-200000-100000","v":100000},null,null,100000,100000,0,null,null,null,100000,""]
[null,null,null,null,244,423,"Услуге по уговору",700000,null,null,700000,700000,0,null,null,null,700000,""]
[null,null,null,null,245,424,"Специјализоване услуге",80000,null,null,80000,80000,0,null,null,null,80000,""]
[null,null,null,null,246,425,"Текуће поправке и  одржавање",1450000,null,null,1450000,1450000,0,null,null,null,1450000,""]
[null,null,null,null,247,426,"Материјал",1100000,null,null,1100000,1100000,0,null,null,null,1100000,""]
[null,null,null,null,248,482,"Порези , обавезне таксе и казне",50000,null,null,50000,50000,0,null,null,null,50000,""]
[null,null,null,null,249,483,"Новчане казне и пенали по решењу судова",{"$f":"50000+200000","v":250000},null,null,250000,250000,0,null,null,null,250000,""]
[null,null,null,null,250,512,"Машине и опрема",50000,null,null,50000,50000,0,null,null,null,50000,""]
[null,null,null,null,null,null,"Функција 160:",{"$f":"SUBTOTAL(9,H977:H986)","v":3900000},{"$f":"SUBTOTAL(9,I977:I986)","v":0},0,3900000,3900000,0,null,null,null,0,3900000]
[null,null,null,null,null,null,"Програмска активност 0602-0002:",{"$f":"SUBTOTAL(9,H977:H986)","v":3900000},{"$f":"SUBTOTAL(9,I977:I986)","v":0},0,3900000,3900000,0,null,null,null,0,3900000]
[null,null,null,null,null,null,"УКУПНО ЗА ГЛАВУ 5.02:",{"$f":"SUBTOTAL(9,H977:H988)","v":3900000},{"$f":"SUBTOTAL(9,I977:I988)","v":0},0,3900000,3900000,0,null,null,null,0,3900000]
[null,null,null,null,null,null,null,null,null,null,{"$f":"H990+I990+J990","v":0},0,0,null,null,null,0,0]
[5,"5.03",null,null,null,null,"ТУРИСТИЧКА ОРГАНИЗАЦИЈА БУЈАНОВАЦ",null,null,null,0,0,0,null,null,null,0,0]
[null,null,1502,null,null,null,"ПРОГРАМ 4: РАЗВОЈ ТУРИЗМА",null,null,null,0,0,0,null,null,null,0,0]
[null,null,"1502-0001",null,null,null,"Управљањем развојем туризма",null,null,null,0,0,0,null,null,null,0,0]
[null,null,null,473,null,null,"Туризам",null,{"$f":"I993*5%","v":0},null,0,0,0,null,null,null,0,0]
[null,null,null,null,251,411,"Плате, додаци и накнаде запосленима",4240000,{"$f":"I993+I994","v":0},null,4240000,4240000,0,null,null,null,4240000,""]
[null,null,null,null,252,412,"Социјални доприноси на терет послодавца",759000,{"$f":"I995*17.9%","v":0},null,759000,759000,0,null,null,null,759000,""]
[null,null,null,null,253,414,"Социјална давања запосленима",500000,null,null,500000,500000,0,null,null,null,500000,""]
[null,null,null,null,254,415,"Накнаде трошкова за запослене",200000,null,null,200000,200000,0,null,null,null,200000,""]
[null,null,null,null,255,421,"Стални трошкови",400000,null,null,400000,400000,0,null,null,null,400000,""]
[null,null,null,null,256,423,"Услуге по уговору",{"$f":"1057000-57000","v":1000000},null,null,1000000,1000000,0,null,null,null,1000000,""]
[null,null,null,null,257,425,"Текуће поправке и  одржавање",15000,null,null,15000,15000,0,null,null,null,15000,""]
[null,null,null,null,258,426,"Материјал",98000,null,null,98000,98000,0,null,null,null,98000,""]
[null,null,null,null,259,465,"Остале текуће донације по закону",448000,null,null,448000,448000,0,null,null,null,448000,""]
[null,null,null,null,260,482,"Порези , обавезне таксе и казне",10000,null,null,10000,10000,0,null,null,null,10000,""]
[null,null,null,null,261,483,"Новчане казне и пенали по решењу судова",{"$f":"600000-580000","v":20000},null,null,20000,20000,0,null,null,null,20000,""]
[null,null,null,null,262,512,"Машине и опрема",{"$f":"130000-60000","v":70000},null,null,70000,70000,0,null,null,null,70000,""]
[null,null,null,null,null,null,"Функција 473:",{"$f":"SUBTOTAL(9,H995:H1006)","v":7760000},{"$f":"SUBTOTAL(9,I995:I1006)","v":0},0,7760000,7760000,0,null,null,null,0,7760000]
[null,null,null,null,null,null,"Програмска активност 1502-0001:",{"$f":"SUBTOTAL(9,H995:H1006)","v":7760000},{"$f":"SUBTOTAL(9,I995:I1006)","v":0},0,7760000,7760000,0,null,null,null,0,7760000]
[null,null,null,null,null,null,null,null,null,null,null,0,0,null,null,null,0,0]
[null,null,"1502-0002",null,null,null,"Промоција туристичке понуде",null,null,null,{"$f":"H1010+I1010+J1010","v":0},0,0,null,null,null,0,0]
[null,null,null,473,null,null,"Туризам",null,null,null,{"$f":"H1011+I1011+J1011","v":0},0,0,null,null,null,0,0]
[null,null,null,null,263,422,"Трошкови путовања",{"$f":"100000-50000","v":50000},null,null,{"$f":"H1012+I1012+J1012","v":50000},50000,0,null,null,null,50000,""]
[null,null,null,null,264,423,"Услуге по уговору",{"$f":"200000-100000","v":100000},null,null,{"$f":"H1013+I1013+J1013","v":100000},100000,0,null,null,null,100000,""]
[null,null,null,null,265,424,"Специјализоване услуге",{"$f":"100000-10000","v":90000},null,null,{"$f":"H1014+I1014+J1014","v":90000},90000,0,null,null,null,90000,""]
[null,null,null,null,null,null,"Функција 473:",{"$f":"SUBTOTAL(9,H1012:H1014)","v":240000},{"$f":"SUBTOTAL(9,I1012:I1014)","v":0},0,240000,240000,0,null,null,null,0,240000]
[null,null,null,null,null,null,"Програмска активност 1502-0002:",{"$f":"SUBTOTAL(9,H1012:H1014)","v":240000},{"$f":"SUBTOTAL(9,I1012:I1014)","v":0},0,240000,240000,0,null,null,null,0,240000]
[null,null,null,null,null,null,"УКУПНО ЗА ГЛАВУ 5.03:",{"$f":"SUBTOTAL(9,H995:H1016)","v":8000000},{"$f":"SUBTOTAL(9,I995:I1016)","v":0},0,8000000,8000000,0,null,null,null,0,8000000]
[null,null,null,null,null,null,null,null,null,null,{"$f":"H1018+I1018+J1018","v":0},0,0,null,null,null,0,0]
[5,"5.04",null,null,null,null,"ПРЕДШКОЛСКО ВАСПИТАЊЕ",null,null,null,0,0,0,null,null,null,0,0]
[null,null,2001,null,null,null,"ПРОГРАМ 8: ПРЕДШКОЛСКО ВАСПИТАЊЕ",null,null,null,0,0,0,null,null,null,0,0]
[null,null,"2001-0001",null,null,null,"Функционисање предшколских установа",null,null,null,0,0,0,null,null,null,0,0]
[null,null,null,911,null,null,"Предшколско образовање",null,null,null,0,0,0,null,null,null,0,0]
[null,null,null,null,266,411,"Плате, додаци и накнаде запосленима",64640000,null,null,64640000,64640000,0,null,null,null,64640000,""]
[null,null,null,null,267,412,"Социјални доприноси на терет послодавца",11571000,null,null,11571000,11571000,0,null,null,null,11571000,""]
[null,null,null,null,268,414,"Социјална давања запосленима",{"$f":"3033000-33000","v":3000000},null,null,3000000,3000000,0,null,null,null,3000000,""]
[null,null,null,null,269,415,"Накнаде трошкова за запослене",2000000,null,null,2000000,2000000,0,null,null,null,2000000,""]
[null,null,null,null,270,416,"Награде, бонуси и остали пословни расхода",400000,null,null,400000,400000,0,null,null,null,400000,""]
[null,null,null,null,271,421,"Стални трошкови",{"$f":"7005000-5000","v":7000000},null,null,7000000,7000000,0,null,null,null,7000000,""]
[null,null,null,null,272,422,"Трошкови путовања",{"$f":"337000-137000","v":200000},null,null,200000,200000,0,null,null,null,{"$f":"IF(E1029>0,H1029,0)","v":200000},{"$f":"IF(E1029=0,H1029,\"\")","v":""}]
[null,null,null,null,273,423,"Услуге по уговору",{"$f":"2240000-1000000-40000","v":1200000},null,null,1200000,1200000,0,null,null,null,1200000,""]
[null,null,null,null,274,424,"Специјализоване услуге",610000,null,null,610000,610000,0,null,null,null,610000,""]
[null,null,null,null,275,425,"Текуће поправке и  одржавање",850000,null,null,850000,{"$f":"H1032+I1032+J1032","v":850000},{"$f":"K1032-L1032","v":0},null,null,null,850000,""]
[null,null,null,null,276,426,"Материјал",8000000,null,null,8000000,8000000,0,null,null,null,8000000,""]
[null,null,null,null,277,465,"Остале текуће донације по закону",8000000,null,null,8000000,8000000,0,null,null,null,8000000,""]
[null,null,null,null,278,482,"Порези , обавезне таксе и казне",75000,null,null,75000,75000,0,null,null,null,75000,""]
[null,null,null,null,279,512,"Машине и опрема",{"$f":"1000000-300000","v":700000},null,null,700000,700000,0,null,null,null,700000,""]
[null,null,null,null,null,null,"Функција 911:",{"$f":"SUBTOTAL(9,H1023:H1036)","v":108246000},{"$f":"SUBTOTAL(9,I1023:I1036)","v":0},{"$f":"SUBTOTAL(9,J1023:J1036)","v":0},{"$f":"SUBTOTAL(9,K1023:K1036)","v":108246000},108246000,0,null,null,null,0,108246000]
[null,null,null,null,null,null,"Програмска активност 2001-0001:",{"$f":"SUBTOTAL(9,H1023:H1036)","v":108246000},{"$f":"SUBTOTAL(9,I1023:I1036)","v":0},{"$f":"SUBTOTAL(9,J1023:J1036)","v":0},{"$f":"SUBTOTAL(9,K1023:K1036)","v":108246000},108246000,0,null,null,null,0,108246000]
[null,null,null,null,null,null,"УКУПНО ЗА ГЛАВУ 5.04:",{"$f":"SUBTOTAL(9,H1023:H1038)","v":108246000},{"$f":"SUBTOTAL(9,I1023:I1038)","v":0},0,108246000,108246000,0,null,null,null,0,108246000]
[null,null,null,null,null,null,null,null,null,null,{"$f":"H1040+I1040+J1040","v":0},0,0,null,null,null,0,0]
[5,"5.05",null,null,null,null,"ДОМ КУЛТУРЕ ''ВУК КАРАЏИЋ'' БУЈАНОВАЦ",null,null,null,{"$f":"H1041+I1041+J1041","v":0},0,0,null,null,null,0,0]
[null,null,1201,null,null,null,"ПРОГРАМ 13: Развој културе",null,null,null,0,0,0,null,null,null,0,0]
[null,null,"1201-0001",null,null,null,"Функционисање локалних  установа културе",null,null,null,0,0,0,null,null,null,0,0]
[null,null,null,820,null,null,"Установе културе",null,null,null,0,0,0,null,null,null,0,0]
[null,null,null,null,280,411,"Плате, додаци и накнаде запосленима",9475000,null,null,9475000,9475000,0,null,null,null,9475000,""]
[null,null,null,null,281,412,"Социјални доприноси на терет послодавца",1696000,null,null,1696000,1696000,0,null,null,null,1696000,""]
[null,null,null,null,282,414,"Социјална давања запосленима",465000,null,null,465000,465000,0,null,null,null,465000,""]
[null,null,null,null,283,415,"Накнаде трошкова за запослене",300000,null,null,300000,300000,0,null,null,null,300000,""]
[null,null,null,null,284,416,"Награде, бонуси и остали пословни расхода",78000,null,null,78000,78000,0,null,null,null,78000,""]
[null,null,null,null,285,421,"Стални трошкови",7300000,null,null,7300000,7300000,0,null,null,null,7300000,""]
[null,null,null,null,286,422,"Трошкови путовања",80000,null,null,80000,80000,0,null,null,null,80000,""]
[null,null,null,null,287,423,"Услуге по уговору",{"$f":"2520000-120000","v":2400000},null,null,2400000,2400000,0,null,null,null,2400000,""]
[null,null,null,null,288,424,"Специјализоване услуге",30000,null,null,30000,30000,0,null,null,null,30000,""]
[null,null,null,null,289,425,"Текуће поправке и  одржавање",145000,null,null,145000,145000,0,null,null,null,145000,""]
[null,null,null,null,290,426,"Материјал",205000,null,null,205000,205000,0,null,null,null,205000,""]
[null,null,null,null,291,465,"Остале текуће донације по закону",880000,null,null,880000,880000,0,null,null,null,880000,""]
[null,null,null,null,292,482,"Порези , обавезне таксе и казне",15000,null,null,15000,15000,0,null,null,null,15000,""]
[null,null,null,null,293,512,"Машине и опрема",70000,null,null,70000,70000,0,null,null,null,70000,""]
[null,null,null,null,null,null,"Функција 820:",{"$f":"SUBTOTAL(9,H1045:H1058)","v":23139000},{"$f":"SUBTOTAL(9,I1045:I1058)","v":0},{"$f":"SUBTOTAL(9,J1045:J1058)","v":0},{"$f":"SUBTOTAL(9,K1045:K1058)","v":23139000},23139000,0,null,null,null,0,23139000]
[null,null,null,null,null,null,"Програмска активност 1201-0001",{"$f":"SUBTOTAL(9,H1045:H1058)","v":23139000},{"$f":"SUBTOTAL(9,I1045:I1058)","v":0},{"$f":"SUBTOTAL(9,J1045:J1058)","v":0},{"$f":"SUBTOTAL(9,K1045:K1058)","v":23139000},23139000,0,null,null,null,0,23139000]
[null,null,null,null,null,null,null,null,null,null,null,0,0,null,null,null,0,0]
[null,null,null,820,null,null,"Установе културе",null,null,null,0,0,0,null,null,null,0,0]
[null,null,"1201-01",null,null,null,"Манифестација вредне руке",null,null,null,0,0,0,null,null,null,0,0]
[null,null,null,null,294,423,"Услуге по уговору",100000,null,null,100000,100000,0,null,null,null,100000,""]
[null,null,null,null,295,426,"Материјал",50000,null,null,50000,50000,0,null,null,null,50000,""]
[null,null,null,null,null,null,"Функција 820:",{"$f":"SUBTOTAL(9,H1064:H1065)","v":150000},{"$f":"SUBTOTAL(9,I1064:I1065)","v":0},0,150000,150000,0,null,null,null,0,150000]
[null,null,null,null,null,null,"Пројекат 1201-01",{"$f":"SUBTOTAL(9,H1064:H1065)","v":150000},{"$f":"SUBTOTAL(9,I1064:I1065)","v":0},0,150000,150000,0,null,null,null,0,150000]
[null,null,null,null,null,null,null,null,null,null,null,0,0,null,null,null,0,0]
[null,null,null,820,null,null,"Установе културе",null,null,null,0,0,0,null,null,null,0,0]
[null,null,"1201-02",null,null,null,"Манифестација најлепше ускршње јаје",null,null,null,0,0,0,null,null,null,0,0]
[null,null,null,null,296,423,"Услуге по уговору",100000,null,null,100000,100000,0,null,null,null,100000,""]
[null,null,null,null,297,426,"Материјал",50000,null,null,50000,50000,0,null,null,null,50000,""]
[null,null,null,null,null,null,"Функција 820:",{"$f":"SUBTOTAL(9,H1071:H1072)","v":150000},{"$f":"SUBTOTAL(9,I1071:I1072)","v":0},0,150000,150000,0,null,null,null,0,150000]
[null,null,null,null,null,null,"Пројекат 1201-02",{"$f":"SUBTOTAL(9,H1071:H1072)","v":150000},{"$f":"SUBTOTAL(9,I1071:I1072)","v":0},0,150000,150000,0,null,null,null,0,150000]
[null,null,null,null,null,null,null,null,null,null,null,0,0,null,null,null,0,0]
[null,null,null,820,null,null,"Установе културе",null,null,null,{"$f":"H1076+I1076+J1076","v":0},0,0,null,null,null,0,0]
[null,null,"1201-03",null,null,null,"Манифестација културно лето",null,null,null,0,0,0,null,null,null,0,0]
[null,null,null,null,298,423,"Услуге по уговору",300000,null,null,300000,300000,0,null,null,null,300000,""]
[null,null,null,null,299,426,"Материјал",100000,null,null,100000,100000,0,null,null,null,100000,""]
[null,null,null,null,null,null,"Функција 820:",{"$f":"SUBTOTAL(9,H1078:H1079)","v":400000},null,null,{"$f":"SUBTOTAL(9,K1078:K1079)","v":400000},400000,0,null,null,null,0,400000]
[null,null,null,null,null,null,"Пројекат 1201-03",{"$f":"SUBTOTAL(9,H1078:H1079)","v":400000},{"$f":"SUBTOTAL(9,I1078:I1079)","v":0},0,400000,400000,0,null,null,null,0,400000]
[null,null,null,null,null,null,null,null,null,null,0,0,0,null,null,null,0,0]
[null,null,null,820,null,null,"Установе културе",null,null,null,0,0,0,null,null,null,0,0]
[null,null,"1201-04",null,null,null,"Мајске манифестације",null,null,null,0,0,0,null,null,null,0,0]
[null,null,null,null,300,423,"Услуге по уговору",50000,null,null,50000,50000,0,null,null,null,50000,""]
[null,null,null,null,301,426,"Материјал",200000,null,null,200000,200000,0,null,null,null,200000,""]
[null,null,null,null,null,null,"Функција 820:",{"$f":"SUBTOTAL(9,H1085:H1086)","v":250000},{"$f":"SUBTOTAL(9,I1085:I1086)","v":0},0,250000,250000,0,null,null,null,0,250000]
[null,null,null,null,null,null,"Пројекат 1201-04:",{"$f":"SUBTOTAL(9,H1085:H1086)","v":250000},{"$f":"SUBTOTAL(9,I1085:I1086)","v":0},0,250000,250000,0,null,null,null,0,250000]
[null,null,null,null,null,null,"УКУПНО ЗА ГЛАВУ 5.05:",{"$f":"SUBTOTAL(9,H1045:H1088)","v":24089000},{"$f":"SUBTOTAL(9,I1045:I1088)","v":0},0,24089000,24089000,0,null,null,null,0,24089000]
[null,null,null,null,null,null,null,null,null,null,{"$f":"H1090+I1090+J1090","v":0},0,0,null,null,null,0,0]
[5,"5.06",null,null,null,null,"БИБЛИОТЕКА ''14.НОВЕМБАР'' БУЈАНОВАЦ",null,null,null,0,0,0,null,null,null,0,0]
[null,null,1201,null,null,null,"ПРОГРАМ 13: Развој културе",null,null,null,0,0,0,null,null,null,0,0]
[null,null,"1201-0001",null,null,null,"Функционисање локалних  установа културе",null,null,null,0,0,0,null,null,null,{"$f":"IF(E1093>0,H1093,0)","v":0},{"$f":"IF(E1093=0,H1093,\"\")","v":0}]
[null,null,null,820,null,null,"Установе културе",null,null,null,0,0,0,null,null,null,0,0]
[null,null,null,null,302,411,"Плате, додаци и накнаде запосленима",8900000,null,null,8900000,8900000,0,null,null,null,8900000,""]
[null,null,null,null,303,412,"Социјални доприноси на терет послодавца",1593100,null,null,1593100,{"$f":"H1096+I1096+J1096","v":1593100},{"$f":"K1096-L1096","v":0},null,null,null,1593100,""]
[null,null,null,null,304,414,"Социјална давања запосленима",160000,null,null,160000,160000,0,null,null,null,160000,""]
[null,null,null,null,305,415,"Накнаде трошкова за запослене",133000,null,null,133000,133000,0,null,null,null,133000,""]
[null,null,null,null,306,416,"Награде, бонуси и остали пословни расхода",155000,null,null,155000,155000,0,null,null,null,155000,""]
[null,null,null,null,307,421,"Стални трошкови",110000,null,null,110000,110000,0,null,null,null,110000,""]
[null,null,null,null,308,422,"Трошкови путовања",20000,null,null,20000,20000,0,null,null,null,20000,""]
[null,null,null,null,309,423,"Услуге по уговору",{"$f":"2234000+707000-41000","v":2900000},null,null,2900000,2900000,0,null,null,null,2900000,""]
[null,null,null,null,310,425,"Текуће поправке и  одржавање",70000,null,null,70000,70000,0,null,null,null,70000,""]
[null,null,null,null,311,426,"Материјал",150000,null,null,150000,150000,0,null,null,null,150000,""]
[null,null,null,null,312,465,"Остале текуће донације по закону",{"$f":"1005000-5000","v":1000000},null,null,1000000,1000000,0,null,null,null,1000000,""]
[null,null,null,null,313,482,"Порези , обавезне таксе и казне",15000,null,null,15000,15000,0,null,null,null,15000,""]
[null,null,null,null,314,512,"Машине и опрема",{"$f":"200000-80000","v":120000},null,null,120000,120000,0,null,null,null,120000,""]
[null,null,null,null,315,515,"Нематеријална имовина",{"$f":"490000+80000-70000","v":500000},null,null,500000,500000,0,null,null,null,500000,""]
[null,null,null,null,null,null,"Функција 820:",{"$f":"SUBTOTAL(9,H1095:H1108)","v":15826100},{"$f":"SUBTOTAL(9,I1095:I1108)","v":0},0,15826100,15826100,0,null,null,null,0,15826100]
[null,null,null,null,null,null,"Програмска активност 1201-0001:",{"$f":"SUBTOTAL(9,H1095:H1108)","v":15826100},{"$f":"SUBTOTAL(9,I1095:I1108)","v":0},0,15826100,15826100,0,null,null,null,0,15826100]
[null,null,null,null,null,null,"УКУПНО ЗА ГЛАВУ 5.06:",{"$f":"SUBTOTAL(9,H1095:H1108)","v":15826100},{"$f":"SUBTOTAL(9,I1095:I1108)","v":0},0,15826100,15826100,0,null,null,null,0,15826100]
[null,null,null,null,null,null,null,null,null,null,0,0,0,null,null,null,0,0]
[5,"5.07",null,null,null,null,"СПОРТСКИ ЦЕНТАР ''МЛАДОСТ'' БУЈАНОВАЦ",null,null,null,0,0,0,null,null,null,0,0]
[null,null,1301,null,null,null,"ПРОГРАМ 14: Развој спорта и омладине",null,null,null,0,0,0,null,null,null,0,0]
[null,null,"1301-0004",null,null,null,"Функционисање локалних спортских установа",null,null,null,0,0,0,null,null,null,0,0]
[null,null,null,810,null,null,"Услуге рекреације и спорта",null,null,null,0,0,0,null,null,null,0,0]
[null,null,null,null,316,411,"Плате, додаци и накнаде запосленима",10500000,null,null,10500000,10500000,0,null,null,null,10500000,""]
[null,null,null,null,317,412,"Социјални доприноси на терет послодавца",1879500,null,null,1879500,1879500,0,null,null,null,1879500,""]
[null,null,null,null,318,414,"Социјална давања запосленима",809000,null,null,809000,809000,0,null,null,null,809000,""]
[null,null,null,null,319,415,"Накнаде трошкова за запослене",450000,null,null,450000,450000,0,null,null,null,450000,""]
[null,null,null,null,320,416,"Награде, бонуси и остали пословни расхода",150000,null,null,150000,150000,0,null,null,null,150000,""]
[null,null,null,null,321,421,"Стални трошкови",1482000,null,null,1482000,1482000,0,null,null,null,1482000,""]
[null,null,null,null,322,422,"Трошкови путовања",42000,null,null,42000,42000,0,null,null,null,42000,""]
[null,null,null,null,323,423,"Услуге по уговору",695000,null,null,695000,695000,0,null,null,null,695000,""]
[null,null,null,null,324,425,"Текуће поправке и  одржавање",{"$f":"1820000-20000","v":1800000},null,null,1800000,1800000,0,null,null,null,1800000,""]
[null,null,null,null,325,426,"Материјал",510000,null,null,510000,510000,0,null,null,null,510000,""]
[null,null,null,null,326,465,"Остале текуће донације по закону",569200,null,null,569200,569200,0,null,null,null,569200,""]
[null,null,null,null,327,482,"Порези , обавезне таксе и казне",20000,null,null,20000,20000,0,null,null,null,20000,""]
[null,null,null,null,328,511,"Зграде и грађевински објекти",470000,null,null,470000,470000,0,null,null,null,470000,""]
[null,null,null,null,329,512,"Машине и опрема",1810000,null,null,1810000,1810000,0,null,null,null,1810000,""]
[null,null,null,null,null,null,"Функција 810:",{"$f":"SUBTOTAL(9,H1117:H1130)","v":21186700},{"$f":"SUBTOTAL(9,I1117:I1130)","v":0},0,21186700,21186700,0,null,null,null,0]
[null,null,null,null,null,null,"Програмска активност 1301-0004:",{"$f":"SUBTOTAL(9,H1117:H1130)","v":21186700},{"$f":"SUBTOTAL(9,I1117:I1130)","v":0},0,21186700,21186700,0,null,null,null,0]
[null,null,null,null,null,null,"УКУПНО ЗА ГЛАВУ 5.07:",{"$f":"SUBTOTAL(9,H1117:H1130)","v":21186700},{"$f":"SUBTOTAL(9,I1117:I1130)","v":0},0,21186700,21186700,0]
[null,null,null,null,null,null,"УКУПНО ЗА РАЗДЕО 5:",{"$f":"SUBTOTAL(9,H90:H1133)","v":786168200},{"$f":"SUBTOTAL(9,I90:I1133)","v":334696000},0,1120864200,1120864200,0]
[null,null,null,null,null,null,"УКУПНО  РАСХОДИ",{"$f":"SUBTOTAL(9,H7:H1134)","v":829804000},{"$f":"SUBTOTAL(9,I7:I1133)","v":334696000},{"$f":"SUBTOTAL(9,J7:J1133)","v":0},{"$f":"SUBTOTAL(9,K7:K1133)","v":1164500000},1164500000,0]
[]
[]
[]
[]
[]
[]
[]
[]
[null,null,null,null,null,null,null,{"$f":"H1142-H1143","v":0}]

{"sheet":"Прог.актив.","index":8,"n_rows":164,"n_cols":7,"rows_kept":164,"cut":false,"hidden":false,"merged":[[0,0,0,6],[1,0,2,6],[3,0,3,1],[3,2,4,2],[3,3,4,3],[3,4,4,4],[3,5,4,5],[3,6,4,6]]}
["^lan 7."]
["     Sredstva buxeta u iznosu od 829.804.000,00 dinara, sredstva iz buxeta Republike u iznosu od 334.696.000,00 dinara, utvr|eni su i raspore|eni po programskoj klasifikaciji u 2018. godinи:"]
[]
["Шифра",null,"Назив","Средства из буџета","Средства из буџета републике","Укупна средства","Надлежни орган"]
["Програм","Програмска активност/ Пројекат"]
[1,2,3,4,5,6,7]
[1101,null,"Програм 1. Локални развој и просторно планирање",{"$f":"SUBTOTAL(9,D8:D8)","v":15960000},{"$f":"SUBTOTAL(9,E8:E8)","v":0},{"$f":"SUBTOTAL(9,F8:F8)","v":15960000}]
[null,"1101-0001","Стратешко, просторно и урбанистичко планирање",15960000,null,{"$f":"D8+E8","v":15960000},"Општинска управа"]
["1102",null,"Програм 2. Комунална делатност",{"$f":"SUBTOTAL(9,D10:D14)","v":56950000},{"$f":"SUBTOTAL(9,E10:E14)","v":0},{"$f":"SUBTOTAL(9,F10:F14)","v":56950000}]
[null,"1102-0001","Јавна расвета",20500000,null,{"$f":"D10+E10","v":20500000},"Општинска управа"]
[null,"1102-0002","Уређење и одржавање зеленила",1000000,null,{"$f":"D11+E11","v":1000000},"Општинска управа"]
[null,"1102-0003","Јавна хигијена",9000000,null,{"$f":"D12+E12","v":9000000},"Општинска управа"]
[null,"1102-0004","Зоохигијена",1200000,null,{"$f":"D13+E13","v":1200000},"Општинска управа"]
[null,"1102-0008","Водоснабдевање",25250000,null,{"$f":"D14+E14","v":25250000},"Општинска управа"]
["1501",null,"Програм 3. Локални економски развој",{"$f":"SUBTOTAL(9,D16:D17)","v":35000000},{"$f":"SUBTOTAL(9,E16:E17)","v":0},35000000]
[null,"1501-0002","Стручна пракса 2017",20000000,null,{"$f":"D16+E16","v":20000000},"Општинска управа"]
[null,"1501-0003","Подстицај за развој предузетништва",15000000,null,{"$f":"D17+E17","v":15000000},"Општинска управа/KLER"]
["1502",null,"Програм 4. Развој туризма",{"$f":"SUBTOTAL(9,D19:D20)","v":8000000},{"$f":"SUBTOTAL(9,E19:E20)","v":0},8000000]
[null,"1502-0001","Управљањем развојем туризма",7760000,null,{"$f":"D19+E19","v":7760000},"Туристичка организација"]
[null,"1502-0002","Промоција туристичке понуде",240000,null,{"$f":"D20+E20","v":240000},"Туристичка организација"]
["0101",null,"Програм 5. Развој пољопривреде",{"$f":"SUBTOTAL(9,D22:D22)","v":22400000},{"$f":"SUBTOTAL(9,E22:E22)","v":0},{"$f":"SUBTOTAL(9,F22:F22)","v":22400000}]
[null,"0101-0002","Мере подршке руралном развоју",22400000,null,{"$f":"D22+E22","v":22400000},"ОU/Odeqewe za privredu"]
["0401",null,"Програм 6. Заштита животне средине",{"$f":"SUBTOTAL(9,D24:D27)","v":9100000},{"$f":"SUBTOTAL(9,E24:E27)","v":36080000},{"$f":"SUBTOTAL(9,F24:F27)","v":45180000}]
[null,"0401-0001","Управљање заштитом животне средине",{"$f":"2550000+2000000","v":4550000},17680000,{"$f":"D24+E24","v":22230000},"Општинска управа"]
[null,"0401-0004","Управљање отпадним водама",{"$f":"250000+2300000","v":2550000},null,{"$f":"D25+E25","v":2550000},"Општинска управа"]
[null,"0401-0005","Управљање комуналним отпадом",null,18400000,{"$f":"D26+E26","v":18400000},"Општинска управа"]
[null,"0401-0006","Одрживо управљање осталим врстама отпада",2000000,null,{"$f":"D27+E27","v":2000000}]
["0701",null,"Програм 7. Путна инфраструктура",{"$f":"SUBTOTAL(9,D29:D122)","v":92889000},{"$f":"SUBTOTAL(9,E29:E122)","v":81920000},{"$f":"SUBTOTAL(9,F29:F122)","v":174809000}]
[null,"0701-01",{"$f":"VLOOKUP(B29,'Troškovi 2018'!C249:G810,5,FALSE)","v":"Текуће поправке и одржавање - Пут од Југокопа до Кршевице"},null,25120000,{"$f":"D29+E29","v":25120000},"Општинска управа"]
[null,"0701-02",{"$f":"VLOOKUP(B30,'Troškovi 2018'!C250:G811,5,FALSE)","v":"Уређење петље на улазу у Бујановац"},null,3800000,3800000,"Општинска управа"]
[null,"0701-03",{"$f":"VLOOKUP(B31,'Troškovi 2018'!C251:G812,5,FALSE)","v":"Суфинансирање регионалног пута Р125-Б Муховац - Зарбинце"},null,20000000,20000000,"Општинска управа"]
[null,"0701-04","Афалтирање локалних путева на територији општине Бујановац",{"$f":"1260000+500000","v":1760000},25000000,26760000,"Општинска управа"]
[null,"0701-05",{"$f":"VLOOKUP(B33,'Troškovi 2018'!C253:G814,5,FALSE)","v":"Реконструкција ул. К. Петровић у функцији оснивања пешачке зоне"},null,8000000,8000000,"Општинска управа"]
[null,"0701-06",{"$f":"VLOOKUP(B34,'Troškovi 2018'!C254:G815,5,FALSE)","v":"Асфалтирање улице Мирослав Нојковић Цале, Л=318м, ширина асфалта Б=3м"},{"$f":"600000+400000","v":1000000},null,1000000,"Општинска управа"]
[null,"0701-07",{"$f":"VLOOKUP(B35,'Troškovi 2018'!C255:G816,5,FALSE)","v":"Крпљење ударних рупа на територији општине Бујановац"},3000000,null,{"$f":"D35+E35","v":3000000},"Општинска управа"]
[null,"0701-08",{"$f":"VLOOKUP(B36,'Troškovi 2018'!C256:G817,5,FALSE)","v":"Зимско одржавање путева"},3000000,null,3000000,"Општинска управа"]
[null,"0701-09",{"$f":"VLOOKUP(B37,'Troškovi 2018'!C257:G818,5,FALSE)","v":"Стручни надзор"},2500000,null,2500000,"Општинска управа"]
[null,"0701-10",{"$f":"VLOOKUP(B38,'Troškovi 2018'!C258:G819,5,FALSE)","v":"Текуће поправке и одржавање - Одржавање пружних прелаза"},3000000,null,3000000,"Општинска управа"]
[null,"0701-11",{"$f":"VLOOKUP(B39,'Troškovi 2018'!C259:G820,5,FALSE)","v":"Изградња моста на реци између Света Петке и Трејака са прилазним саобраћајницама"},1725000,null,1725000,"Општинска управа"]
[null,"0701-12",{"$f":"VLOOKUP(B40,'Troškovi 2018'!C260:G821,5,FALSE)","v":"Асфалтирање улице Шабан Бајрамовић у Бујановцу"},500000,null,500000,"Општинска управа"]
[null,"0701-13",{"$f":"VLOOKUP(B41,'Troškovi 2018'!C261:G822,5,FALSE)","v":"Асфалтирање улице код Реџепа у Бујановцу, Л=138м, Б=5м"},600000,null,600000,"Општинска управа"]
[null,"0701-14",{"$f":"VLOOKUP(B42,'Troškovi 2018'!C262:G823,5,FALSE)","v":"Асфалтирање улице у Бујановцу, прилаз 20 - код Рефика, Л=133м, Б=3,2м"},600000,null,600000,"Општинска управа"]
[null,"0701-15",{"$f":"VLOOKUP(B43,'Troškovi 2018'!C263:G824,5,FALSE)","v":"Асфалтирање улице Беким Фехмију у Бујановцу код Фадила, Л=73м, Б=5м"},650000,null,650000,"Општинска управа"]
[null,"0701-16",{"$f":"VLOOKUP(B44,'Troškovi 2018'!C264:G825,5,FALSE)","v":"Асфалтирање улице у Несалцу код Мејдије"},400000,null,400000,"Општинска управа"]
[null,"0701-17",{"$f":"VLOOKUP(B45,'Troškovi 2018'!C265:G826,5,FALSE)","v":"Асфалтирање улице Беким Фехмију у Бујановцу код Сехата, Л=120м, Б=3,8м"},650000,null,650000,"Општинска управа"]
[null,"0701-18",{"$f":"VLOOKUP(B46,'Troškovi 2018'!C266:G827,5,FALSE)","v":"Асфалтирање улице у Бујановцу, прилаз 25 - код Џабири, Л=105м, Б=3,5м"},650000,null,650000,"Општинска управа"]
[null,"0701-19",{"$f":"VLOOKUP(B47,'Troškovi 2018'!C267:G828,5,FALSE)","v":"Асфалтирање улице Лам Брезница Бујановац - код Гафура, Л=40м, Б=4м"},300000,null,300000,"Општинска управа"]
[null,"0701-20",{"$f":"VLOOKUP(B48,'Troškovi 2018'!C268:G829,5,FALSE)","v":"Асфалтирање улице Лопардински пут Бујановац - код Бекима, Л=100м, Б=3,5м"},650000,null,650000,"Општинска управа"]
[null,"0701-21",{"$f":"VLOOKUP(B49,'Troškovi 2018'!C269:G830,5,FALSE)","v":"Асфалтирање улице у селу Велики Трновац - код Хаџи Ваји, Л=131м, Б=3,8м"},650000,null,650000,"Општинска управа"]
[null,"0701-22",{"$f":"VLOOKUP(B50,'Troškovi 2018'!C270:G831,5,FALSE)","v":"Асфалтирање улице у селу Велики Трновац - код Хаџи Исуфи, Л=100м, Б=4м"},650000,null,650000,"Општинска управа"]
[null,"0701-23",{"$f":"VLOOKUP(B51,'Troškovi 2018'!C271:G832,5,FALSE)","v":"Асфалтирање улице у селу Велики Трновац код Мусе, Л=163м, Б=3,5м"},650000,null,650000,"Општинска управа"]
[null,"0701-24",{"$f":"VLOOKUP(B52,'Troškovi 2018'!C272:G833,5,FALSE)","v":"Асфалтирање улице у селу Велики Трновац код Фатмира, Л=105м, Б=4м"},650000,null,650000,"Општинска управа"]
[null,"0701-25",{"$f":"VLOOKUP(B53,'Troškovi 2018'!C273:G834,5,FALSE)","v":"Регулација корита реке у зони моста на путу за село Трејак"},2480000,null,2480000,"Општинска управа"]
[null,"0701-26",{"$f":"VLOOKUP(B54,'Troškovi 2018'!C274:G835,5,FALSE)","v":"Насипање пута у селу Клиновац од асфалтног пута преко реке до Ђоке"},495000,null,495000,"Општинска управа"]
[null,"0701-27",{"$f":"VLOOKUP(B55,'Troškovi 2018'!C275:G836,5,FALSE)","v":"Асфалтирање улице у селу Српска кућа Л=250м+40м"},2500000,null,2500000,"Општинска управа"]
[null,"0701-28",{"$f":"VLOOKUP(B56,'Troškovi 2018'!C276:G837,5,FALSE)","v":"Асфалтирање улице у селу Велики Трновац код Мевљуда Пиља, Л=156м, Б=4м"},700000,null,700000,"Општинска управа"]
[null,"0701-29",{"$f":"VLOOKUP(B57,'Troškovi 2018'!C277:G838,5,FALSE)","v":"Изградња тротоара на деоници пута од села Света Петка до села Кленике Л=500м"},4050000,null,4050000,"Општинска управа"]
[null,"0701-30",{"$f":"VLOOKUP(B58,'Troškovi 2018'!C278:G839,5,FALSE)","v":"Асфалтирање улице у селу Велики Трновац - Толска махала код Решата"},400000,null,400000,"Општинска управа"]
[null,"0701-31",{"$f":"VLOOKUP(B59,'Troškovi 2018'!C279:G840,5,FALSE)","v":"Рад механизације (булдожер, грејдер, ваљак и др.) на поправци сеоских путева у српској заједници"},3000000,null,3000000,"Општинска управа"]
[null,"0701-32",{"$f":"VLOOKUP(B60,'Troškovi 2018'!C280:G841,5,FALSE)","v":"Асфалтирање улице у селу Карадник - Багалејска махала, Л=250м"},2200000,null,2200000,"Општинска управа"]
[null,"0701-33",{"$f":"VLOOKUP(B61,'Troškovi 2018'!C281:G842,5,FALSE)","v":"Асфалтирање прилазног пута према основној школи у селу Кленике, Л=50м"},470000,null,470000,"Општинска управа"]
[null,"0701-34",{"$f":"VLOOKUP(B62,'Troškovi 2018'!C282:G843,5,FALSE)","v":"Текућа поправка асфалтног пута за село Куштица (деоница од зелене ливаде према Бојаџијској махали), Л=130м"},1150000,null,1150000,"Општинска управа"]
[null,"0701-35",{"$f":"VLOOKUP(B63,'Troškovi 2018'!C283:G844,5,FALSE)","v":"Насипање пута у селу Осларе (деоница од излаза из села до гробља у селу Левосоје), Л=900м"},2000000,null,2000000,"Општинска управа"]
[null,"0701-36",{"$f":"VLOOKUP(B64,'Troškovi 2018'!C284:G845,5,FALSE)","v":"Насипање пута у селу Доњи Старац (деоница од домаћинства попа Драгољуба до домаћинства Тисе), Л=500м"},1100000,null,1100000,"Општинска управа"]
[null,"0701-37",{"$f":"VLOOKUP(B65,'Troškovi 2018'!C285:G846,5,FALSE)","v":"Насипање пута у селу Света Петка у махали Зељци, Л=350м"},800000,null,800000,"Општинска управа"]
[null,"0701-38",{"$f":"VLOOKUP(B66,'Troškovi 2018'!C286:G847,5,FALSE)","v":"Изградња цевастог пропуста у селу Клиновац у махали Скримаци, Л=8 м (2 * ФИ1000)"},1230000,null,1230000,"Општинска управа"]
[null,"0701-39",{"$f":"VLOOKUP(B67,'Troškovi 2018'!C287:G848,5,FALSE)","v":"Изградња потпорног зида на бараљевској реци у селу Кленике, Л=25м, Х=2,5м"},1200000,null,1200000,"Општинска управа"]
[null,"0701-40",{"$f":"VLOOKUP(B68,'Troškovi 2018'!C288:G849,5,FALSE)","v":"Текућа поправка цевастог пропуста у селу Спанчевац"},320000,null,320000,"Општинска управа"]
[null,"0701-41",{"$f":"VLOOKUP(B69,'Troškovi 2018'!C289:G850,5,FALSE)","v":"Текућа поправка тротоара у ул. Јована Цвијића у Бујановцу, Л=270м x 2"},2300000,null,2300000,"Општинска управа"]
[null,"0701-42",{"$f":"VLOOKUP(B70,'Troškovi 2018'!C290:G851,5,FALSE)","v":"Асфалтирање улице у селу Жбевац (Уча Аврам - Ирдинци), Л=200м"},1289000,null,1289000,"Општинска управа"]
[null,"0701-43",{"$f":"VLOOKUP(B71,'Troškovi 2018'!C291:G852,5,FALSE)","v":"Асфалтирање улице у селу Жбевац (махала Дебоњци), Л=800м"},2800000,null,2800000,"Општинска управа"]
[null,"0701-44",{"$f":"VLOOKUP(B72,'Troškovi 2018'!C292:G853,5,FALSE)","v":"Насипање улице у селу Божињевац, Л=300м"},660000,null,660000,"Општинска управа"]
[null,"0701-45",{"$f":"VLOOKUP(B73,'Troškovi 2018'!C293:G854,5,FALSE)","v":"Текућа поправка улице Браће Југовића у Бујановцу"},830000,null,830000,"Општинска управа"]
[null,"0701-46",{"$f":"VLOOKUP(B74,'Troškovi 2018'!C294:G855,5,FALSE)","v":"Асфалтирање улице у селу Велики Трновац код Дугана Центар, Л=170м, Б=4,5м"},1100000,null,1100000,"Општинска управа"]
[null,"0701-47",{"$f":"VLOOKUP(B75,'Troškovi 2018'!C295:G856,5,FALSE)","v":"Асфалтирање улице у селу Велики Трновац код Тељата, Л=110м, Б=4м"},580000,null,580000,"Општинска управа"]
[null,"0701-48",{"$f":"VLOOKUP(B76,'Troškovi 2018'!C296:G857,5,FALSE)","v":"Асфалтирање улице у селу Велики Трновац код Ђепу, Л=28м, Б=5м"},300000,null,300000,"Општинска управа"]
[null,"0701-49",{"$f":"VLOOKUP(B77,'Troškovi 2018'!C297:G858,5,FALSE)","v":"Асфалтирање улице у селу Велики Трновац код Нехата, Л=47м, Б=4м"},400000,null,400000,"Општинска управа"]
[null,"0701-50",{"$f":"VLOOKUP(B78,'Troškovi 2018'!C298:G859,5,FALSE)","v":"Асфалтирање улице у селу Велики Трновац код Лавдима, Л=60м, Б=4,2м"},450000,null,450000,"Општинска управа"]
[null,"0701-51",{"$f":"VLOOKUP(B79,'Troškovi 2018'!C299:G860,5,FALSE)","v":"Асфалтирање улице у селу Велики Трновац код Далија, Л=61м, Б=3,5м"},400000,null,400000,"Општинска управа"]
[null,"0701-52",{"$f":"VLOOKUP(B80,'Troškovi 2018'!C300:G861,5,FALSE)","v":"Асфалтирање улице у селу Велики Трновац код Буњамина, Л=82м, Б=4,2м"},520000,null,520000,"Општинска управа"]
[null,"0701-53",{"$f":"VLOOKUP(B81,'Troškovi 2018'!C301:G862,5,FALSE)","v":"Асфалтирање улице у селу Велики Трновац код Бетима, Л=30м, Б=4м"},250000,null,250000,"Општинска управа"]
[null,"0701-54",{"$f":"VLOOKUP(B82,'Troškovi 2018'!C302:G863,5,FALSE)","v":"Асфалтирање улице у селу Велики Трновац код Ћанију, Л=130м, Б=4,5м"},830000,null,830000,"Општинска управа"]
[null,"0701-55",{"$f":"VLOOKUP(B83,'Troškovi 2018'!C303:G864,5,FALSE)","v":"Асфалтирање улице у селу Велики Трновац код Сефера, Л=210, Б=4,3м"},870000,null,870000,"Општинска управа"]
[null,"0701-56",{"$f":"VLOOKUP(B84,'Troškovi 2018'!C304:G865,5,FALSE)","v":"Асфалтирање улице у селу Велики Трновац код Рахима, Л=90м, Б=4,5"},550000,null,550000,"Општинска управа"]
[null,"0701-57",{"$f":"VLOOKUP(B85,'Troškovi 2018'!C305:G866,5,FALSE)","v":"Асфалтирање улице у селу Велики Трновац код Шабана Ризаха, Л=86, Б=4м"},530000,null,530000,"Општинска управа"]
[null,"0701-58",{"$f":"VLOOKUP(B86,'Troškovi 2018'!C306:G867,5,FALSE)","v":"Уређење парка у селу Велики Трновац код воденице"},1300000,null,1300000,"Општинска управа"]
[null,"0701-59",{"$f":"VLOOKUP(B87,'Troškovi 2018'!C307:G868,5,FALSE)","v":"Асфалтирање улице у селу Биљача код Авније, Л=390м, Б=3,5м"},1600000,null,1600000,"Општинска управа"]
[null,"0701-60",{"$f":"VLOOKUP(B88,'Troškovi 2018'!C308:G869,5,FALSE)","v":"Асфалтирање улице у селу Биљача код Сељамије, Л=110м, Б=4м"},530000,null,530000,"Општинска управа"]
[null,"0701-61",{"$f":"VLOOKUP(B89,'Troškovi 2018'!C309:G870,5,FALSE)","v":"Проширење пута Несалце - Летовица, Л=2,6км, Б=1м"},4300000,null,4300000,"Општинска управа"]
[null,"0701-62",{"$f":"VLOOKUP(B90,'Troškovi 2018'!C310:G871,5,FALSE)","v":"Асфалтирање улице у селу Летовица код Вељије, Л=200м, Б=3м"},700000,null,700000,"Општинска управа"]
[null,"0701-63",{"$f":"VLOOKUP(B91,'Troškovi 2018'!C311:G872,5,FALSE)","v":"Асфалтирање улице у селу Летовица код Африма, Л=85м, Б=3м"},520000,null,520000,"Општинска управа"]
[null,"0701-64",{"$f":"VLOOKUP(B92,'Troškovi 2018'!C312:G873,5,FALSE)","v":"Асфалтирање улице у селу Летовица код Исуфа, Л=162м, Б=3м"},700000,null,700000,"Општинска управа"]
[null,"0701-65",{"$f":"VLOOKUP(B93,'Troškovi 2018'!C313:G874,5,FALSE)","v":"Асфалтирање улице у селу Летовица код Дине, Л=80м, Б=3м"},680000,null,680000,"Општинска управа"]
[null,"0701-66",{"$f":"VLOOKUP(B94,'Troškovi 2018'!C314:G875,5,FALSE)","v":"Асфалтирање улице у селу Несалце код џамије, Л=180м, Б=3м"},700000,null,700000,"Општинска управа"]
[null,"0701-67",{"$f":"VLOOKUP(B95,'Troškovi 2018'!C315:G876,5,FALSE)","v":"Асфалтирање улице у селу Несалце код Барије, Л=100м, Б=3м"},450000,null,450000,"Општинска управа"]
[null,"0701-68",{"$f":"VLOOKUP(B96,'Troškovi 2018'!C316:G877,5,FALSE)","v":"Асфалтирање улице у селу Несалце код Хајриза, Л=100м, Б=2,5м"},430000,null,430000,"Општинска управа"]
[null,"0701-69",{"$f":"VLOOKUP(B97,'Troškovi 2018'!C317:G878,5,FALSE)","v":"Асфалтирање улице у селу Несалце код Мендуха, Л=70м, Б=3м"},450000,null,450000,"Општинска управа"]
[null,"0701-70",{"$f":"VLOOKUP(B98,'Troškovi 2018'!C318:G879,5,FALSE)","v":"Асфалтирање улице у селу Несалце код Пуст, Л=67м, Б=3м"},400000,null,400000,"Општинска управа"]
[null,"0701-71",{"$f":"VLOOKUP(B99,'Troškovi 2018'!C319:G880,5,FALSE)","v":"Асфалтирање улице у селу Несалце код Рафе, Л=68м, Б=3,2м"},400000,null,400000,"Општинска управа"]
[null,"0701-72",{"$f":"VLOOKUP(B100,'Troškovi 2018'!C320:G881,5,FALSE)","v":"Асфалтирање улице у селу Несалце код Садрије, Л=74м, Б=3м"},500000,null,500000,"Општинска управа"]
[null,"0701-73",{"$f":"VLOOKUP(B101,'Troškovi 2018'!C321:G882,5,FALSE)","v":"Асфалтирање улице у селу Несалце код Тефика, Л=130, Б=3м"},500000,null,500000,"Општинска управа"]
[null,"0701-74",{"$f":"VLOOKUP(B102,'Troškovi 2018'!C322:G883,5,FALSE)","v":"Асфалтирање улице у селу Самољица - Корб махала, Л=200м, Б=3,5м"},735000,null,735000,"Општинска управа"]
[null,"0701-75",{"$f":"VLOOKUP(B103,'Troškovi 2018'!C323:G884,5,FALSE)","v":"Асфалтирање улице у селу Самољица код Екрема, Л=153м, Б=3,5м"},620000,null,620000,"Општинска управа"]
[null,"0701-76",{"$f":"VLOOKUP(B104,'Troškovi 2018'!C324:G885,5,FALSE)","v":"Асфалтирање улице у селу Самољица код Недима, Л=90м, Б=3м"},480000,null,480000,"Општинска управа"]
[null,"0701-77",{"$f":"VLOOKUP(B105,'Troškovi 2018'!C325:G886,5,FALSE)","v":"Асфалтирање улице у селу Лучане код Фисника, Л=60м, Б=3,5м"},475000,null,475000,"Општинска управа"]
[null,"0701-78",{"$f":"VLOOKUP(B106,'Troškovi 2018'!C326:G887,5,FALSE)","v":"Асфалтирање улице у селу Лучане код Хамдије, Л=61м, Б=3,5м"},450000,null,450000,"Општинска управа"]
[null,"0701-79",{"$f":"VLOOKUP(B107,'Troškovi 2018'!C327:G888,5,FALSE)","v":"Асфалтирање улице у селу Лучане код Куртеша, Л=68м, Б=3м"},400000,null,400000,"Општинска управа"]
[null,"0701-80",{"$f":"VLOOKUP(B108,'Troškovi 2018'!C328:G889,5,FALSE)","v":"Асфалтирање улице у селу Лучане код Бејту, Л=195, Б=3м"},680000,null,680000,"Општинска управа"]
[null,"0701-81",{"$f":"VLOOKUP(B109,'Troškovi 2018'!C329:G890,5,FALSE)","v":"Асфалтирање улице у селу Кончуљ код Азизи, Л=100м, Б=3м"},520000,null,520000,"Општинска управа"]
[null,"0701-82",{"$f":"VLOOKUP(B110,'Troškovi 2018'!C330:G891,5,FALSE)","v":"Асфалтирање улице у селу Кончуљ код Браховита, Л=103м, Б=3м"},600000,null,600000,"Општинска управа"]
[null,"0701-83",{"$f":"VLOOKUP(B111,'Troškovi 2018'!C331:G892,5,FALSE)","v":"Асфалтирање улице у селу Кончуљ код моста, Л=87м, Б=3м"},540000,null,540000,"Општинска управа"]
[null,"0701-84",{"$f":"VLOOKUP(B112,'Troškovi 2018'!C332:G893,5,FALSE)","v":"Асфалтирање улице у селу Добросин код Исљама, Л=300м, Б=4м"},1040000,null,1040000,"Општинска управа"]
[null,"0701-85",{"$f":"VLOOKUP(B113,'Troškovi 2018'!C333:G894,5,FALSE)","v":"Асфалтирање улице у селу Добросин код Азиза, Л=231м, Б=3м"},600000,null,600000,"Општинска управа"]
[null,"0701-86",{"$f":"VLOOKUP(B114,'Troškovi 2018'!C334:G895,5,FALSE)","v":"Асфалтирање улице у селу Брезница код млина, Л=1.300, Б=4м"},2000000,null,{"$f":"D114+E114","v":2000000},"Општинска управа"]
[null,"0701-87",{"$f":"VLOOKUP(B115,'Troškovi 2018'!C335:G896,5,FALSE)","v":"Асфалтирање улице у селу Брезница - Муховац - Зарбинце, Л=600м, Б=4м"},2000000,null,2000000,"Општинска управа"]
[null,"0701-88",{"$f":"VLOOKUP(B116,'Troškovi 2018'!C336:G897,5,FALSE)","v":"Асфалтирање улице у селу Турија код Лукмана, Л=260м, Б=3м"},450000,null,450000,"Општинска управа"]
[null,"0701-89",{"$f":"VLOOKUP(B117,'Troškovi 2018'!C337:G898,5,FALSE)","v":"Насипање улице у селу Велики Трновац код Колоније"},400000,null,400000,"Општинска управа"]
[null,"0701-90",{"$f":"VLOOKUP(B118,'Troškovi 2018'!C338:G899,5,FALSE)","v":"Насипање улице у селу В. Бресић"},400000,null,400000,"Општинска управа"]
[null,"0701-91",{"$f":"VLOOKUP(B119,'Troškovi 2018'!C339:G900,5,FALSE)","v":"Реконструкција асфалтирања улице у селу Велики Трновац (од главне трафо-станице до пута у нову махалу)"},2000000,null,2000000,"Општинска управа"]
[null,"0701-92",{"$f":"VLOOKUP(B120,'Troškovi 2018'!C340:G901,5,FALSE)","v":"Насипање улице у селу Лучане код Рамиза"},400000,null,400000,"Општинска управа"]
[null,"0701-93",{"$f":"VLOOKUP(B121,'Troškovi 2018'!C341:G902,5,FALSE)","v":"Асфалтирање улице у селу Турија од центра до Гњиланског пута, Л=723м"},1200000,null,1200000,"Општинска управа"]
[null,"0701-94",{"$f":"VLOOKUP(B122,'Troškovi 2018'!C342:G903,5,FALSE)","v":"Асфалтирање улице у селу Осларе код Бајрама"},400000,null,400000,"Општинска управа"]
["2001",null,"Програм 8. Предшколско васпитање",{"$f":"SUBTOTAL(9,D124)","v":108246000},{"$f":"SUBTOTAL(9,E124)","v":0},108246000]
[null,"2001-0001","Функционисање предшколских установа",108246000,null,{"$f":"D124+E124","v":108246000},"ПУ \"Наша радост\""]
["2002",null,"Програм 9. Основно образовање",{"$f":"SUBTOTAL(9,D126)","v":70881700},{"$f":"SUBTOTAL(9,E126)","v":200000000},270881700]
[null,"2002-0001","Функционисање основних школа ",70881700,200000000,{"$f":"D126+E126","v":270881700},"Општинска управа"]
["2003",null,"Програм 10. Средње образовање",{"$f":"SUBTOTAL(9,D128)","v":36171700},{"$f":"SUBTOTAL(9,E128)","v":6696000},42867700]
[null,"2003-0001","Функционисање средњих школа ",{"$f":"37671700-1500000","v":36171700},6696000,{"$f":"D128+E128","v":42867700},"Општинска управа"]
["0901",null,"Програм 11. Социјална и дечија заштита",{"$f":"SUBTOTAL(9,D130:D134)","v":10900000},{"$f":"SUBTOTAL(9,E130:E134)","v":10000000},20900000]
[null,"0901-0001","Социјалне помоћи",6000000,null,{"$f":"D130+E130","v":6000000},"ОU/Centar za soc.rad"]
[null,"0901-0002","Прихватилишта, прихватне станице и друге врсте смештаја",3200000,null,{"$f":"D131+E131","v":3200000},"Општинска управа"]
[null,"0901-0005","Активности ОО Црвеног крста Бујановац ",500000,null,{"$f":"D132+E132","v":500000},"ОО Црвени крст"]
[null,"0901-0006","Подршка деци и породицама са децом",600000,4000000,{"$f":"D133+E133","v":4600000},"ОU/Centar za soc.rad"]
[null,"0901-0007","Подршка старијим лицима и/или особама са инвалидитетом",600000,6000000,{"$f":"D134+E134","v":6600000},"Општинска управа"]
["1801",null,"Програм 12. Примарна здравствена заштита",{"$f":"SUBTOTAL(9,D136:D137)","v":19250000},{"$f":"SUBTOTAL(9,E136:E137)","v":0},19250000]
[null,"1801-0001","Функционисање установа примарне здравствене заштите",18850000,null,{"$f":"D136+E136","v":18850000},"OU/DZ/Apoteka"]
[null,"1801-0002","Мртвозорство",400000,null,{"$f":"D137+E137","v":400000},"ОУ/ДЗ"]
["1201",null,"Програм 13. Развој културе",{"$f":"SUBTOTAL(9,D139:D146)","v":52745100},{"$f":"SUBTOTAL(9,E139:E146)","v":0},52745100]
[null,"1201-0001","Функционисање локалних  установа културе",{"$f":"23139000+15826100","v":38965100},null,{"$f":"D139+E139","v":38965100},"ДУ \"Вук Караџић\" и Библиотека"]
[null,"1201-0002","Јачање културне продукције и уметничког стваралаштва ",4930000,null,{"$f":"D140+E140","v":4930000},"Општинска управа"]
[null,"1201-0003","Унапређење система очувања и представљања културно-историјског наслеђа",2900000,null,{"$f":"D141+E141","v":2900000},"Општинска управа"]
[null,"1201-0004","Остваривање и унапређивање јавног интереса у области јавног информисања",5000000,null,5000000,"Општинска управа"]
[null,"1201-01","Манифестација вредне руке",150000,null,150000,"ДУ \"Вук Караџић\""]
[null,"1201-02","Манифестација најлепше ускршње јаје",150000,null,150000,"ДУ \"Вук Караџић\""]
[null,"1201-03","Манифестација културно лето",400000,null,400000,"ДУ \"Вук Караџић\""]
[null,"1201-04","Мајске манифестације",250000,null,250000,"ДУ \"Вук Караџић\""]
["1301",null,"Програм 14. Развој спорта и омладине",{"$f":"SUBTOTAL(9,D148:D151)","v":31696700},{"$f":"SUBTOTAL(9,E148:E151)","v":0},{"$f":"SUBTOTAL(9,F148:F151)","v":31696700}]
[null,"1301-0001","Подршка локалним спорским организацијама, удружењима и савезима",9000000,null,{"$f":"D148+E148","v":9000000},"Општинска управа"]
[null,"1301-0004","Функционисање локалних спортских установа",21186700,null,{"$f":"D149+E149","v":21186700},"СЦ \"Младост\""]
[null,"1301-0005","Спровођење омалдинске политике",800000,null,{"$f":"D150+E150","v":800000},"Општинска управа"]
[null,"1301-01","Асфалтирање спортског терена у селу Бараљевац, дужина 25 * 15м",710000,null,{"$f":"D151+E151","v":710000},"Општинска управа"]
["0602",null,"Програм 15. Локална самоуправа",{"$f":"SUBTOTAL(9,D153:D159)","v":221450200},{"$f":"SUBTOTAL(9,E153:E159)","v":0},221450200]
[null,"0602-0001","Подршка раду извршних органа власти и скупштине",{"$f":"195778000-200000-200000-800000","v":194578000},null,{"$f":"D153+E153","v":194578000},"Општинска управа"]
[null,"0602-0002","Функционисање месних заједница",3900000,null,{"$f":"D154+E154","v":3900000},"Општинска управа/Месне заједнице"]
[null,"0602-0004","Правобранилаштво општине Бујановац",5472200,null,{"$f":"D155+E155","v":5472200},"OJP"]
[null,"0602-0007","Функционисање националних савета националних мањина",4000000,null,4000000,"Општинска управа"]
[null,"0602-0009","Текућа буџетска резерва",{"$f":"10000000+1500000","v":11500000},null,11500000,"Општинска управа"]
[null,"0602-0010","Стална буџетска резерва",500000,null,500000,"Општинска управа"]
[null,"0602-0014","Ванредне ситуације",1500000,null,1500000,"Општинска управа"]
["2101",null,"Програм 16: Политички систем локалне самоуправе",{"$f":"SUBTOTAL(9,D161:D163)","v":38163600},{"$f":"SUBTOTAL(9,E161:E163)","v":0},38163600]
[null,"2101-0001","Функционисање скупштине",19543100,null,{"$f":"D161+E161","v":19543100},"Скупштина"]
[null,"2101-0002","Функционисање извршних органа",11170500,null,{"$f":"D162+E162","v":11170500},"Председник/Општинско веће"]
[null,"2101-0003","Подршка раду извршних органа власти и скупштине",7450000,null,{"$f":"D163+E163","v":7450000},"Скупштина"]
[null,null,"UKUPNO",{"$f":"SUBTOTAL(9,D7:D163)","v":829804000},{"$f":"SUBTOTAL(9,E7:E163)","v":334696000},1164500000]

{"sheet":"Odluka Budžet 2018","index":9,"n_rows":408,"n_cols":14,"rows_kept":408,"cut":false,"hidden":false,"merged":[[190,9,190,10],[192,9,192,10],[278,2,278,3],[280,2,280,3],[274,4,274,9],[278,4,278,9],[280,4,280,9],[171,9,171,10],[224,8,224,10],[225,8,225,10],[226,8,226,10],[227,8,227,10],[228,8,228,10],[211,8,211,10],[215,8,215,10],[216,8,216,10],[217,8,217,10],[218,8,218,10],[219,8,219,10],[220,8,220,10],[221,8,221,10],[222,8,222,10],[223,8,223,10],[199,7,199,8],[189,7,189,8],[183,9,183,10],[190,7,190,8],[170,9,170,10],[163,9,163,10],[164,9,164,10],[165,9,165,10],[166,9,166,10],[167,9,167,10],[168,9,168,10],[169,9,169,10],[172,9,172,10],[173,9,173,10],[174,9,174,10],[175,9,175,10],[176,9,176,10],[178,9,178,10],[179,9,179,10],[181,9,181,10],[182,9,182,10],[185,9,185,10],[187,9,187,10],[188,9,188,10],[189,9,189,10],[186,9,186,10],[184,9,184,10],[180,9,180,10],[177,9,177,10],[184,7,184,8],[185,7,185,8],[186,7,186,8],[187,7,187,8],[188,7,188,8],[200,7,200,8],[201,7,201,8],[201,9,201,10],[200,9,200,10],[198,9,198,10],[197,9,197,10],[195,9,195,10],[193,9,193,10],[191,9,191,10],[191,7,191,8],[192,7,192,8],[193,7,193,8],[194,7,194,8],[195,7,195,8],[196,7,196,8],[197,7,197,8],[196,9,196,10],[198,7,198,8],[199,9,199,10],[194,9,194,10],[164,7,164,8],[165,7,165,8],[166,7,166,8],[167,7,167,8],[168,7,168,8],[169,7,169,8],[181,7,181,8],[182,7,182,8],[183,7,183,8],[171,7,171,8],[172,7,172,8],[173,7,173,8],[174,7,174,8],[170,7,170,8],[175,7,175,8],[176,7,176,8],[178,7,178,8],[177,7,177,8],[179,7,179,8],[180,7,180,8],[405,10,405,11],[407,10,407,11],[408,10,408,11],[390,0,392,11],[395,0,395,11],[396,0,396,11],[398,0,398,11],[399,0,399,11],[402,0,402,11],[373,0,376,11],[378,0,378,11],[379,0,382,11],[383,0,386,11],[387,0,387,11],[388,0,389,11],[363,0,364,11],[366,0,366,11],[367,0,367,11],[369,0,369,11],[370,0,370,11],[372,0,372,11],[377,0,377,11],[356,0,356,11],[357,0,357,11],[358,0,358,11],[359,0,359,11],[360,0,360,11],[362,0,362,11],[348,0,348,11],[349,0,349,11],[351,0,351,11],[352,0,352,11],[354,0,354,11],[355,0,355,11],[339,0,339,11],[341,0,341,11],[342,0,342,11],[344,0,344,11],[345,0,345,11],[347,0,347,11],[331,0,331,11],[332,0,332,11],[334,0,334,11],[335,0,335,11],[337,0,337,11],[338,0,338,11],[318,0,318,11],[320,0,320,11],[321,0,321,11],[328,0,328,11],[329,0,329,11],[330,0,330,11],[308,0,308,11],[309,0,309,11],[311,0,311,11],[312,0,312,11],[315,0,315,11],[317,0,317,11],[322,0,322,11],[324,0,324,11],[325,0,325,11],[326,0,326,11],[323,0,323,11],[314,0,314,11],[299,0,299,11],[300,0,300,11],[302,0,302,11],[303,0,303,11],[305,0,305,11],[306,0,306,11],[289,0,289,11],[290,0,292,11],[293,0,293,11],[294,0,295,11],[297,0,297,11],[298,0,298,11],[283,0,283,11],[285,0,285,11],[286,0,286,11],[287,0,287,11],[272,2,272,3],[272,4,272,9],[276,4,276,9],[276,2,276,3],[274,2,274,3],[281,2,281,3],[281,4,281,9],[279,2,279,3],[277,2,277,3],[275,2,275,3],[273,2,273,3],[263,0,263,11],[265,0,265,11],[266,0,269,11],[270,2,270,3],[270,4,270,9],[228,1,228,7],[229,1,229,6],[230,0,230,11],[232,0,232,11],[233,0,233,11],[224,1,224,7],[225,1,225,7],[226,1,226,7],[221,1,221,7],[222,1,222,7],[223,1,223,7],[218,1,218,7],[219,1,219,7],[220,1,220,7],[215,1,215,7],[216,1,216,7],[217,1,217,7],[212,1,212,7],[213,1,213,7],[214,1,214,7],[208,0,208,11],[209,0,209,11],[210,3,210,7],[210,9,210,10],[211,1,211,7],[212,8,212,10],[213,8,213,10],[214,8,214,10],[200,0,200,2],[200,3,200,6],[201,0,201,2],[201,3,201,6],[202,0,202,2],[202,3,202,5],[195,0,195,2],[195,3,195,6],[196,0,196,2],[197,0,197,2],[197,3,197,6],[198,0,198,2],[198,3,198,6],[199,0,199,2],[199,3,199,6],[189,0,189,2],[191,0,191,2],[191,3,191,6],[192,0,192,2],[192,3,192,6],[193,0,193,2],[193,3,193,6],[185,0,185,2],[185,3,185,6],[186,0,186,2],[186,3,186,6],[187,0,187,2],[188,0,188,2],[190,0,190,2],[182,0,182,2],[182,3,182,6],[183,0,183,2],[183,3,183,6],[184,0,184,2],[184,3,184,6],[179,0,179,2],[179,3,179,6],[180,0,180,2],[180,3,180,6],[181,0,181,2],[181,3,181,6],[175,0,175,2],[176,0,176,2],[176,3,176,6],[177,0,177,2],[177,3,177,6],[178,0,178,2],[178,3,178,6],[172,0,172,2],[172,3,172,6],[173,0,173,2],[173,3,173,6],[174,0,174,2],[174,3,174,6],[169,0,169,2],[170,0,170,2],[170,3,170,6],[171,0,171,2],[171,3,171,6],[164,0,164,2],[165,0,165,2],[166,0,166,2],[166,3,166,6],[167,0,167,2],[168,0,168,2],[159,0,159,11],[161,0,161,2],[161,3,161,6],[162,0,162,2],[162,3,162,6],[163,0,163,2],[163,3,163,6],[88,0,88,6],[88,7,88,9],[88,10,88,11],[90,0,90,11],[92,0,93,11],[157,0,157,11],[161,7,161,8],[162,7,162,8],[163,7,163,8],[161,9,161,10],[162,9,162,10],[86,0,86,6],[86,7,86,9],[86,10,86,11],[87,0,87,5],[87,7,87,9],[87,10,87,11],[84,0,84,6],[84,7,84,9],[84,10,84,11],[85,0,85,5],[85,7,85,9],[85,10,85,11],[82,0,82,6],[82,7,82,9],[82,10,82,11],[83,0,83,6],[83,7,83,9],[83,10,83,11],[80,0,80,6],[80,7,80,9],[80,10,80,11],[81,0,81,6],[81,7,81,9],[81,10,81,11],[78,0,78,6],[78,7,78,9],[78,10,78,11],[79,0,79,6],[79,7,79,9],[79,10,79,11],[75,7,75,9],[75,10,75,11],[76,0,76,6],[76,7,76,9],[76,10,76,11],[77,0,77,6],[77,7,77,9],[77,10,77,11],[73,0,73,6],[73,7,73,9],[73,10,73,11],[74,0,74,6],[74,7,74,9],[74,10,74,11],[70,7,70,9],[70,10,70,11],[71,7,71,9],[71,10,71,11],[72,7,72,9],[72,10,72,11],[67,7,67,9],[67,10,67,11],[68,7,68,9],[68,10,68,11],[69,7,69,9],[69,10,69,11],[64,7,64,9],[64,10,64,11],[65,7,65,9],[65,10,65,11],[66,7,66,9],[66,10,66,11],[62,0,62,6],[62,7,62,9],[62,10,62,11],[63,0,63,6],[63,7,63,9],[63,10,63,11],[60,0,60,6],[60,7,60,9],[60,10,60,11],[61,0,61,6],[61,7,61,9],[61,10,61,11],[58,0,58,6],[58,7,58,9],[58,10,58,11],[59,0,59,6],[59,7,59,9],[59,10,59,11],[56,0,56,6],[56,7,56,9],[56,10,56,11],[57,0,57,6],[57,7,57,9],[57,10,57,11],[49,0,49,6],[49,7,49,9],[49,10,49,11],[54,0,55,6],[54,7,55,9],[54,10,55,11],[47,0,47,6],[47,7,47,9],[47,10,47,11],[48,0,48,6],[48,7,48,9],[48,10,48,11],[45,0,45,6],[45,7,45,9],[45,10,45,11],[46,0,46,6],[46,7,46,9],[46,10,46,11],[42,0,42,6],[42,7,42,9],[42,10,42,11],[43,0,44,6],[43,7,44,9],[43,10,44,11],[35,0,35,9],[35,10,35,11],[36,0,36,9],[36,10,36,11],[38,0,38,11],[40,0,41,6],[40,7,41,9],[40,10,41,11],[32,0,32,9],[32,10,32,11],[33,0,33,9],[33,10,33,11],[34,0,34,9],[34,10,34,11],[29,0,29,9],[29,10,29,11],[30,0,30,9],[30,10,30,11],[31,0,31,9],[31,10,31,11],[26,0,26,9],[26,10,26,11],[27,0,27,9],[27,10,27,11],[28,0,28,9],[28,10,28,11],[16,0,16,9],[16,10,16,11],[23,0,23,9],[23,10,23,11],[24,0,24,9],[24,10,24,11],[25,0,25,9],[25,10,25,11],[20,0,20,9],[20,10,20,11],[21,0,21,9],[21,10,21,11],[22,0,22,9],[22,10,22,11],[271,2,271,3],[271,4,271,9],[273,4,273,9],[275,4,275,9],[277,4,277,9],[279,4,279,9],[227,1,227,7],[0,10,0,11],[1,0,3,11],[6,0,6,11],[7,0,7,11],[9,0,9,11],[11,0,11,11],[17,0,17,9],[17,10,17,11],[18,0,18,9],[18,10,18,11],[19,0,19,9],[19,10,19,11],[13,0,13,11],[14,0,14,9],[14,10,14,11],[15,0,15,9],[15,10,15,11]]}
[]
["                 Na osnovu ~lana 43. Zakona o buxetskom sistemu (\"Slu`beni glasnik RS\", br. 54/2009, 73/2010, 101/2010, 101/2011, 93/2012, 62/2013 i 63/2013 -ispravka, 108/2013, 142/2014, 68/2015 - dr. zakon, 103/2015 i 99/2016), ~lana 32, Zakona o lokalnoj samoupravi (\"Slu`beni glasnik RS\", broj 129/2007 i 83/2014 - dr. zakon) i ~lana 35. Statuta op{tine Bujanovac (\"Slu`beni glasnik P~iwskog okruga\", broj 24/2008) Skup{tina op{tine Bujanovac na sednici odr`anoj dana 21.12.2017. godine, donela je "]
[]
[]
[]
[]
["O    D    L    U    K    U"]
["O БУЏЕТУ OP[TINE BUJANOVAC ZA 2018. GODINU"]
[]
[" I OP[TI DEO"]
[]
["^lan 1."]
[]
["      Prihodi i primawa, rashodi i izdaci buxeta op{tine Bujanovac za 2018. (u daqem tekstu: buxet), sastoje se od :"]
[]
["А. РАЧУН ПРИХОДА И ПРИМАЊА, РАСХОДА И ИЗДАТАКА"]
["1. Укупани приходи и примања од продаје нефинансијске имовине",null,null,null,null,null,null,null,null,null,{"$f":"K18+K22","v":1160500000}]
["1.1. TEKUЋI PRIHODI u ~emu",null,null,null,null,null,null,null,null,null,{"$f":"K19+K20+K21","v":1160200000}]
["          - буџетска средства",null,null,null,null,null,null,null,null,null,1160200000]
["          - сопствени приходи"]
["          - донације"]
["1.2. ПРИМАЊА ОД ПРОДАЈЕ НЕФИНАНСИЈСКЕ ИМОВИНЕ",null,null,null,null,null,null,null,null,null,300000]
["2. Укупни расходи и иzдаци zа набавку нефинансијске имовине ",null,null,null,null,null,null,null,null,null,{"$f":"K24","v":1164500000}]
["2.1. ТЕКУЋИ РАСХОДИ у чему:",null,null,null,null,null,null,null,null,null,{"$f":"K25+K26+K27","v":1164500000}]
["          - текући буџетски расходи",null,null,null,null,null,null,null,null,null,{"$f":"H202","v":829804000}]
["          - расходи из сопствених прихода",null,null,null,null,null,null,null,null,null,{"$f":"J202","v":334696000}]
["          - доnacije, dotacije i transferi"]
["БУЏЕТСКИ СУФИЦИТ/ДЕФИЦИТ",null,null,null,null,null,null,null,null,null,{"$f":"K17-K23","v":-4000000}]
["Издаци за набавку финансијске имовине (у циљу спровођења јавних политика)"]
["УКУПАН ФИСКАЛНИ СУФИЦИТ/ДЕФИЦИТ",null,null,null,null,null,null,null,null,null,{"$f":"K28","v":-4000000}]
["БУЏЕТСКИ СУФИЦИТ/ДЕФИЦИТ",null,null,null,null,null,null,null,null,null,{"$f":"K30","v":-4000000}]
["Б. РАЧУН ФИНАНСИРАЊА"]
["Примања од продаје финансијске имовине"]
["Примања од заду`ивања"]
["Неутрошена средства из предходних година",null,null,null,null,null,null,null,null,null,4000000]
["Издаци за отплату главнице дуга"]
["НЕТО ФИНАНСИРАЊЕ"]
[]
["Приходи и примања, расходи и издаци буџета утврђени су у следећим износима"]
[]
["ОПИС",null,null,null,null,null,null,"Економска класификација",null,null,"Износ у динарима"]
[]
[1,null,null,null,null,null,null,2,null,null,3]
["УКУПНИ ПРИХОДИ И ПРИМАЊА ОД ПРОДАЈЕ НЕФИНАНСИЈСКЕ ИМОВИНЕ",null,null,null,null,null,null,null,null,null,{"$f":"K46+K58+K62+K63+K61","v":1160500000}]
[]
["1. Порески приходи",null,null,null,null,null,null,71,null,null,349450000]
["          1.1. Порез на доходак, добит и капиталне добиткa (осим  самодоприноса)",null,null,null,null,null,null,711,null,null,231650000]
["          1.2. Самодопринос",null,null,null,null,null,null,711180]
["          1.3. Порез на имовину",null,null,null,null,null,null,713,null,null,65650000]
["          1.4. Остали порески приходи",null,null,null,null,null,null,null,null,null,52150000]
[]
[]
[]
[]
["ОПИС",null,null,null,null,null,null,"Економска класификација",null,null,"Износ у динарима"]
[]
[1,null,null,null,null,null,null,2,null,null,3]
["2. Непорески приходи, у чему:",null,null,null,null,null,null,74,null,null,65550000]
["поједине врсте накнада са одређеном наменом (наменски приходи)"]
["приходи од продаје добара и услуга"]
["3. Донације",null,null,null,null,null,null,"731 + 732"]
["4. Трансфери",null,null,null,null,null,null,733,null,null,745200000]
["5. Примања од продаје нефинансијске имовине",null,null,null,null,null,null,8,null,null,300000]
["УКУПНИ РАСХОДИ И ИЗДАЦИ ЗА НАБАВКУ НЕФИНАНСИЈСКЕ И ФИНАНСИЈСКЕ ИМОВИНЕ",null,null,null,null,null,null,null,null,null,{"$f":"K65+K73","v":1164500000}]
["1. Текући расходи",null,null,null,null,null,null,4,null,null,{"$f":"K66+K67+K68+K69+K70+K71+K72","v":786526000}]
["          1.1. Расходи за запослене",null,null,null,null,null,null,41,null,null,{"$f":"L171","v":270691900}]
["          1.2. Коришћење роба и услуга",null,null,null,null,null,null,42,null,null,{"$f":"L178","v":210074500}]
["          1.3. Отплата камата",null,null,null,null,null,null,44]
["          1.4. Субвенције",null,null,null,null,null,null,45,null,null,{"$f":"L181","v":65000000}]
["          1.5. Социјална заштита из буџета",null,null,null,null,null,null,47,null,null,{"$f":"L187","v":23924000}]
["          1.6. Остали расходи, у чему: средства резерви",null,null,null,null,null,null,"48 + 49",null,null,{"$f":"L192+L194","v":55265000}]
["2. Трасфери",null,null,null,null,null,null,46,null,null,{"$f":"L185","v":161570600}]
["3. Издаци за набавку нефинансијске имовине",null,null,null,null,null,null,5,null,null,{"$f":"L201","v":377974000}]
["4. Издаци за набавку финансијске имовине (осим 6211)",null,null,null,null,null,null,62]
["ПРИМАЊА ОД ПРОДАЈЕ ФИНАНСИЈСКЕ ИМОВИНЕ И ЗАДУЖИВАЊА",null,null,null,null,null,null,null,null,null,0]
["1. Примања по основу отплате кредита и продаје финансијске имовине",null,null,null,null,null,null,92]
["2. Заду`ивање",null,null,null,null,null,null,91,null,null,0]
["          2.1. Заду`ивање код домаћих  кредитора",null,null,null,null,null,null,911]
["          2.2. Заду`ивање код страних кредитора",null,null,null,null,null,null,912]
["ОТПЛАТА ДУГА И НАБАВКА ФИНАНСИЈСКЕ ИМОВИНЕ"]
["3. Отплата дуга",null,null,null,null,null,null,61,null,null,0]
["          3.1. Отплата дуга домаћим кредиторима",null,null,null,null,null,null,611]
["          3.2. Отплата дуга страним кредиторима",null,null,null,null,null,null,612]
["          3.3. Отплата дуга по гаранцијама",null,null,null,null,null,null,613]
["4. Набавка финансијске имовине",null,null,null,null,null,null,6211]
[]
["НЕРАСПОРЕЂЕНИ ВИШАК ПРИХОДА ИЗ РАНИЈИХ ГОДИНА (класа 3, извор финансирања 13)"]
[]
["НЕУТРОШЕНА СРЕДСТАВА ОД ПРИВАТИЗАЦИЈЕ ИЗ ПРЕТХОДНИХ ГОДИНА (класа 3, извор финансирања 14)"]
[]
["Члан 2."]
[]
["   Teku}i prihodi i primawa од продаје нефинансијске имовине са пренетим средствима из претходне године buxeta op{tine Bujanovac utvr|eni su u iznosu od 1.164.500.000,00 dinara (tabela po vrstama prihoda i primawa nalazi se u prilogu  Odluke o buxetu za 2018. godinu (1-3)):"]
[]
[]
[]
[]
[]
[]
[]
[]
[]
[]
[]
[]
[]
[]
[]
[]
[]
[]
[]
[]
[]
[]
[]
[]
[]
[]
[]
[]
[]
[]
[]
[]
[]
[]
[]
[]
[]
[]
[]
[]
[]
[]
[]
[]
[]
[]
[]
[]
[]
[]
[]
[]
[]
[]
[]
[]
[]
[]
[]
[]
[]
[]
[]
[]
["Члан 3."]
[]
["Издаци буџета по osnovnim наменама утврђени су i raspore|eni u 2018. godini u следећим износима:"]
[]
["еко.клас.",null,null,"ОПИС",null,null,null,"Средства из буџета",null,"Sredstva iz Republike",null,"Укупно"]
[1,null,null,2,null,null,null,3,null,4,null,5]
[400,null,null,"TEKU]I RASHODI",null,null,null,{"$f":"H171+H178+H181+H185+H187+H192+H194","v":740710000},null,{"$f":"J171+J178+J181+J185+J187+J192+J194","v":45816000},null,{"$f":"L171+L178+L181+L185+L187+L192+L194","v":786526000}]
[411,null,null,"Плате, додаци и накнаде запосленима",null,null,null,212210000,null,null,null,{"$f":"H165+J165","v":212210000},null,{"$f":"H165+#REF!","v":{"$error":"#REF!"}}]
[412,null,null,"Социјални доприноси на терет послодавца",null,null,null,37916900,null,null,null,{"$f":"H166+J166","v":37916900},null,{"$f":"H166+#REF!","v":{"$error":"#REF!"}}]
[413,null,null,"Накнаде у натури",null,null,null,10000,null,null,null,10000,null,{"$f":"H167+J167","v":10000}]
[414,null,null,"Социјана давања запосленима",null,null,null,10084000,null,null,null,10084000,null,{"$f":"H168+#REF!","v":{"$error":"#REF!"}}]
[415,null,null,"Накнаде трошкова за запослене",null,null,null,8083000,null,null,null,8083000,null,{"$f":"H169+#REF!","v":{"$error":"#REF!"}}]
[416,null,null,"Награде, бонуси и остали пословни расхода",null,null,null,2388000,null,null,null,2388000,null,{"$f":"H170+#REF!","v":{"$error":"#REF!"}}]
[410,null,null,"РАСХОДИ ЗА ЗАПОСЛЕНЕ",null,null,null,{"$f":"H165+H166+H167+H168+H169+H170","v":270691900},null,{"$f":"J165+J166+K167+J168+J169+J170","v":0},null,{"$f":"L165+L166+L167+L168+L169+L170","v":270691900},null,{"$f":"N165+N166+N167+N168+N169+N170+#REF!","v":{"$error":"#REF!"}}]
[421,null,null,"Стални трошкови",null,null,null,{"$f":"44912000-200000","v":44712000},null,null,null,44712000,null,{"$f":"H172+#REF!+J172","v":{"$error":"#REF!"}}]
[422,null,null,"Трошкови путовања",null,null,null,2812000,null,null,null,2812000,null,{"$f":"H173+#REF!+J173","v":{"$error":"#REF!"}}]
[423,null,null,"Услуге по уговору",null,null,null,{"$f":"49480500+9362000","v":58842500},null,{"$f":"3000000+6520000","v":9520000},null,68362500,null,{"$f":"H174+#REF!+J174","v":{"$error":"#REF!"}}]
[424,null,null,"Специјализоване услуге",null,null,null,11310000,null,null,null,11310000,null,{"$f":"H175+#REF!+J175","v":{"$error":"#REF!"}}]
[425,null,null,"Текуће поправке и  одржавање",null,null,null,{"$f":"13130000+21205000-200000","v":34135000},null,{"$f":"25120000+4000000","v":29120000},null,63255000,null,{"$f":"H176+#REF!+J176","v":{"$error":"#REF!"}}]
[426,null,null,"Материјал",null,null,null,{"$f":"20423000-800000","v":19623000},null,null,null,19623000,null,{"$f":"H177+#REF!+J177","v":{"$error":"#REF!"}}]
[420,null,null,"КОРИШЋЕЊЕ УСЛУГА И РОБА",null,null,null,{"$f":"H172+H173+H174+H175+H176+H177","v":171434500},null,{"$f":"J172+J173+J174+J175+J176+J177","v":38640000},null,{"$f":"L172+L173+L174+L175+L176+L177","v":210074500},null,{"$f":"N172+N173+N174+N175+N176+N177","v":{"$error":"#REF!"}}]
[451,null,null,"Subvencije",null,null,null,{"$f":"25000000+25000000","v":50000000},null,null,null,50000000,null,{"$f":"L179","v":50000000}]
[454,null,null,"Subvencije privatnim preduze|ima",null,null,null,15000000,null,null,null,15000000]
[450,null,null,"SUBVENCIJE",null,null,null,{"$f":"H179+H180","v":65000000},null,{"$f":"K179","v":0},null,{"$f":"L179+L180","v":65000000}]
[463,null,null,"Transferi osltalim nivoima vlasti",null,null,null,{"$f":"95968400+25085000-1500000","v":119553400},null,null,null,119553400,null,{"$f":"H182+J182+K182","v":119553400}]
[464,null,null,"Dotacije organizacijama obaveznog soc.osigurawa",null,null,null,18700000,null,null,null,18700000,null,{"$f":"H183+J183+K183","v":18700000}]
[465,null,null,"Ostale teku}e doacije po zakonu",null,null,null,23317200,null,null,null,23317200,null,{"$f":"H184+#REF!+J184","v":{"$error":"#REF!"}}]
[460,null,null,"DONACIJE, DOTACIJE I TRANSFERI",null,null,null,{"$f":"H182+H184+H183","v":161570600},null,{"$f":"K182+J184","v":0},null,{"$f":"L182+L184+L183","v":161570600},null,{"$f":"N182+N183+N184","v":{"$error":"#REF!"}}]
[472,null,null,"Naknade za socijalnu za{titu iz buxeta",null,null,null,{"$f":"13200000+3548000","v":16748000},null,{"$f":"6696000+480000","v":7176000},null,{"$f":"K186+J186+H186","v":23924000},null,{"$f":"H186+K186","v":16748000}]
[470,null,null,"СОЦИЈАЛНО ОСИГУРАЊЕ И СОЦИЈАЛНА ЗАШ.",null,null,null,{"$f":"H186","v":16748000},null,{"$f":"J186","v":7176000},null,{"$f":"L186","v":23924000}]
[481,null,null,"Дотације невладиним организацијама",null,null,null,{"$f":"24330000+3530000","v":27860000},null,null,null,{"$f":"K188+J188+H188","v":27860000},null,{"$f":"H188","v":27860000}]
[482,null,null,"Порези , обавезне таксе и казне",null,null,null,885000,null,null,null,885000,null,{"$f":"H189+#REF!","v":{"$error":"#REF!"}}]
[483,null,null,"Нов~ане казне и пенали по решењу судова",null,null,null,{"$f":"3320000+10200000","v":13520000},null,null,null,13520000,null,{"$f":"H190","v":13520000}]
[485,null,null,"Накнада штете за неискоришћен годишњи одмор",null,null,null,{"$f":"1000000","v":1000000},null,null,null,1000000]
[480,null,null,"ОСТАЛИ РАСХОДИ",null,null,null,{"$f":"H188+H189+H190+H191","v":43265000},null,{"$f":"K188+J189+J190+K191","v":0},null,{"$f":"L188+L189+L190+L191","v":43265000},null,{"$f":"N188+N189+N190","v":{"$error":"#REF!"}}]
[499,null,null,"Sredstva rezerve",null,null,null,{"$f":"10000000+500000+1500000","v":12000000},null,null,null,12000000]
[490,null,null,"СРЕДСТВА РЕЗЕРВИ",null,null,null,{"$f":"H193","v":12000000},null,{"$f":"K193","v":0},null,{"$f":"L193","v":12000000},null,{"$f":"L192+L194","v":55265000}]
[null,null,null,null,null,null,null,null,null,null,null,0]
[500,null,null,"KAPITALNI IZDACI",null,null,null,{"$f":"H201","v":89094000},null,{"$f":"J201","v":288880000},null,{"$f":"L201","v":377974000}]
[511,null,null,"Зграде и грађевински објекти",null,null,null,{"$f":"480000+77394000+400000+800000","v":79074000},null,275480000,null,354554000,null,{"$f":"H197+#REF!+J197","v":{"$error":"#REF!"}}]
[512,null,null,"Машине и опрема",null,null,null,{"$f":"7320000+1000000","v":8320000},null,13400000,null,21720000,null,{"$f":"H198+#REF!+J198","v":{"$error":"#REF!"}}]
[515,null,null,"Нематеријална имовина",null,null,null,700000,null,null,null,700000,null,{"$f":"H199","v":700000}]
[541,null,null,"Набавка земљишта",null,null,null,1000000,null,null,null,1000000]
[510,null,null,"ОСНОВНА СРЕДСТВА",null,null,null,{"$f":"H197+H198+H199+H200","v":89094000},null,{"$f":"J197+J198+J199+J200","v":288880000},null,{"$f":"L197+L198+L199+L200","v":377974000},null,{"$f":"N197+N198+N199","v":{"$error":"#REF!"}}]
[null,null,null,"У К У П Н I  JAVNI RASHODI",null,null,null,{"$f":"H164+H201","v":829804000},null,{"$f":"J164+J201","v":334696000},null,{"$f":"L164+L201","v":1164500000},{"$f":"M201+M194+M192+M187+M185+M181+M178+M171","v":0}]
[]
[]
[]
[]
[]
[]
["Члан 4."]
["     Rashodi i izdaci iz ~lana 1 ove odluke koriste se za slede}e programe:"]
[]
[null,"NAZIV PROGRAMA",null,null,null,null,null,null,"IZNOS",null,null,"Struktura %"]
[null,"Program 1: Урбанизам i prostorno planirawe",null,null,null,null,null,null,{"$f":"Програми!B7","v":15960000},null,null,{"$f":"I213/I229*100","v":1.3705452984113353}]
[null,"Program 2: Komunalnе delatnostи",null,null,null,null,null,null,{"$f":"Програми!B8","v":56950000},null,null,{"$f":"I214/I229*100","v":4.8905109489051091}]
[null,"Program 3: Lokalni економски razvoj",null,null,null,null,null,null,{"$f":"Програми!B9","v":35000000},null,null,{"$f":"I215/I229*100","v":3.0055817947617003}]
[null,"Program 4: Razvoj turizma",null,null,null,null,null,null,{"$f":"Програми!B10","v":8000000},null,null,{"$f":"I216/I229*100","v":0.68699012451696007}]
[null,"Program 5: Razvoj poqoprivrede",null,null,null,null,null,null,{"$f":"Програми!B11","v":22400000},null,null,{"$f":"I217/I229*100","v":1.9235723486474881}]
[null,"Program 6: Za{tita `ivotne sredine",null,null,null,null,null,null,{"$f":"Програми!B12","v":45180000},null,null,{"$f":"I218/I229*100","v":3.8797767282095323}]
[null,"Program 7:  Организација саобраћаја и саобраћајна инфраструктура",null,null,null,null,null,null,{"$f":"Програми!B13","v":174809000},null,null,{"$f":"I219/I229*100","v":15.011507084585659}]
[null,"Program 8: Pred{kolsko vaspitawe",null,null,null,null,null,null,{"$f":"Програми!B14","v":108246000},null,null,{"$f":"I220/I229*100","v":9.2954916273078574}]
[null,"Program 9: Osnovno obrazovawe",null,null,null,null,null,null,{"$f":"Програми!B15","v":270881700},null,null,{"$f":"I221/I229*100","v":23.261631601545727}]
[null,"Program 10: Sredwe obrazovawe",null,null,null,null,null,null,{"$f":"Програми!B16","v":42867700},null,null,{"$f":"I222/I229*100","v":3.6812108200944613}]
[null,"Program 11: Socijalna i de~ja za{tita",null,null,null,null,null,null,{"$f":"Програми!B17","v":20900000},null,null,{"$f":"I223/I229*100","v":1.794761700300558}]
[null,"Program 12: Зdravstvena za{tita",null,null,null,null,null,null,{"$f":"Програми!B18","v":19250000},null,null,{"$f":"I224/I229*100","v":1.6530699871189354}]
[null,"Program 13: Razvoj kulture",null,null,null,null,null,null,{"$f":"Програми!B19","v":52745100},null,null,{"$f":"I225/I229*100","v":4.5294203520824388}]
[null,"Program 14: Razvoj sporta i omladine",null,null,null,null,null,null,{"$f":"Програми!B20","v":31696700},null,null,{"$f":"I226/I229*100","v":2.7219149849720909}]
[null,"Program 15: Lokalna samouprava",null,null,null,null,null,null,{"$f":"Програми!B21","v":221450200},null,null,{"$f":"I227/I229*100","v":19.016762559038213}]
[null,"Програм 16: Политички систем локалне самоуправе",null,null,null,null,null,null,{"$f":"Програми!B22","v":38163600},null,null,{"$f":"I228/I229*100","v":3.2772520395019322}]
[null,"UKUPNO ZA PROGRAM OD 1-16",null,null,null,null,null,null,{"$f":"SUM(I213:K228)","v":1164500000}]
[]
[]
[]
[]
[]
[]
[]
[]
[]
[]
[]
[]
[]
[]
[]
[]
[]
[]
[]
[]
[]
[]
[]
[]
[]
[]
[]
[]
[]
[]
[]
[]
[]
[]
["III ИЗВРШЕЊЕ БУЏЕТА"]
[]
["Члан 8."]
["         У складу са Законом о начину одређивања максималног броја запослених у јавном сектору (\"Службени гласник РС\", број 68/2015 i 81/2016 - odluka US), i Odluke SO Bujanovac o odreђивању максималног броја запослених на неодређено време за сваки организациони облик у систему локалне самоуправе општине Бујановац за 2017. годину број 02-96/17 од 30.11.2017. године, број запослених код корисника буџета не може прећи максималан број запослених на неодређено и одређено време, и то:"]
[]
[]
[null,null,null,null,null,null,null,null,null,null,null,null,"??????"]
[null,null,165,null,"zaposleni u lokalnoj општинској управи na neodre|eno vreme;"]
[null,null,17,null,"zaposleni u lokalnoj општинској управи na odre|eno vreme;"]
[null,null,82,null,"zaposleni u pred{kolskој ustanovи \"Наша Радост\" na neodre|eno vreme;"]
[null,null,null,null,"zaposleni u pred{kolskој ustanovи \"Наша Радост\" na odre|eno vreme;"]
[null,null,16,null,"запослени у Дому културе \"Вук Караџић\" Бујановац на неодређено време;"]
[null,null,2,null,"запослени у Дому културе \"Вук Караџић\" Бујановац на одређено време;"]
[null,null,14,null,"запослени у Библиотеци \"14. новембар\"Бујановац на неодређено време;"]
[null,null,1,null,"запослени у Библиотеци \"14. новембар\"Бујановац на одређено време;"]
[null,null,18,null,"запослени у СЦ \"Младост\" Бујановац на неодређено време;"]
[null,null,1,null,"запослени у СЦ \"Младост\" Бујановац на одређено време;"]
[null,null,6,null,"запослени у Туристичкој организацији Бујановац на неодређено време;"]
[null,null,null,null,"запослени у Туристичкој организацији Бујановац на одређено време;"]
[]
["          U ovoj odluci o buxetu sredstva za plate se obezbe|uju za broj zaposlenih iz stava 1. ovog ~lana."]
[]
["Члан 9."]
["          За извршавање ове Одлуке одговоран је председник општине."]
["          Наредбодавац за извршење буџета је председник општине."]
[]
["Члан 10."]
["          Наредбодавац диретних и индиректних коriсника буџетских средстава је функционер (руководилац), односно лице које је одговорно за управљање средствима, преузимање обавеза, издавање налога за пла}ање који се извршавају из средстава органа као и издавање налога за уплату средстава која припадају буџету."]
[]
[]
["Члан 11."]
["          За законито и наменско коришћење средстава распоређених овом Одлуком, поред функционера односно руководиоца директних и индиректних корисника буџетских средстава, одговоран је начелник општинске управе."]
[]
[]
["Члан 12."]
["          Орган управе надлежан за финансије обавезан је да редовно прати извршење буџета и најмање два пута годишње информише председника општине (општинско веће), а обавезно у року од петнаест дана по истеку шестомесечног, односно деветомесечног периода."]
["          У року од петнаест дана по подношењу извештаја из става 1. овог члана општинско веће усваја и доставља извештај Скупштини општине. "]
["          Извештај садржи и одступања између усвојеног буџета и извршења и образложење великих одступања."]
[]
["Члан 13."]
["          Одлуку о промени апропијације из општих прихода буџета и преносу апропијације у текућу буџетску резерву, у складу са чланом 61. Закона о буџетском систему доноси општинско веће."]
[]
["Члан 14."]
["          Решење о употреби текуће буџетске резерве и сталне буџетске резерве на предлог локалног органа управе надлежног за финансије доноси општинско веће."]
[]
["Члан 15."]
["          Одлуку о отварању буџетског фонда у складу са чланом 64. Закона о буџетском систему доноси општинско веће."]
[]
["Члан 16."]
["          Општинско веће одговорно је за спровођење фискалне политике и управљање јавном имовином, приходима и примањима и расходима и издацима на начин који је у складу са Законом о буџетском систему."]
[]
["Члан 17."]
["          Овлаш}ује се председник општине да, у складу са чланом 27ж Закона о буџетском систему, мо`е поднети захтев министраству надлежном за послове финансија за одобрење фискалног дефицита изнад утврђеног дефицита од 10%, уколико је резултат реалiзације јавних инвестиција."]
[]
["Члан 18."]
["          Новчана средства буџета општине, директних и индиректних корисника средстава тог буџета, као и други корисници јавних средстава који су укључени у консолидовни рачун трезора општине, воде се и депонују на консолидованом рачуну трезора."]
[]
["Члан 19."]
["          Распоред и коришћење средстава вршиће се у 2018. години по посебном акту (решење) које доноси председник општине, на предлог органа за финансије у оквиру следећих раздела:"]
["- Раздео 1: Скупштина општине"]
["- Раздео 2: Председник општине"]
["- Раздео 3: Општинско веће"]
["- Раздео 4: Правобранилаштво општине Бујановац"]
["- Раздео 5: Општинска управа."]
[]
["Члан 20."]
["          Обавезе које преузимају директни и индиректни корисници буџетских средстава морају одговарати апропијацији која им је за ту намену овом Одлуком одобрена и пренета. "]
["          Изузетно корисници из става 1. овог члана, у складу са чланом 54. Закона о буџетском систему, могу преузети обавезе по уговору који се односи на капиталне издатке и захтева плаћање у више година, на основу предлога органа надлежног за послове финансија, уз сагласност општинског већа, а највише до износа исказаних у плану капиталних издатака из члана 3. ове одлуке.\n          Корисници буџетских средстава су обавезни да пре покретања поступка јавне набавке за преузимање обавеза по уговору за капиталне пројекте прибаве сагласност органа надлежног за финансије.",null,null,null,null,null,null,null,null,null,null,null,"   "]
["          Корисник буџетских средстава, који одређени расход извршава из средства буџета и из других прихода, обавезан је да измирење тог расхода прво врши из прихода из тих других извора."]
["          Обавезе преузете у 2018. години  у складу са одобреним апропијацијама у тој години, а не извршене у току 2018. године, преносе се у 2019. годину и имају статус преузетих обавеза и извршавају се на терет одобрених апропијација овом одлуком."]
[]
["Члан 21."]
["          Преузете обавезе и све финансијске обавезе морају бити извршене искључиво на принципу готовинске основе са konsolidovanog ra~una trezora , осим ako je zakonom, odnosno aktom Vlade predvi|en druga~iji metod."]
[]
["Члан 22."]
["          Korisnici buxetskih sredstava preuzimaju obaveze samo на оsnovu pisanog ugovora ili drugog pravnog akta, ukoliko zakonom nije druga}ije propisano."]
["          Плаћање из буџета неће се извршити уколико нису поштоване процедуре утврђене чланом 56. став 3. Закона о буџетском систему."]
[]
["Члан 23."]
["          Корисници буџетских средстава приликом додељивања уговора о набавци добара, пружању услуга или извођењу грађевинских радова, морају да поступе у складу са Zakonom o javnim nabavkama (''Slu`beni glasnik RS'', broj 124/2012, 14/2015 i 68/2015). Javna nabavka male vreдnosti, u smislu ~lana 39. Zakona o javnim nabavkama smatra se nabavka istovrsnih dobara, usluga ili radova ~ija je ukupna procewena vrednost na godi{wem nivou ni`a od 5.000.000,00 dinara."]
[]
["Члан 24."]
["          Обавезе према корисницима буџетских средстава извршавају се сразмерно оствареним примањима буџета. Ако се у току годинe primawa смање, издаци буџета извршаваће се по приоритетима, и то: обавезе утврђене законским прописима на постојећем нивоу и минимални стални трошкови неопходни за несметано функционисање корисника буџетских средстава."]
[]
["Члан 25."]
["          Средства распоређена за финансирање расхода и издатака корисника буџета, преносе се на основу њиховог захтева и у складу са одобреним квотама у тромесечним плановима буџета."]
["          Уз захтев, корисници су дужни да доставе комплетну документацију за плаћање (копије)."]
[]
["Члан 26."]
["          Новчана средства на консолидованом рачуну трезора могу се инвестирати у 2018. години само у складу са чланом 10. Закона о буџетском систему, при чему су, у складу сa истим чланом Закона, председник општине, односно лице које он овласти, одговорни за ефикасност и сигурност тог инвестирања."]
[]
["Члан 27."]
["          Општинско веће донеће програм рационализације којим ће обухватити све кориснике јавних средстава, укључујући и одређене критеријуме за извршење тог програма, и о томе обавестити скупштину општине."]
["          Корисник буџетских средстава не може, без предходне сагласности председника општине, засновати радни однос са новим лицима до краја 2018. године, уколико средства потребна за исплату плата тих лица нису обезбеђена у оквиру износа средстава која су , у складу са овом одлуком, предвиђена за плате том буџетском кориснику и програмом рационализације из става 1. овог члана."]
["Члан 28."]
["          Директни и индиректни корисници буџетских средстава u 2018. godini oba~unatu ispravku vrednosti nefinasijske imovine iskazuju na teret kapitala, odnosno ne iskazuju rashod amortizacije i upotrebe sredstava za rad."]
["Члан 29."]
["          За финансирање дефицита текуће ликvидности, који може да настане услед неуравнотежености кретања у приходима и расходима буџета, председник општине може се задужити у складу са одредбама члана 35. Закона о јавном дугу (\"Службени гласник РС\", број 61/2005, 107/2009, 78/2011 и 68/2015)."]
[]
["Члан 30."]
["          Корисници буџетских средстава пренеће на рачун извршења буџета до 31. децембра 2017. године, средства која нису утрошена за финансирање расхода у 2017. години, која су овим корисницима пренета у складу са Одлуком о буџету општине Бујановац за 2017. годину."]
[]
[]
["Члан 31."]
["          Изузетно, у случају да се буџету општине Бујановац из другог буџета (Републике, Покрајине, друге општине) определе актом наменска средства, укључујући и наменска трансферна средства за надокнаду штета услед елементарних непогода, као и у случају уговарања донације, чији износи нису могли бити познати у поступку доношења ове одлуке, орган управе надлежан за финансије на основу тог акта отвара одговарајуће апропијације за извршење расхода по том основу, у складу са чланом 5. Закона о буџетском систему."]
[]
["Члан 32."]
["          Плаћање са консолидованог рачуна трезора за реализацију обавеза других корисника јавних средстава, у смислу Закона о буџетском систему који су укључени у систем консолидованог рачуна трезора, неће се вршити уколико ови корисници нису добили сагласност на финансијски план на начин прописан законом, односно актом Скупштине општине и уколико тај план нису доставили Управи за трезор."]
[]
["Члан 33."]
["          U buxetskoj 2018.godini ne}e se vr{iti obra~un i isplata bo`i}nih, godi{wih i drugih vrsta naknada i bonusa predvi|enih posebnim i pojedina~nim kolektivnim ugovorima, za direktne i indirektne korisnike, sredstava buxeta, osim jubilarnih nagrada za zaposlene koje su to pravo stekli u 2018. godini."]
[]
[]
[]
["Такође у 2018. години не могу се исплаћивати запосленима код директних и индиректних корисника буџетских средстава локалне власти награде и бонуси који према међународним критеријумима представљају нестандардне, односно нетранспарентне облике награда и бонуса."]
["Члан 34."]
["          Korisnik buxetskih sredstava, koji odre|eni rashod i izdatak izvr{ava iz drugih izvora prihoda i primawa, koji nisu op{ti prihod buxeta (izvor O1-prihodi iz buxeta), obaveze mo`e preuzimati samo do nivoa ostvarewa tih prihoda ili primawa, ukoliko je nivo ostvarenih prihoda i primawa mawi od odobrenih aproprijacija."]
[]
[]
[]
["          Korisnik buxetskih sredstava, kod koga u toku godine do|e do umawewa odobrenih aproprijacija iz razloga izvr{ewa prinudne naplate, za iznos umawewa preuze}e odgovaрaju}e mere u ciqu prilago|avawa preuzete obaveze, tako {to }e predlo`iti umawewe obaveze, odnosno produ`ewe ugovornog roka za plaћawe ili otkazati ugovor."]
[]
[]
[]
["Члан 35."]
["          Prioritet u izvr{avawu rashoda za robe i usluge korisnika buxetskih sredstava imaju rashodi za stalne tro{kove, tro{kovi teku}ih popravki i odr`avawa i materijal. "]
[]
["          Korisnici buxetskih sredstava du`ni su da obaveze nastale po osnovu stalnih tro{kova, tro{kova teku}ih popravki i odr`avawa, materijala, kao i po osnovu kapitalnih izdataka izmire u roku utvr|enom zakonom koji reguli{e rokove izmirewa novanih obaveza u komercijalnim transakcijama,"]
[]
[]
[]
[]
["Члан 36."]
["          Ovu odluku objaviti u  \"Службеном гласнику op{tine Bujanovac\", интернет страници општине i dostaviti ministarstvu nadle`nom za poslove finansija."]
[]
["Члан 37."]
["  Ova odluka stupa na snagu osmog dana od dana objavqivawa u \"Службеном гласнику op{tine Bujanovac\", "]
[" a primewiva}e se od 01.01.2018. godine"]
[]
["СКУПШТИНА ОПШТИНЕ БУЈАНОВАЦ"]
[]
[]
["Broj: ",null,null,null,null,null,null,null,null,null,"Zamenik predsednika,"]
[]
[null,null,null,null,null,null,null,null,null,null,"Basri Veseli"]

{"sheet":"Функ.клас","index":10,"n_rows":65,"n_cols":12,"rows_kept":65,"cut":false,"hidden":false,"merged":[[1,0,1,5],[2,0,2,5],[59,0,59,5],[61,0,61,5],[64,0,67,5]]}
[]
["^lan  5."]
["       Izdaci buxeta, po funkcionalnoj klasifikaciji, utvr|eni su i raspore|eni u slede}im iznosima:"]
[]
["Функције","Функционална класификација","Средства из буџета","Структура %","Средства из осталих извора","Укупна средства"]
[1,2,3,4,5,6]
["000","СОЦИЈАЛНА ЗАШТИТА",{"$f":"SUBTOTAL(9,C8:C9)","v":16400000},{"$f":"C7/$C$57*100","v":1.9763703235944876},null,{"$f":"SUBTOTAL(9,F8:F9)","v":26400000}]
["070","Социјална помоћ угроженом становништву, некласификована на другом месту",7100000,0.85562373765371103,6000000,{"$f":"C8+E8","v":13100000}]
["090","Социјална заштита некласификована на другом месту",{"$f":"7800000+1500000","v":9300000},1.1207465859407764,4000000,{"$f":"C9+E9","v":13300000}]
["100","ОПШТЕ ЈАВНЕ УСЛУГЕ",{"$f":"SUBTOTAL(9,C11:C14)","v":254841600},30.711059479105906,null,{"$f":"SUBTOTAL(9,F11:F14)","v":254841600}]
["110","Извршни законодавни органи, финансијски и фискални послови и спољни послови",{"$f":"SUBTOTAL(9,C12)","v":38163600},4.5991101513128401,{"$f":"SUBTOTAL(9,E12)","v":0},{"$f":"SUBTOTAL(9,F12)","v":38163600}]
["111","Извршни и законодавни органи",38163600,4.5991101513128401,null,{"$f":"C12+E12","v":38163600}]
["130","Опште услуге",{"$f":"202515000-400000-800000","v":201315000},24.260548274050258,null,{"$f":"C13+E13","v":201315000},null,null,null,100]
["160","Опште јавне услуге некласификоване на другом месту",15363000,1.8514010537428116,null,{"$f":"C14+E14","v":15363000}]
["300","ЈАВНИ РЕД И БЕЗБЕДНОСТ",{"$f":"SUBTOTAL(9,C16)","v":5472200},0.65945693199839961,null,{"$f":"SUBTOTAL(9,F16)","v":5472200}]
["330","Судови",5472200,0.65945693199839961,null,{"$f":"C16+E16","v":5472200},null,null,null,null,null,762961000]
["400","ЕКОНОМСКИ ПОСЛОВИ",{"$f":"SUBTOTAL(9,C18:C25)","v":158289000},19.07546842386877,null,{"$f":"SUBTOTAL(9,F18:F25)","v":240209000}]
["410","Општи економски и комерцијални послови и послови по питању рада",{"$f":"SUBTOTAL(9,C19)","v":35000000},4.2178634954760401,{"$f":"SUBTOTAL(9,E19)","v":0},{"$f":"SUBTOTAL(9,F19)","v":35000000}]
["411","Општи економски и комерцијални послови",35000000,4.2178634954760401,null,{"$f":"C19+E19","v":35000000}]
["420","Пољопривреда, шумарство, лов и риболов",{"$f":"SUBTOTAL(9,C21)","v":22400000},2.6994326371046657,{"$f":"SUBTOTAL(9,E21)","v":0},{"$f":"SUBTOTAL(9,F21)","v":22400000}]
["421","Пољопривреда",22400000,2.6994326371046657,null,{"$f":"C21+E21","v":22400000}]
["450","Саобраћај",{"$f":"SUBTOTAL(9,C23)","v":92889000},11.194089206607826,{"$f":"SUBTOTAL(9,E23)","v":81920000},{"$f":"SUBTOTAL(9,F23)","v":174809000}]
["451","Друмски саобраћај",{"$f":"95989000+400000-1200000-2300000","v":92889000},11.194089206607826,81920000,{"$f":"C23+E23","v":174809000}]
["470","Остале делатности",{"$f":"SUBTOTAL(9,C25)","v":8000000},0.96408308468023773,{"$f":"SUBTOTAL(9,E25)","v":0},{"$f":"SUBTOTAL(9,F25)","v":8000000}]
["473","Туризам",8000000,0.96408308468023773,null,{"$f":"C25+E25","v":8000000}]
["500","ЗАШТИТА ЖИВОТНЕ СРЕДИНЕ",{"$f":"SUBTOTAL(9,C27:C28)","v":9100000},1.0966445088237704,null,{"$f":"SUBTOTAL(9,F27:F28)","v":45180000}]
["550","Заштита животне средине - истраживање и развој",{"$f":"2550000+2000000","v":4550000},0.5483222544118852,17680000,{"$f":"C27+E27","v":22230000}]
["560","Заштита животне средине некласификована на другом месту",{"$f":"2250000+2300000","v":4550000},0.5483222544118852,18400000,{"$f":"C28+E28","v":22950000}]
["600","ПОСЛОВИ СТАНОВАЊА И ЗАЈЕДНИЦЕ",{"$f":"SUBTOTAL(9,C30:C33)","v":66710000},8.039247822377332,null,{"$f":"SUBTOTAL(9,F30:F33)","v":66710000}]
["620","Развој заједнице",10960000,1.3207938260119256,null,{"$f":"C30+E30","v":10960000}]
["630","Водоснабдевање",25250000,3.0428872360220001,null,{"$f":"C31+E31","v":25250000}]
["640","Улична расвета",20500000,2.4704629044931092,null,{"$f":"C32+E32","v":20500000}]
["660","Послови становања и заједнице некласификоване на другом месту",10000000,1.2051038558502971,null,{"$f":"C33+E33","v":10000000}]
[]
[]
[]
[]
[]
["Функције","Функционална класификација","Средства из буџета","Структура %","Средства из осталих извора","Укупна средства"]
[1,2,3,4,5,6]
[]
["700","ЗДРАВСТВО",{"$f":"SUBTOTAL(9,C43:C44)","v":19250000},{"$f":"C42/$C$57*100","v":2.3198249225118222},{"$f":"SUBTOTAL(9,E43:E44)","v":0},{"$f":"SUBTOTAL(9,F43:F44)","v":19250000}]
["721","Опште медицинске услуге",400000,4.8204154234011892E-2,null,{"$f":"C43+E43","v":400000}]
["740","Услуге јавног здравства",18850000,2.2716207682778098,null,{"$f":"C44+E44","v":18850000}]
["800","РЕКРЕАЦИЈА, СПОРТ, КУЛТУРА И ВЕРЕ",{"$f":"SUBTOTAL(9,C46:C50)","v":84441800},10.176113877493963,{"$f":"SUBTOTAL(9,E46:E50)","v":0},{"$f":"SUBTOTAL(9,F46:F50)","v":84441800}]
["810","Услуге рекреације и спорта",31696700,3.8197815387730114,null,{"$f":"C46+E46","v":31696700}]
["820","Услуге културе",39915100,4.81018409166502,null,{"$f":"C47+E47","v":39915100}]
["830","Услуге емитовања и штампања",5000000,0.60255192792514856,null,{"$f":"C48+E48","v":5000000}]
["840","Verske i ostale usluge zajednice",2900000,0.3494801181965862,null,{"$f":"C49+E49","v":2900000}]
["860","Rekreacija, sport, kultura i vere, neklasifikovano na drugom mestu",4930000,0.59411620093419659,null,{"$f":"C50+E50","v":4930000}]
["900","ОБРАЗОВАЊЕ",{"$f":"SUBTOTAL(9,C52:C56)","v":215299400},25.945813710225547,{"$f":"SUBTOTAL(9,E52:E56)","v":206696000},421995400]
["910","Предшколско и основно образовање",{"$f":"SUBTOTAL(9,C53:C54)","v":170077700},20.496129206415009,{"$f":"SUBTOTAL(9,E53:E54)","v":200000000},{"$f":"SUBTOTAL(9,F53:F54)","v":370077700}]
["911","Предшколско образовање",108246000,13.044767198037126,null,{"$f":"C53++E53","v":108246000}]
["912","Основно образовање",61831700,7.451362008377882,200000000,{"$f":"C54+E54","v":261831700}]
["920","Средње образовање",23693700,2.8553369229360186,null,{"$f":"C55+E55","v":23693700}]
["960","Помоћне услуге образовању",{"$f":"23028000-1500000","v":21528000},2.5943475808745196,6696000,{"$f":"C56+E56","v":28224000}]
[null,"УКУПНО",{"$f":"SUBTOTAL(9,C7:C56)-3","v":829804000},100,{"$f":"SUBTOTAL(9,E7:E56)-5","v":334696000},{"$f":"SUBTOTAL(9,F7:F56)-6","v":1164500000}]
[]
[]
["II ПОСЕБАН ДЕО"]
[]
["^lan 6."]
[]
[]
["       Ukupni rashodi i izdaci, ukqu~uju}i rashode za otplatu glavnice duga, u iznosu od 1.164.500.000,00 динара, финансирани из свих извора финансирања распоређују се по корисницима и врстама издатака."]

{"sheet":"Програми","index":11,"n_rows":23,"n_cols":3,"rows_kept":23,"cut":false,"hidden":false,"merged":[[1,0,1,2]]}
[]
["Члан 4."]
[]
["Расходи и издаци из члана 1. ове одлуке користе се за следеће програме:"]
[]
["НАЗИВ ПРОГРАМА","ИЗНОС","СТРУКТУРА %"]
["Програм 1. Урбанизам и просторно планирање",{"$f":"Прог.актив.!F7","v":15960000},{"$f":"B7/$B$23","v":1.3705452984113353E-2}]
["Програм 2. Комунална делатност",{"$f":"Прог.актив.!F9","v":56950000},4.8905109489051093E-2]
["Програм 3. Локални економски развој",{"$f":"Прог.актив.!F15","v":35000000},3.0055817947617004E-2]
["Програм 4. Развој туризма",{"$f":"Прог.актив.!F18","v":8000000},6.8699012451696011E-3]
["Програм 5. Развој пољопривреде",{"$f":"Прог.актив.!F21","v":22400000},1.9235723486474881E-2]
["Програм 6. Заштита животне средине",{"$f":"Прог.актив.!F23","v":45180000},3.8797767282095323E-2]
["Програм 7. Организација саобраћаја и саобраћајна инфраструктура",{"$f":"Прог.актив.!F28","v":174809000},0.1501150708458566]
["Програм 8. Предшколско васпитање",{"$f":"Прог.актив.!F123","v":108246000},9.2954916273078572E-2]
["Програм 9. Основно образовање",{"$f":"Прог.актив.!F125","v":270881700},0.23261631601545726]
["Програм 10. Средње образовање",{"$f":"Прог.актив.!F127","v":42867700},3.6812108200944611E-2]
["Програм 11. Социјална и дечија заштита",{"$f":"Прог.актив.!F129","v":20900000},1.7947617003005581E-2]
["Програм 12. Примарна здравствена заштита",{"$f":"Прог.актив.!F135","v":19250000},1.6530699871189353E-2]
["Програм 13. Развој културе",{"$f":"Прог.актив.!F138","v":52745100},4.5294203520824389E-2]
["Програм 14. Развој спорта и омладине",{"$f":"Прог.актив.!F147","v":31696700},2.721914984972091E-2]
["Програм 15. Локална самоуправа",{"$f":"Прог.актив.!F152","v":221450200},0.19016762559038214]
["Програм 16: Политички систем локалне самоуправе",{"$f":"Прог.актив.!F160","v":38163600},3.2772520395019322E-2]
["UKUPNO ZA PROGRAM OD 1 DO 16:",{"$f":"SUBTOTAL(9,B7:B22)","v":1164500000}]

{"sheet":"Osn.skole","index":12,"n_rows":115,"n_cols":14,"rows_kept":115,"cut":false,"hidden":true,"merged":[[104,13,104,14]]}
[null,null,2002,null,null,null,null,null,null,null,null,{"$f":"H1+J1+K1","v":0}]
[null,null,"2002-0001",null,null,null,"Функционисање основних школа ",null,null,null,null,0]
[null,null,null,912,null,null,"Основно образовање",null,"rebalans 2017",2018,null,2018]
[null,null,null,null,null,null,"Основна школа ''Бранко Радичевић'' Бујановац",null,null,null,null,0]
[null,null,null,null,null,463,"Трансфер 421 Стални трошкови",8418000,8338800,8160000,{"$f":"H5-J5","v":258000},16836000]
[null,null,null,null,null,463,"Трансфер 422 Трошкови путовања",5975000,4769500,4821500,{"$f":"H6-J6","v":1153500},11950000]
[null,null,null,null,null,463,"Трансфер 423 Услуге по уговору",56000,8000,90000,-34000,112000]
[null,null,null,null,null,463,"Трансфер 424 Специјализоване услуге",17000,10200,{"$f":"186000-8000","v":178000},-161000,34000]
[null,null,null,null,null,463,"Трансфер 425 Текуће поправке и одржавање",307000,130000,240000,67000,614000]
[null,null,null,null,null,463,"Трансфер 426 Материјал",310000,300000,{"$f":"370000-70000","v":300000},10000,620000]
[null,null,null,null,null,null,"УКУПНО ЗА ГЛАВУ 19",{"$f":"SUBTOTAL(9,H5:H10)","v":15083000},{"$f":"SUBTOTAL(9,I5:I10)","v":13556500},{"$f":"SUBTOTAL(9,J5:J10)","v":13789500},{"$f":"SUBTOTAL(9,K5:K10)","v":1293500},30166000]
[null,null,null,null,null,null,null,null,null,null,null,{"$f":"H12+J12+K12","v":0}]
[null,null,null,912,null,null,"Основна школа ''Мухарем Кадриу'' Велики Трновац",null,null,null,null,0]
[null,null,null,null,null,463,"Трансфер 421 Стални трошкови",4250000,4759000,4760000,null,9010000,null,"zahtev za osiguranje 120000+110000"]
[null,null,null,null,null,463,"Трансфер 422 Трошкови путовања",1073500,1173500,1390000,null,2463500]
[null,null,null,null,null,463,"Трансфер 423 Услуге по уговору",200000,189300,200000,null,400000]
[null,null,null,null,null,463,"Трансфер 424 Специјализоване услуге",124000,74000,124000,null,248000]
[null,null,null,null,null,463,"Трансфер 425 Текуће поправке и одржавање",1780000,1391700,{"$f":"1650000-100000-158300+300","v":1392000},null,3172000]
[null,null,null,null,null,463,"Трансфер 426 Материјал",960000,820000,901000,null,1861000]
[null,null,null,null,null,"463","Трансфер 512 Машине и опрема"]
[null,null,null,null,null,null,"УКУПНО ЗА ГЛАВУ 20",{"$f":"SUBTOTAL(9,H14:H19)","v":8387500},{"$f":"SUBTOTAL(9,I14:I20)","v":8407500},{"$f":"SUBTOTAL(9,J14:J20)","v":8767000},{"$f":"SUBTOTAL(9,K14:K20)","v":0},17154500]
[null,null,null,null,null,null,null,null,null,null,null,{"$f":"H22+J22+K22","v":0}]
[null,null,null,912,null,null,"Основна школа ''Бора Станковић'' Кленике",null,null,null,null,0]
[null,null,null,null,null,463,"Трансфер 421 Стални трошкови",1694000,1650000,1775700,{"$f":"H24-J24","v":-81700},3388000,null,"uslo 104000 za osiguranje"]
[null,null,null,null,null,463,"Трансфер 422 Трошкови путовања",3550000,2300000,{"$f":"2430000-30000","v":2400000},{"$f":"H25-J25","v":1150000},7100000]
[null,null,null,null,null,463,"Трансфер 423 Услуге по уговору",199000,169100,185000,14000,398000]
[null,null,null,null,null,463,"Трансфер 424 Специјализоване услуге",90000,40000,40000,50000,180000]
[null,null,null,null,null,463,"Трансфер 425 Текуће поправке и одржавање",160000,241600,110000,50000,320000]
[null,null,null,null,null,463,"Трансфер 426 Материјал",290000,200000,164000,126000,580000]
[null,null,null,null,null,"463","Трансфер 512 Машине и опрема"]
[null,null,null,null,null,null,"УКУПНО ЗА ГЛАВУ 21",{"$f":"SUBTOTAL(9,H24:H29)","v":5983000},{"$f":"SUBTOTAL(9,I24:I30)","v":4600700},{"$f":"SUBTOTAL(9,J24:J30)","v":4674700},{"$f":"SUBTOTAL(9,K24:K29)","v":1308300},11966000]
[null,null,null,null,null,null,null,null,null,null,null,{"$f":"H32+J32+K32","v":0}]
[null,null,null,912,null,null,"Основна школа ''Вук Стефановић Караџић'' Левосоје",null,null,null,null,0]
[null,null,null,null,null,463,"Трансфер 421 Стални трошкови",1585000,1180000,1846000,null,3431000]
[null,null,null,null,null,463,"Трансфер 422 Трошкови путовања",1265000,1166000,1265000,null,2530000]
[null,null,null,null,null,463,"Трансфер 423 Услуге по уговору",115000,115000,115000,null,230000]
[null,null,null,null,null,463,"Трансфер 424 Специјализоване услуге",100000,24000,{"$f":"100000-20000","v":80000},null,180000]
[null,null,null,null,null,463,"Трансфер 425 Текуће поправке и одржавање",300000,650000,{"$f":"300000-20000","v":280000},null,580000]
[null,null,null,null,null,463,"Трансфер 426 Материјал",350000,580000,400000,null,750000]
[null,null,null,null,null,null,"УКУПНО ЗА ГЛАВУ 22",{"$f":"SUBTOTAL(9,H34:H39)","v":3715000},{"$f":"SUBTOTAL(9,I34:I39)","v":3715000},{"$f":"SUBTOTAL(9,J34:J39)","v":3986000},{"$f":"SUBTOTAL(9,K34:K39)","v":0},7701000]
[null,null,null,null,null,null,null,null,null,null,null,{"$f":"H41+J41+K41","v":0}]
[null,null,null,912,null,null,"Основна школа ''Десанка Максимовић'' Биљача",null,null,null,null,0]
[null,null,null,null,null,463,"Трансфер 421 Стални трошкови",1600000,1832900,1725000,null,3325000,null,"tražili povećanje 10% i 125000"]
[null,null,null,null,null,463,"Трансфер 422 Трошкови путовања",1811000,1965000,2031000,null,3842000]
[null,null,null,null,null,463,"Трансфер 423 Услуге по уговору",50000,50000,78000,null,128000]
[null,null,null,null,null,463,"Трансфер 424 Специјализоване услуге",40000,10000,40000,null,80000]
[null,null,null,null,null,463,"Трансфер 425 Текуће поправке и одржавање",930000,718100,{"$f":"902000-50000","v":852000},null,1782000]
[null,null,null,null,null,463,"Трансфер 426 Материјал",580000,521000,{"$f":"580000-60000","v":520000},null,1100000]
[null,null,null,null,null,null,"УКУПНО ЗА ГЛАВУ 23",{"$f":"SUBTOTAL(9,H43:H48)","v":5011000},{"$f":"SUBTOTAL(9,I43:I48)","v":5097000},{"$f":"SUBTOTAL(9,J43:J48)","v":5246000},{"$f":"SUBTOTAL(9,K43:K48)","v":0},10257000]
[null,null,null,null,null,null,null,null,null,null,null,{"$f":"H50+J50+K50","v":0}]
[null,null,null,912,null,null,"Основна школа ''Наим Фрашери'' Бујановац",null,null,null,null,0]
[null,null,null,null,null,463,"Трансфер 421 Стални трошкови",5929000,4770000,4870000,{"$f":"H52-J52","v":1059000},11858000,null,"zahtev za ekspanzioni sud 499500"]
[null,null,null,null,null,463,"Трансфер 422 Трошкови путовања",995000,945000,945000,{"$f":"H53-J53","v":50000},1990000]
[null,null,null,null,null,463,"Трансфер 423 Услуге по уговору",100000,109000,100000,0,200000]
[null,null,null,null,null,463,"Трансфер 424 Специјализоване услуге",60000,28800,100000,-40000,120000]
[null,null,null,null,null,463,"Трансфер 425 Текуће поправке и одржавање",440000,431200,495000,-55000,880000]
[null,null,null,null,null,463,"Трансфер 426 Материјал",476000,451000,506500,-30500,952000]
[null,null,null,null,null,"463","Трансфер 512 Машине и опрема",null,0]
[null,null,null,null,null,null,"УКУПНО ЗА ГЛАВУ 24",{"$f":"SUBTOTAL(9,H52:H57)","v":8000000},{"$f":"SUBTOTAL(9,I52:I58)","v":6735000},{"$f":"SUBTOTAL(9,J52:J58)","v":7016500},{"$f":"SUBTOTAL(9,K52:K57)","v":983500},16000000]
[null,null,null,null,null,null,null,null,null,null,null,{"$f":"H60+J60+K60","v":0}]
[null,null,null,912,null,null,"Основна школа ''Миђени'' Муховац",null,null,null,null,0]
[null,null,null,null,null,463,"Трансфер 421 Стални трошкови",800000,820000,1060000,null,1860000]
[null,null,null,null,null,463,"Трансфер 422 Трошкови путовања",1650000,1600000,1600000,null,3250000]
[null,null,null,null,null,463,"Трансфер 423 Услуге по уговору",150000,140000,150000,null,300000]
[null,null,null,null,null,463,"Трансфер 424 Специјализоване услуге",null,null,null,null,0]
[null,null,null,null,null,463,"Трансфер 425 Текуће поправке и одржавање",600000,660000,680000,null,1280000]
[null,null,null,null,null,463,"Трансфер 426 Материјал",330000,310000,310000,null,640000]
[null,null,null,null,null,null,"УКУПНО ЗА ГЛАВУ 25",{"$f":"SUBTOTAL(9,H62:H67)","v":3530000},{"$f":"SUBTOTAL(9,I62:I67)","v":3530000},{"$f":"SUBTOTAL(9,J62:J67)","v":3800000},{"$f":"SUBTOTAL(9,K62:K67)","v":0},7330000]
[null,null,null,null,null,null,null,null,null,null,null,{"$f":"H69+J69+K69","v":0}]
[null,null,null,912,null,null,"Основна школа ''Драгомир Трајковић'' Жбевац",null,null,null,null,0]
[null,null,null,null,null,463,"Трансфер 421 Стални трошкови",950000,1015000,1129000,null,2079000,null,"zbir nije dobar u finplan"]
[null,null,null,null,null,463,"Трансфер 422 Трошкови путовања",2150000,2390000,2150000,null,4300000]
[null,null,null,null,null,463,"Трансфер 423 Услуге по уговору",50000,40000,50000,null,100000]
[null,null,null,null,null,463,"Трансфер 424 Специјализоване услуге",10000,null,10000,null,20000]
[null,null,null,null,null,463,"Трансфер 425 Текуће поправке и одржавање",320000,55000,{"$f":"350000-50000-20000","v":280000},null,600000]
[null,null,null,null,null,463,"Трансфер 426 Материјал",115000,125000,195000,null,310000]
[null,null,null,null,null,null,"УКУПНО ЗА ГЛАВУ 26",{"$f":"SUBTOTAL(9,H71:H76)","v":3595000},{"$f":"SUBTOTAL(9,I71:I76)","v":3625000},{"$f":"SUBTOTAL(9,J71:J76)","v":3814000},{"$f":"SUBTOTAL(9,K71:K76)","v":0},7409000]
[null,null,null,912,null,null,"Основна школа ''Сами Фрашери'' Лучане",null,null,null,null,{"$f":"H78+J78+K78","v":0}]
[null,null,null,null,null,463,"Трансфер 421 Стални трошкови",1530000,1530000,1670000,null,3200000]
[null,null,null,null,null,463,"Трансфер 422 Трошкови путовања",1500000,1457000,1360000,null,2860000]
[null,null,null,null,null,463,"Трансфер 423 Услуге по уговору",140000,65000,75000,null,215000]
[null,null,null,null,null,463,"Трансфер 424 Специјализоване услуге",50000,75000,40000,null,90000]
[null,null,null,null,null,463,"Трансфер 425 Текуће поправке и одржавање",480000,713000,490000,null,970000]
[null,null,null,null,null,463,"Трансфер 426 Материјал",430000,440000,500000,null,930000]
[null,null,null,null,null,"463","Трансфер 512 Машине и опрема"]
[null,null,null,null,null,null,"УКУПНО ЗА ГЛАВУ 27",{"$f":"SUBTOTAL(9,H79:H84)","v":4130000},{"$f":"SUBTOTAL(9,I79:I85)","v":4280000},{"$f":"SUBTOTAL(9,J79:J85)","v":4135000},{"$f":"SUBTOTAL(9,K79:K84)","v":0},8265000]
[null,null,null,null,null,null,null,null,null,null,null,{"$f":"H87+J87+K87","v":0}]
[null,null,null,912,null,null,"Основна школа ''Али Бекташи'' Несалце",null,null,null,null,0]
[null,null,null,null,null,463,"Трансфер 421 Стални трошкови",1698000,1698000,1543000,null,3241000]
[null,null,null,null,null,463,"Трансфер 422 Трошкови путовања",1270000,1270000,1465000,null,2735000]
[null,null,null,null,null,463,"Трансфер 423 Услуге по уговору",50000,50000,60000,null,110000]
[null,null,null,null,null,463,"Трансфер 424 Специјализоване услуге",25000,25000,45000,null,70000]
[null,null,null,null,null,463,"Трансфер 425 Текуће поправке и одржавање",262000,462000,612000,null,874000]
[null,null,null,null,null,463,"Трансфер 426 Материјал",361000,361000,{"$f":"385000-24000","v":361000},null,722000]
[null,null,null,null,null,null,"УКУПНО ЗА ГЛАВУ 28",{"$f":"SUBTOTAL(9,H89:H94)","v":3666000},{"$f":"SUBTOTAL(9,I89:I94)","v":3866000},{"$f":"SUBTOTAL(9,J89:J94)","v":4086000},{"$f":"SUBTOTAL(9,K89:K94)","v":0},7752000]
[null,null,null,912,null,null,"Основна школа ''Скендербег'' Зарбинце",null,null,null,null,{"$f":"H96+J96+K96","v":0}]
[null,null,null,null,null,463,"Трансфер 421 Стални трошкови",100000,50000,220000,null,320000,null,"+ zahtev za 300000 za odeljenje u GNSelo"]
[null,null,null,null,null,463,"Трансфер 422 Трошкови путовања",110000,50000,30000,null,140000]
[null,null,null,null,null,463,"Трансфер 423 Услуге по уговору",null,null,10000,null,10000]
[null,null,null,null,null,"463","Трансфер 424 Специјализоване услуге",null,null,null,null,0]
[null,null,null,null,null,463,"Трансфер 425 Текуће поправке и одржавање",110000,250000,{"$f":"180000-30000","v":150000},null,260000]
[null,null,null,null,null,463,"Трансфер 426 Материјал",30000,null,30000,null,60000]
[null,null,null,null,null,null,"УКУПНО ЗА ГЛАВУ 29",{"$f":"SUBTOTAL(9,H97:H102)","v":350000},{"$f":"SUBTOTAL(9,I97:I102)","v":350000},{"$f":"SUBTOTAL(9,J97:J102)","v":440000},{"$f":"SUBTOTAL(9,K97:K102)","v":0},790000]
[null,null,null,null,null,null,null,null,null,null,null,{"$f":"H104+J104+K104","v":0}]
[null,null,null,912,null,null,"Основна музичка школа ",null,null,null,null,0,null,"nije dobar zbir OMŠ"]
[null,null,null,null,null,463,"Трансфер 421 Стални трошкови",425000,449300,407000,{"$f":"H106-J106","v":18000},850000,{"$f":"SUMIF(G:I,G106,I:I)","v":28093000},{"$f":"SUMIF(G:J,G106,J:J)","v":29165700}]
[null,null,null,null,null,463,"Трансфер 422 Трошкови путовања",1399500,1270000,1272000,{"$f":"H107-J107","v":127500},2799000,20356000,20729500]
[null,null,null,null,null,463,"Трансфер 423 Услуге по уговору",263500,72000,{"$f":"173000-30000","v":143000},120500,527000,1007400,1256000]
[null,null,null,null,null,463,"Трансфер 424 Специјализоване услуге",150000,35000,55000,95000,300000,322000,712000]
[null,null,null,null,null,463,"Трансфер 425 Текуће поправке и одржавање",255000,70000,{"$f":"150000-25000-25000","v":100000},155000,510000,5772600,5681000]
[null,null,null,null,null,463,"Трансфер 426 Материјал",192000,100000,{"$f":"105000-5000","v":100000},92000,384000,4208000,4287500]
[null,null,null,null,null,"463","Трансфер 512 Машине и опрема",null,null,null,null,null,0,0]
[null,null,null,null,null,null,"УКУПНО ЗА ГЛАВУ 30",{"$f":"SUBTOTAL(9,H106:H111)","v":2685000},{"$f":"SUBTOTAL(9,I106:I112)","v":1996300},{"$f":"SUBTOTAL(9,J106:J112)","v":2077000},{"$f":"SUBTOTAL(9,K106:K111)","v":608000},5370000,{"$f":"SUM(M106:M112)","v":59759000},{"$f":"SUM(N106:N112)","v":61831700}]
[null,null,null,null,null,null,null,{"$f":"SUBTOTAL(9,H5:H113)","v":64135500},null,{"$f":"SUBTOTAL(9,J5:J113)","v":61831700},{"$f":"SUBTOTAL(9,K5:K113)","v":4193300}]
[null,null,null,null,null,null,null,null,null,null,{"$f":"H114-J114","v":2303800}]

{"sheet":"Sred.skole","index":13,"n_rows":27,"n_cols":14,"rows_kept":27,"cut":false,"hidden":true,"merged":[]}
[null,null,2003,null,null,null,"ПРОГРАМ 10: СРЕДЊЕ ОБРАЗОВАЊЕ",null,null,null,null,{"$f":"I1+J1+K1","v":0}]
[null,null,"2003-0001",null,null,null,"Функционисање средњих школа ",null,null,null,null,0]
[null,null,null,920,null,null,"Средње образовање","rebalans 2017","budzet 2018",null,null,{"$error":"#VALUE!"}]
[null,null,null,null,null,null,"Средња стручна школа ''Свети Сава'' Бујановац",null,null,null,null,0]
[null,null,null,null,null,463,"Трансфер 421 Стални трошкови",6891000,7561200,null,null,7561200]
[null,null,null,null,null,463,"Трансфер 422 Трошкови путовања",1950000,2020000,null,null,2020000]
[null,null,null,null,null,463,"Трансфер 423 Услуге по уговору",730000,{"$f":"1610000-300000","v":1310000},null,null,1310000]
[null,null,null,null,null,463,"Трансфер 424 Специјализоване услуге",71000,146000,null,null,146000]
[null,null,null,null,null,463,"Трансфер 425 Текуће поправке и одржавање",342000,342000,null,null,342000]
[null,null,null,null,null,463,"Трансфер 426 Материјал",402000,420000,null,null,420000]
[null,null,null,null,null,null,"Трансфер 512 Машине и опрема",null,null,null,null,0]
[null,null,null,null,null,null,"Функција 920:",{"$f":"SUBTOTAL(9,H5:H11)","v":10386000},{"$f":"SUBTOTAL(9,I5:I11)","v":11799200},{"$f":"SUBTOTAL(9,J5:J10)","v":0},{"$f":"SUBTOTAL(9,K5:K10)","v":0},{"$f":"SUBTOTAL(9,L5:L10)","v":11799200}]
[null,null,null,null,null,null,"Програмска активност 2003-0001:",{"$f":"SUBTOTAL(9,H5:H11)","v":10386000},{"$f":"SUBTOTAL(9,I5:I11)","v":11799200},{"$f":"SUBTOTAL(9,J5:J10)","v":0},{"$f":"SUBTOTAL(9,K5:K10)","v":0},{"$f":"SUBTOTAL(9,L5:L10)","v":11799200}]
[null,null,null,null,null,null,"УКУПНО ЗА ГЛАВУ 31",{"$f":"SUBTOTAL(9,H5:H10)","v":10386000},{"$f":"SUBTOTAL(9,I5:I11)","v":11799200},{"$f":"SUBTOTAL(9,J5:J10)","v":0},{"$f":"SUBTOTAL(9,K5:K10)","v":0},{"$f":"SUBTOTAL(9,L5:L10)","v":11799200}]
[null,null,null,null,null,null,null,null,null,null,null,{"$f":"I15+J15+K15","v":0}]
[null,null,null,920,null,null,"Средња  школа ''Сезаи Сурои'' Бујановац",null,null,null,null,0]
[null,null,null,null,null,463,"Трансфер 421 Стални трошкови",5000000,5500000,null,null,5500000,{"$f":"SUMIF(G:H,G17,H:H)","v":11891000},{"$f":"SUMIF(G:I,G17,I:I)","v":13061200}]
[null,null,null,null,null,463,"Трансфер 422 Трошкови путовања",4150000,{"$f":"4588475-475","v":4588000},null,null,4588000,6100000,6608000]
[null,null,null,null,null,463,"Трансфер 423 Услуге по уговору",443000,443000,null,null,443000,1173000,1753000]
[null,null,null,null,null,463,"Трансфер 424 Специјализоване услуге",109500,209500,null,null,209500,180500,355500]
[null,null,null,null,null,463,"Трансфер 425 Текуће поправке и одржавање",1149500,{"$f":"755000-400000","v":355000},null,null,355000,1491500,697000]
[null,null,null,null,null,463,"Трансфер 426 Материјал",899000,799000,null,null,799000,1301000,1219000]
[null,null,null,null,null,"463","Трансфер 482 Порези и обавезне таксе",null,30000,null,null,30000,{"$f":"SUMIF(G:H,G23,H:H)","v":0},{"$f":"SUMIF(G:I,G23,I:I)","v":30000}]
[null,null,null,null,null,null,"Трансфер 512 Машине и опрема",null,null,null,null,0,0,0]
[null,null,null,null,null,null,"Функција 920:",{"$f":"SUBTOTAL(9,H17:H23)","v":11751000},{"$f":"SUBTOTAL(9,I17:I24)","v":11924500},{"$f":"SUBTOTAL(9,J17:J23)","v":0},{"$f":"SUBTOTAL(9,K17:K23)","v":0},{"$f":"SUBTOTAL(9,L17:L23)","v":11924500}]
[null,null,null,null,null,null,"Програмска активност 2003-0001:",{"$f":"SUBTOTAL(9,H17:H23)","v":11751000},{"$f":"SUBTOTAL(9,I17:I24)","v":11924500},{"$f":"SUBTOTAL(9,J17:J23)","v":0},{"$f":"SUBTOTAL(9,K17:K23)","v":0},{"$f":"SUBTOTAL(9,L17:L23)","v":11924500}]
[null,null,null,null,null,null,"УКУПНО ЗА ГЛАВУ 32",{"$f":"SUBTOTAL(9,H17:H23)","v":11751000},{"$f":"SUBTOTAL(9,I17:I24)","v":11924500},{"$f":"SUBTOTAL(9,J17:J23)","v":0},{"$f":"SUBTOTAL(9,K17:K23)","v":0},{"$f":"SUBTOTAL(9,L17:L23)","v":11924500},null,{"$f":"SUM(N17:N23)","v":23723700}]

{"sheet":"Лист1","index":14,"n_rows":110,"n_cols":12,"rows_kept":110,"cut":false,"hidden":true,"merged":[]}
[null,null,2002,null,null,null,null,null,null,null,{"$f":"H1+I1+J1","v":0}]
[null,null,"2002-0001",null,null,null,"Функционисање основних школа ",null,null,null,0]
[null,null,null,912,null,null,"Основно образовање",null,null,null,0]
[null,null,null,null,null,null,"Основна школа ''Бранко Радичевић'' Бујановац",null,null,null,0]
[null,null,null,null,null,463,"Трансфер 421 Стални трошкови",8418000,8074300,{"$f":"H5-I5","v":343700},16836000]
[null,null,null,null,null,463,"Трансфер 422 Трошкови путовања",5975000,4811500,{"$f":"H6-I6","v":1163500},11950000]
[null,null,null,null,null,463,"Трансфер 423 Услуге по уговору",56000,36000,20000,112000]
[null,null,null,null,null,463,"Трансфер 424 Специјализоване услуге",17000,36000,-19000,34000]
[null,null,null,null,null,463,"Трансфер 425 Текуће поправке и одржавање",307000,211000,96000,614000]
[null,null,null,null,null,463,"Трансфер 426 Материјал",310000,367700,-57700,620000]
[null,null,null,null,null,null,"УКУПНО ЗА ГЛАВУ 19",{"$f":"SUBTOTAL(9,H5:H10)","v":15083000},{"$f":"SUBTOTAL(9,I5:I10)","v":13536500},{"$f":"SUBTOTAL(9,J5:J10)","v":1546500},{"$f":"SUBTOTAL(9,K5:K10)","v":30166000}]
[null,null,null,null,null,null,null,null,null,null,{"$f":"H12+I12+J12","v":0}]
[null,null,null,912,null,null,"Основна школа ''Мухарем Кадриу'' Велики Трновац",null,null,null,0]
[null,null,null,null,null,463,"Трансфер 421 Стални трошкови",4250000,{"$f":"H14","v":4250000},null,8500000]
[null,null,null,null,null,463,"Трансфер 422 Трошкови путовања",1073500,{"$f":"H15","v":1073500},null,2147000]
[null,null,null,null,null,463,"Трансфер 423 Услуге по уговору",200000,200000,null,400000]
[null,null,null,null,null,463,"Трансфер 424 Специјализоване услуге",124000,124000,null,248000]
[null,null,null,null,null,463,"Трансфер 425 Текуће поправке и одржавање",1780000,1780000,null,3560000]
[null,null,null,null,null,463,"Трансфер 426 Материјал",960000,960000,null,1920000]
[null,null,null,null,null,null,"УКУПНО ЗА ГЛАВУ 20",{"$f":"SUBTOTAL(9,H14:H19)","v":8387500},{"$f":"SUBTOTAL(9,I14:I19)","v":8387500},{"$f":"SUBTOTAL(9,J14:J19)","v":0},{"$f":"SUBTOTAL(9,K14:K19)","v":16775000}]
[null,null,null,null,null,null,null,null,null,null,{"$f":"H21+I21+J21","v":0}]
[null,null,null,912,null,null,"Основна школа ''Бора Станковић'' Кленике",null,null,null,0]
[null,null,null,null,null,463,"Трансфер 421 Стални трошкови",1694000,1520000,{"$f":"H23-I23","v":174000},3388000]
[null,null,null,null,null,463,"Трансфер 422 Трошкови путовања",3550000,2470000,{"$f":"H24-I24","v":1080000},7100000]
[null,null,null,null,null,463,"Трансфер 423 Услуге по уговору",199000,159000,40000,398000]
[null,null,null,null,null,463,"Трансфер 424 Специјализоване услуге",90000,65000,25000,180000]
[null,null,null,null,null,463,"Трансфер 425 Текуће поправке и одржавање",160000,110000,50000,320000]
[null,null,null,null,null,463,"Трансфер 426 Материјал",290000,213500,76500,580000]
[null,null,null,null,null,null,"УКУПНО ЗА ГЛАВУ 21",{"$f":"SUBTOTAL(9,H23:H28)","v":5983000},{"$f":"SUBTOTAL(9,I23:I28)","v":4537500},{"$f":"SUBTOTAL(9,J23:J28)","v":1445500},{"$f":"SUBTOTAL(9,K23:K28)","v":11966000}]
[null,null,null,null,null,null,null,null,null,null,{"$f":"H30+I30+J30","v":0}]
[null,null,null,912,null,null,"Основна школа ''Вук Стефановић Караџић'' Левосоје",null,null,null,0]
[null,null,null,null,null,463,"Трансфер 421 Стални трошкови",1585000,{"$f":"H32","v":1585000},null,3170000]
[null,null,null,null,null,463,"Трансфер 422 Трошкови путовања",1265000,{"$f":"H33","v":1265000},null,2530000]
[null,null,null,null,null,463,"Трансфер 423 Услуге по уговору",115000,115000,null,230000]
[null,null,null,null,null,463,"Трансфер 424 Специјализоване услуге",100000,100000,null,200000]
[null,null,null,null,null,463,"Трансфер 425 Текуће поправке и одржавање",300000,300000,null,600000]
[null,null,null,null,null,463,"Трансфер 426 Материјал",350000,350000,null,700000]
[null,null,null,null,null,null,"УКУПНО ЗА ГЛАВУ 22",{"$f":"SUBTOTAL(9,H32:H37)","v":3715000},{"$f":"SUBTOTAL(9,I32:I37)","v":3715000},{"$f":"SUBTOTAL(9,J32:J37)","v":0},{"$f":"SUBTOTAL(9,K32:K37)","v":7430000}]
[null,null,null,null,null,null,null,null,null,null,{"$f":"H39+I39+J39","v":0}]
[null,null,null,912,null,null,"Основна школа ''Десанка Максимовић'' Биљача",null,null,null,0]
[null,null,null,null,null,463,"Трансфер 421 Стални трошкови",1600000,{"$f":"H41","v":1600000},null,3200000]
[null,null,null,null,null,463,"Трансфер 422 Трошкови путовања",1811000,{"$f":"H42","v":1811000},null,3622000]
[null,null,null,null,null,463,"Трансфер 423 Услуге по уговору",50000,50000,null,100000]
[null,null,null,null,null,463,"Трансфер 424 Специјализоване услуге",40000,40000,null,80000]
[null,null,null,null,null,463,"Трансфер 425 Текуће поправке и одржавање",930000,930000,null,1860000]
[null,null,null,null,null,463,"Трансфер 426 Материјал",580000,580000,null,1160000]
[null,null,null,null,null,null,"УКУПНО ЗА ГЛАВУ 23",{"$f":"SUBTOTAL(9,H41:H46)","v":5011000},{"$f":"SUBTOTAL(9,I41:I46)","v":5011000},{"$f":"SUBTOTAL(9,J41:J46)","v":0},{"$f":"SUBTOTAL(9,K41:K46)","v":10022000}]
[null,null,null,null,null,null,null,null,null,null,{"$f":"H48+I48+J48","v":0}]
[null,null,null,912,null,null,"Основна школа ''Наим Фрашери'' Бујановац",null,null,null,0]
[null,null,null,null,null,463,"Трансфер 421 Стални трошкови",5929000,4870000,{"$f":"H50-I50","v":1059000},11858000]
[null,null,null,null,null,463,"Трансфер 422 Трошкови путовања",995000,945000,{"$f":"H51-I51","v":50000},1990000]
[null,null,null,null,null,463,"Трансфер 423 Услуге по уговору",100000,100000,0,200000]
[null,null,null,null,null,463,"Трансфер 424 Специјализоване услуге",60000,20000,40000,120000]
[null,null,null,null,null,463,"Трансфер 425 Текуће поправке и одржавање",440000,440000,0,880000]
[null,null,null,null,null,463,"Трансфер 426 Материјал",476000,351000,125000,952000]
[null,null,null,null,null,null,"УКУПНО ЗА ГЛАВУ 24",{"$f":"SUBTOTAL(9,H50:H55)","v":8000000},{"$f":"SUBTOTAL(9,I50:I55)","v":6726000},{"$f":"SUBTOTAL(9,J50:J55)","v":1274000},{"$f":"SUBTOTAL(9,K50:K55)","v":16000000}]
[null,null,null,null,null,null,null,null,null,null,{"$f":"H57+I57+J57","v":0}]
[null,null,null,912,null,null,"Основна школа ''Миђени'' Муховац",null,null,null,0]
[null,null,null,null,null,463,"Трансфер 421 Стални трошкови",800000,{"$f":"H59","v":800000},null,1600000]
[null,null,null,null,null,463,"Трансфер 422 Трошкови путовања",1650000,{"$f":"H60","v":1650000},null,3300000]
[null,null,null,null,null,463,"Трансфер 423 Услуге по уговору",150000,150000,null,300000]
[null,null,null,null,null,463,"Трансфер 424 Специјализоване услуге",null,0,null,0]
[null,null,null,null,null,463,"Трансфер 425 Текуће поправке и одржавање",600000,600000,null,1200000]
[null,null,null,null,null,463,"Трансфер 426 Материјал",330000,330000,null,660000]
[null,null,null,null,null,null,"УКУПНО ЗА ГЛАВУ 25",{"$f":"SUBTOTAL(9,H59:H64)","v":3530000},{"$f":"SUBTOTAL(9,I59:I64)","v":3530000},{"$f":"SUBTOTAL(9,J59:J64)","v":0},{"$f":"SUBTOTAL(9,K59:K64)","v":7060000}]
[null,null,null,null,null,null,null,null,null,null,{"$f":"H66+I66+J66","v":0}]
[null,null,null,912,null,null,"Основна школа ''Драгомир Трајковић'' Жбевац",null,null,null,0]
[null,null,null,null,null,463,"Трансфер 421 Стални трошкови",950000,{"$f":"H68","v":950000},null,1900000]
[null,null,null,null,null,463,"Трансфер 422 Трошкови путовања",2150000,{"$f":"H69","v":2150000},null,4300000]
[null,null,null,null,null,463,"Трансфер 423 Услуге по уговору",50000,50000,null,100000]
[null,null,null,null,null,463,"Трансфер 424 Специјализоване услуге",10000,10000,null,20000]
[null,null,null,null,null,463,"Трансфер 425 Текуће поправке и одржавање",320000,320000,null,640000]
[null,null,null,null,null,463,"Трансфер 426 Материјал",115000,115000,null,230000]
[null,null,null,null,null,null,"УКУПНО ЗА ГЛАВУ 26",{"$f":"SUBTOTAL(9,H68:H73)","v":3595000},{"$f":"SUBTOTAL(9,I68:I73)","v":3595000},{"$f":"SUBTOTAL(9,J68:J73)","v":0},{"$f":"SUBTOTAL(9,K68:K73)","v":7190000}]
[null,null,null,912,null,null,"Основна школа ''Сами Фрашери'' Лучане",null,null,null,{"$f":"H75+I75+J75","v":0}]
[null,null,null,null,null,463,"Трансфер 421 Стални трошкови",1530000,{"$f":"H76","v":1530000},null,3060000]
[null,null,null,null,null,463,"Трансфер 422 Трошкови путовања",1500000,{"$f":"H77","v":1500000},null,3000000]
[null,null,null,null,null,463,"Трансфер 423 Услуге по уговору",140000,140000,null,280000]
[null,null,null,null,null,463,"Трансфер 424 Специјализоване услуге",50000,50000,null,100000]
[null,null,null,null,null,463,"Трансфер 425 Текуће поправке и одржавање",480000,480000,null,960000]
[null,null,null,null,null,463,"Трансфер 426 Материјал",430000,430000,null,860000]
[null,null,null,null,null,null,"УКУПНО ЗА ГЛАВУ 27",{"$f":"SUBTOTAL(9,H76:H81)","v":4130000},{"$f":"SUBTOTAL(9,I76:I81)","v":4130000},{"$f":"SUBTOTAL(9,J76:J81)","v":0},{"$f":"SUBTOTAL(9,K76:K81)","v":8260000}]
[null,null,null,null,null,null,null,null,null,null,{"$f":"H83+I83+J83","v":0}]
[null,null,null,912,null,null,"Основна школа ''Али Бекташи'' Несалце",null,null,null,0]
[null,null,null,null,null,463,"Трансфер 421 Стални трошкови",1698000,{"$f":"H85","v":1698000},null,3396000]
[null,null,null,null,null,463,"Трансфер 422 Трошкови путовања",1270000,{"$f":"H86","v":1270000},null,2540000]
[null,null,null,null,null,463,"Трансфер 423 Услуге по уговору",50000,50000,null,100000]
[null,null,null,null,null,463,"Трансфер 424 Специјализоване услуге",25000,25000,null,50000]
[null,null,null,null,null,463,"Трансфер 425 Текуће поправке и одржавање",262000,262000,null,524000]
[null,null,null,null,null,463,"Трансфер 426 Материјал",361000,361000,null,722000]
[null,null,null,null,null,null,"УКУПНО ЗА ГЛАВУ 28",{"$f":"SUBTOTAL(9,H85:H90)","v":3666000},{"$f":"SUBTOTAL(9,I85:I90)","v":3666000},{"$f":"SUBTOTAL(9,J85:J90)","v":0},{"$f":"SUBTOTAL(9,K85:K90)","v":7332000}]
[null,null,null,912,null,null,"Основна школа ''Скендербег'' Зарбинце",null,null,null,{"$f":"H92+I92+J92","v":0}]
[null,null,null,null,null,463,"Трансфер 421 Стални трошкови",100000,{"$f":"H93","v":100000},null,200000]
[null,null,null,null,null,463,"Трансфер 422 Трошкови путовања",110000,{"$f":"H94","v":110000},null,220000]
[null,null,null,null,null,463,"Трансфер 423 Услуге по уговору",null,0,null,0]
[null,null,null,null,null,"463","Трансфер 424 Специјализоване услуге",null,0,null,0]
[null,null,null,null,null,463,"Трансфер 425 Текуће поправке и одржавање",110000,110000,null,220000]
[null,null,null,null,null,463,"Трансфер 426 Материјал",30000,30000,null,60000]
[null,null,null,null,null,null,"УКУПНО ЗА ГЛАВУ 29",{"$f":"SUBTOTAL(9,H93:H98)","v":350000},{"$f":"SUBTOTAL(9,I93:I98)","v":350000},{"$f":"SUBTOTAL(9,J93:J98)","v":0},{"$f":"SUBTOTAL(9,K93:K98)","v":700000}]
[null,null,null,null,null,null,null,null,null,null,{"$f":"H100+I100+J100","v":0}]
[null,null,null,912,null,null,"Основна музичка школа ",null,null,null,0]
[null,null,null,null,null,463,"Трансфер 421 Стални трошкови",425000,425000,{"$f":"H102-I102","v":0},850000,{"$f":"I5+I14+I23+I32+I41+I50+I59+I68+I76+I85+I93+I102","v":27402300}]
[null,null,null,null,null,463,"Трансфер 422 Трошкови путовања",1399500,1300000,{"$f":"H103-I103","v":99500},2799000,{"$f":"I6+I15+I24+I33+I42+I51+I60+I69+I77+I86+I94+I103","v":20356000}]
[null,null,null,null,null,463,"Трансфер 423 Услуге по уговору",263500,41000,222500,527000,1091000]
[null,null,null,null,null,463,"Трансфер 424 Специјализоване услуге",150000,55000,95000,300000,525000]
[null,null,null,null,null,463,"Трансфер 425 Текуће поправке и одржавање",255000,70000,185000,510000,5613000]
[null,null,null,null,null,463,"Трансфер 426 Материјал",192000,60000,132000,384000,4148200]
[null,null,null,null,null,null,"УКУПНО ЗА ГЛАВУ 30",{"$f":"SUBTOTAL(9,H102:H107)","v":2685000},{"$f":"SUBTOTAL(9,I102:I107)","v":1951000},{"$f":"SUBTOTAL(9,J102:J107)","v":734000},{"$f":"SUBTOTAL(9,K102:K107)","v":5370000},{"$f":"SUM(L102:L107)","v":59135500}]
[null,null,null,null,null,null,null,{"$f":"SUBTOTAL(9,H5:H108)","v":64135500},{"$f":"SUBTOTAL(9,I5:I108)","v":59135500},{"$f":"SUBTOTAL(9,J5:J108)","v":5000000}]
[null,null,null,null,null,null,null,null,null,{"$f":"H109-I109","v":5000000}]

{"sheet":"Лист2","index":15,"n_rows":25,"n_cols":12,"rows_kept":25,"cut":false,"hidden":true,"merged":[]}
[null,null,2003,null,null,null,"ПРОГРАМ 10: СРЕДЊЕ ОБРАЗОВАЊЕ",null,null,null,{"$f":"H1+I1+J1","v":0}]
[null,null,"2003-0001",null,null,null,"Функционисање средњих школа ",null,null,null,0]
[null,null,null,920,null,null,"Средње образовање",null,null,null,0]
[null,null,null,null,null,null,"Средња стручна школа ''Свети Сава'' Бујановац",null,null,null,0]
[null,null,null,null,null,463,"Трансфер 421 Стални трошкови",{"$f":"6721000-100000","v":6621000},null,null,6621000]
[null,null,null,null,null,463,"Трансфер 422 Трошкови путовања",2020000,null,null,2020000]
[null,null,null,null,null,463,"Трансфер 423 Услуге по уговору",170000,null,null,170000]
[null,null,null,null,null,463,"Трансфер 424 Специјализоване услуге",71000,null,null,71000]
[null,null,null,null,null,463,"Трансфер 425 Текуће поправке и одржавање",342000,null,null,342000]
[null,null,null,null,null,463,"Трансфер 426 Материјал",402000,null,null,402000]
[null,null,null,null,null,null,"Функција 920:",{"$f":"SUBTOTAL(9,H5:H10)","v":9626000},{"$f":"SUBTOTAL(9,I5:I10)","v":0},{"$f":"SUBTOTAL(9,J5:J10)","v":0},{"$f":"SUBTOTAL(9,K5:K10)","v":9626000}]
[null,null,null,null,null,null,"Програмска активност 2003-0001:",{"$f":"SUBTOTAL(9,H5:H10)","v":9626000},{"$f":"SUBTOTAL(9,I5:I10)","v":0},{"$f":"SUBTOTAL(9,J5:J10)","v":0},{"$f":"SUBTOTAL(9,K5:K10)","v":9626000}]
[null,null,null,null,null,null,"УКУПНО ЗА ГЛАВУ 31",{"$f":"SUBTOTAL(9,H5:H10)","v":9626000},{"$f":"SUBTOTAL(9,I5:I10)","v":0},{"$f":"SUBTOTAL(9,J5:J10)","v":0},{"$f":"SUBTOTAL(9,K5:K10)","v":9626000}]
[null,null,null,null,null,null,null,null,null,null,{"$f":"H14+I14+J14","v":0}]
[null,null,null,920,null,null,"Средња  школа ''Сезаи Сурои'' Бујановац",null,null,null,0]
[null,null,null,null,null,463,"Трансфер 421 Стални трошкови",4711014,null,null,4711014,{"$f":"H5+H16","v":11332014}]
[null,null,null,null,null,463,"Трансфер 422 Трошкови путовања",4588475,null,null,4588475,{"$f":"H6+H17","v":6608475}]
[null,null,null,null,null,463,"Трансфер 423 Услуге по уговору",443000,null,null,443000,613000]
[null,null,null,null,null,463,"Трансфер 424 Специјализоване услуге",209500,null,null,209500,280500]
[null,null,null,null,null,463,"Трансфер 425 Текуће поправке и одржавање",500000,null,null,500000,842000]
[null,null,null,null,null,463,"Трансфер 426 Материјал",799000,null,null,799000,1201000]
[null,null,null,null,null,"463","Трансфер 482 Порези и обавезне таксе",70000,null,null,70000,{"$f":"H22","v":70000}]
[null,null,null,null,null,null,"Функција 920:",{"$f":"SUBTOTAL(9,H16:H22)","v":11320989},{"$f":"SUBTOTAL(9,I16:I22)","v":0},{"$f":"SUBTOTAL(9,J16:J22)","v":0},{"$f":"SUBTOTAL(9,K16:K22)","v":11320989}]
[null,null,null,null,null,null,"Програмска активност 2003-0001:",{"$f":"SUBTOTAL(9,H16:H22)","v":11320989},{"$f":"SUBTOTAL(9,I16:I22)","v":0},{"$f":"SUBTOTAL(9,J16:J22)","v":0},{"$f":"SUBTOTAL(9,K16:K22)","v":11320989}]
[null,null,null,null,null,null,"УКУПНО ЗА ГЛАВУ 32",{"$f":"SUBTOTAL(9,H16:H22)","v":11320989},{"$f":"SUBTOTAL(9,I16:I22)","v":0},{"$f":"SUBTOTAL(9,J16:J22)","v":0},{"$f":"SUBTOTAL(9,K16:K22)","v":11320989},{"$f":"SUM(L16:L22)","v":20946989}]

{"sheet":"Лист7","index":16,"n_rows":24,"n_cols":1,"rows_kept":24,"cut":false,"hidden":true,"merged":[]}
[15608000]
[2100000]
[1700000]
[4100000]
[3000000]
[50000]
[8500000]
[300000]
[250000]
[2000000]
[240000]
[150000]
[300000]
[700000]
[452000]
[202000]
[]
[2495000]
[100000]
[100000]
[250000]
[50000]
[2360000]
[{"$f":"SUM(A1:A23)","v":45007000}]

{"sheet":"Лист3","index":17,"n_rows":685,"n_cols":1,"rows_kept":685,"cut":false,"hidden":true,"merged":[]}
[{"$f":"ROW()","v":1}]
[{"$f":"ROW()","v":2}]
[{"$f":"ROW()","v":3}]
[{"$f":"ROW()","v":4}]
[{"$f":"ROW()","v":5}]
[{"$f":"ROW()","v":6}]
[{"$f":"ROW()","v":7}]
[{"$f":"ROW()","v":8}]
[{"$f":"ROW()","v":9}]
[{"$f":"ROW()","v":10}]
[{"$f":"ROW()","v":11}]
[{"$f":"ROW()","v":12}]
[{"$f":"ROW()","v":13}]
[{"$f":"ROW()","v":14}]
[{"$f":"ROW()","v":15}]
[{"$f":"ROW()","v":16}]
[{"$f":"ROW()","v":17}]
[{"$f":"ROW()","v":18}]
[{"$f":"ROW()","v":19}]
[{"$f":"ROW()","v":20}]
[{"$f":"ROW()","v":21}]
[{"$f":"ROW()","v":22}]
[{"$f":"ROW()","v":23}]
[{"$f":"ROW()","v":24}]
[{"$f":"ROW()","v":25}]
[{"$f":"ROW()","v":26}]
[{"$f":"ROW()","v":27}]
[{"$f":"ROW()","v":28}]
[{"$f":"ROW()","v":29}]
[{"$f":"ROW()","v":30}]
[{"$f":"ROW()","v":31}]
[{"$f":"ROW()","v":32}]
[{"$f":"ROW()","v":33}]
[{"$f":"ROW()","v":34}]
[{"$f":"ROW()","v":35}]
[{"$f":"ROW()","v":36}]
[{"$f":"ROW()","v":37}]
[{"$f":"ROW()","v":38}]
[{"$f":"ROW()","v":39}]
[{"$f":"ROW()","v":40}]
[{"$f":"ROW()","v":41}]
[{"$f":"ROW()","v":42}]
[{"$f":"ROW()","v":43}]
[{"$f":"ROW()","v":44}]
[{"$f":"ROW()","v":45}]
[{"$f":"ROW()","v":46}]
[{"$f":"ROW()","v":47}]
[{"$f":"ROW()","v":48}]
[{"$f":"ROW()","v":49}]
[{"$f":"ROW()","v":50}]
[{"$f":"ROW()","v":51}]
[{"$f":"ROW()","v":52}]
[{"$f":"ROW()","v":53}]
[{"$f":"ROW()","v":54}]
[{"$f":"ROW()","v":55}]
[{"$f":"ROW()","v":56}]
[{"$f":"ROW()","v":57}]
[{"$f":"ROW()","v":58}]
[{"$f":"ROW()","v":59}]
[{"$f":"ROW()","v":60}]
[{"$f":"ROW()","v":61}]
[{"$f":"ROW()","v":62}]
[{"$f":"ROW()","v":63}]
[{"$f":"ROW()","v":64}]
[{"$f":"ROW()","v":65}]
[{"$f":"ROW()","v":66}]
[{"$f":"ROW()","v":67}]
[{"$f":"ROW()","v":68}]
[{"$f":"ROW()","v":69}]
[{"$f":"ROW()","v":70}]
[{"$f":"ROW()","v":71}]
[{"$f":"ROW()","v":72}]
[{"$f":"ROW()","v":73}]
[{"$f":"ROW()","v":74}]
[{"$f":"ROW()","v":75}]
[{"$f":"ROW()","v":76}]
[{"$f":"ROW()","v":77}]
[{"$f":"ROW()","v":78}]
[{"$f":"ROW()","v":79}]
[{"$f":"ROW()","v":80}]
[{"$f":"ROW()","v":81}]
[{"$f":"ROW()","v":82}]
[{"$f":"ROW()","v":83}]
[{"$f":"ROW()","v":84}]
[{"$f":"ROW()","v":85}]
[{"$f":"ROW()","v":86}]
[{"$f":"ROW()","v":87}]
[{"$f":"ROW()","v":88}]
[{"$f":"ROW()","v":89}]
[{"$f":"ROW()","v":90}]
[{"$f":"ROW()","v":91}]
[{"$f":"ROW()","v":92}]
[{"$f":"ROW()","v":93}]
[{"$f":"ROW()","v":94}]
[{"$f":"ROW()","v":95}]
[{"$f":"ROW()","v":96}]
[{"$f":"ROW()","v":97}]
[{"$f":"ROW()","v":98}]
[{"$f":"ROW()","v":99}]
[{"$f":"ROW()","v":100}]
[{"$f":"ROW()","v":101}]
[{"$f":"ROW()","v":102}]
[{"$f":"ROW()","v":103}]
[{"$f":"ROW()","v":104}]
[{"$f":"ROW()","v":105}]
[{"$f":"ROW()","v":106}]
[{"$f":"ROW()","v":107}]
[{"$f":"ROW()","v":108}]
[{"$f":"ROW()","v":109}]
[{"$f":"ROW()","v":110}]
[{"$f":"ROW()","v":111}]
[{"$f":"ROW()","v":112}]
[{"$f":"ROW()","v":113}]
[{"$f":"ROW()","v":114}]
[{"$f":"ROW()","v":115}]
[{"$f":"ROW()","v":116}]
[{"$f":"ROW()","v":117}]
[{"$f":"ROW()","v":118}]
[{"$f":"ROW()","v":119}]
[{"$f":"ROW()","v":120}]
[{"$f":"ROW()","v":121}]
[{"$f":"ROW()","v":122}]
[{"$f":"ROW()","v":123}]
[{"$f":"ROW()","v":124}]
[{"$f":"ROW()","v":125}]
[{"$f":"ROW()","v":126}]
[{"$f":"ROW()","v":127}]
[{"$f":"ROW()","v":128}]
[{"$f":"ROW()","v":129}]
[{"$f":"ROW()","v":130}]
[{"$f":"ROW()","v":131}]
[{"$f":"ROW()","v":132}]
[{"$f":"ROW()","v":133}]
[{"$f":"ROW()","v":134}]
[{"$f":"ROW()","v":135}]
[{"$f":"ROW()","v":136}]
[{"$f":"ROW()","v":137}]
[{"$f":"ROW()","v":138}]
[{"$f":"ROW()","v":139}]
[{"$f":"ROW()","v":140}]
[{"$f":"ROW()","v":141}]
[{"$f":"ROW()","v":142}]
[{"$f":"ROW()","v":143}]
[{"$f":"ROW()","v":144}]
[{"$f":"ROW()","v":145}]
[{"$f":"ROW()","v":146}]
[{"$f":"ROW()","v":147}]
[{"$f":"ROW()","v":148}]
[{"$f":"ROW()","v":149}]
[{"$f":"ROW()","v":150}]
[{"$f":"ROW()","v":151}]
[{"$f":"ROW()","v":152}]
[{"$f":"ROW()","v":153}]
[{"$f":"ROW()","v":154}]
[{"$f":"ROW()","v":155}]
[{"$f":"ROW()","v":156}]
[{"$f":"ROW()","v":157}]
[{"$f":"ROW()","v":158}]
[{"$f":"ROW()","v":159}]
[{"$f":"ROW()","v":160}]
[{"$f":"ROW()","v":161}]
[{"$f":"ROW()","v":162}]
[{"$f":"ROW()","v":163}]
[{"$f":"ROW()","v":164}]
[{"$f":"ROW()","v":165}]
[{"$f":"ROW()","v":166}]
[{"$f":"ROW()","v":167}]
[{"$f":"ROW()","v":168}]
[{"$f":"ROW()","v":169}]
[{"$f":"ROW()","v":170}]
[{"$f":"ROW()","v":171}]
[{"$f":"ROW()","v":172}]
[{"$f":"ROW()","v":173}]
[{"$f":"ROW()","v":174}]
[{"$f":"ROW()","v":175}]
[{"$f":"ROW()","v":176}]
[{"$f":"ROW()","v":177}]
[{"$f":"ROW()","v":178}]
[{"$f":"ROW()","v":179}]
[{"$f":"ROW()","v":180}]
[{"$f":"ROW()","v":181}]
[{"$f":"ROW()","v":182}]
[{"$f":"ROW()","v":183}]
[{"$f":"ROW()","v":184}]
[{"$f":"ROW()","v":185}]
[{"$f":"ROW()","v":186}]
[{"$f":"ROW()","v":187}]
[{"$f":"ROW()","v":188}]
[{"$f":"ROW()","v":189}]
[{"$f":"ROW()","v":190}]
[{"$f":"ROW()","v":191}]
[{"$f":"ROW()","v":192}]
[{"$f":"ROW()","v":193}]
[{"$f":"ROW()","v":194}]
[{"$f":"ROW()","v":195}]
[{"$f":"ROW()","v":196}]
[{"$f":"ROW()","v":197}]
[{"$f":"ROW()","v":198}]
[{"$f":"ROW()","v":199}]
[{"$f":"ROW()","v":200}]
[{"$f":"ROW()","v":201}]
[{"$f":"ROW()","v":202}]
[{"$f":"ROW()","v":203}]
[{"$f":"ROW()","v":204}]
[{"$f":"ROW()","v":205}]
[{"$f":"ROW()","v":206}]
[{"$f":"ROW()","v":207}]
[{"$f":"ROW()","v":208}]
[{"$f":"ROW()","v":209}]
[{"$f":"ROW()","v":210}]
[{"$f":"ROW()","v":211}]
[{"$f":"ROW()","v":212}]
[{"$f":"ROW()","v":213}]
[{"$f":"ROW()","v":214}]
[{"$f":"ROW()","v":215}]
[{"$f":"ROW()","v":216}]
[{"$f":"ROW()","v":217}]
[{"$f":"ROW()","v":218}]
[{"$f":"ROW()","v":219}]
[{"$f":"ROW()","v":220}]
[{"$f":"ROW()","v":221}]
[{"$f":"ROW()","v":222}]
[{"$f":"ROW()","v":223}]
[{"$f":"ROW()","v":224}]
[{"$f":"ROW()","v":225}]
[{"$f":"ROW()","v":226}]
[{"$f":"ROW()","v":227}]
[{"$f":"ROW()","v":228}]
[{"$f":"ROW()","v":229}]
[{"$f":"ROW()","v":230}]
[{"$f":"ROW()","v":231}]
[{"$f":"ROW()","v":232}]
[{"$f":"ROW()","v":233}]
[{"$f":"ROW()","v":234}]
[{"$f":"ROW()","v":235}]
[{"$f":"ROW()","v":236}]
[{"$f":"ROW()","v":237}]
[{"$f":"ROW()","v":238}]
[{"$f":"ROW()","v":239}]
[{"$f":"ROW()","v":240}]
[{"$f":"ROW()","v":241}]
[{"$f":"ROW()","v":242}]
[{"$f":"ROW()","v":243}]
[{"$f":"ROW()","v":244}]
[{"$f":"ROW()","v":245}]
[{"$f":"ROW()","v":246}]
[{"$f":"ROW()","v":247}]
[{"$f":"ROW()","v":248}]
[{"$f":"ROW()","v":249}]
[{"$f":"ROW()","v":250}]
[{"$f":"ROW()","v":251}]
[{"$f":"ROW()","v":252}]
[{"$f":"ROW()","v":253}]
[{"$f":"ROW()","v":254}]
[{"$f":"ROW()","v":255}]
[{"$f":"ROW()","v":256}]
[{"$f":"ROW()","v":257}]
[{"$f":"ROW()","v":258}]
[{"$f":"ROW()","v":259}]
[{"$f":"ROW()","v":260}]
[{"$f":"ROW()","v":261}]
[{"$f":"ROW()","v":262}]
[{"$f":"ROW()","v":263}]
[{"$f":"ROW()","v":264}]
[{"$f":"ROW()","v":265}]
[{"$f":"ROW()","v":266}]
[{"$f":"ROW()","v":267}]
[{"$f":"ROW()","v":268}]
[{"$f":"ROW()","v":269}]
[{"$f":"ROW()","v":270}]
[{"$f":"ROW()","v":271}]
[{"$f":"ROW()","v":272}]
[{"$f":"ROW()","v":273}]
[{"$f":"ROW()","v":274}]
[{"$f":"ROW()","v":275}]
[{"$f":"ROW()","v":276}]
[{"$f":"ROW()","v":277}]
[{"$f":"ROW()","v":278}]
[{"$f":"ROW()","v":279}]
[{"$f":"ROW()","v":280}]
[{"$f":"ROW()","v":281}]
[{"$f":"ROW()","v":282}]
[{"$f":"ROW()","v":283}]
[{"$f":"ROW()","v":284}]
[{"$f":"ROW()","v":285}]
[{"$f":"ROW()","v":286}]
[{"$f":"ROW()","v":287}]
[{"$f":"ROW()","v":288}]
[{"$f":"ROW()","v":289}]
[{"$f":"ROW()","v":290}]
[{"$f":"ROW()","v":291}]
[{"$f":"ROW()","v":292}]
[{"$f":"ROW()","v":293}]
[{"$f":"ROW()","v":294}]
[{"$f":"ROW()","v":295}]
[{"$f":"ROW()","v":296}]
[{"$f":"ROW()","v":297}]
[{"$f":"ROW()","v":298}]
[{"$f":"ROW()","v":299}]
[{"$f":"ROW()","v":300}]
[{"$f":"ROW()","v":301}]
[{"$f":"ROW()","v":302}]
[{"$f":"ROW()","v":303}]
[{"$f":"ROW()","v":304}]
[{"$f":"ROW()","v":305}]
[{"$f":"ROW()","v":306}]
[{"$f":"ROW()","v":307}]
[{"$f":"ROW()","v":308}]
[{"$f":"ROW()","v":309}]
[{"$f":"ROW()","v":310}]
[{"$f":"ROW()","v":311}]
[{"$f":"ROW()","v":312}]
[{"$f":"ROW()","v":313}]
[{"$f":"ROW()","v":314}]
[{"$f":"ROW()","v":315}]
[{"$f":"ROW()","v":316}]
[{"$f":"ROW()","v":317}]
[{"$f":"ROW()","v":318}]
[{"$f":"ROW()","v":319}]
[{"$f":"ROW()","v":320}]
[{"$f":"ROW()","v":321}]
[{"$f":"ROW()","v":322}]
[{"$f":"ROW()","v":323}]
[{"$f":"ROW()","v":324}]
[{"$f":"ROW()","v":325}]
[{"$f":"ROW()","v":326}]
[{"$f":"ROW()","v":327}]
[{"$f":"ROW()","v":328}]
[{"$f":"ROW()","v":329}]
[{"$f":"ROW()","v":330}]
[{"$f":"ROW()","v":331}]
[{"$f":"ROW()","v":332}]
[{"$f":"ROW()","v":333}]
[{"$f":"ROW()","v":334}]
[{"$f":"ROW()","v":335}]
[{"$f":"ROW()","v":336}]
[{"$f":"ROW()","v":337}]
[{"$f":"ROW()","v":338}]
[{"$f":"ROW()","v":339}]
[{"$f":"ROW()","v":340}]
[{"$f":"ROW()","v":341}]
[{"$f":"ROW()","v":342}]
[{"$f":"ROW()","v":343}]
[{"$f":"ROW()","v":344}]
[{"$f":"ROW()","v":345}]
[{"$f":"ROW()","v":346}]
[{"$f":"ROW()","v":347}]
[{"$f":"ROW()","v":348}]
[{"$f":"ROW()","v":349}]
[{"$f":"ROW()","v":350}]
[{"$f":"ROW()","v":351}]
[{"$f":"ROW()","v":352}]
[{"$f":"ROW()","v":353}]
[{"$f":"ROW()","v":354}]
[{"$f":"ROW()","v":355}]
[{"$f":"ROW()","v":356}]
[{"$f":"ROW()","v":357}]
[{"$f":"ROW()","v":358}]
[{"$f":"ROW()","v":359}]
[{"$f":"ROW()","v":360}]
[{"$f":"ROW()","v":361}]
[{"$f":"ROW()","v":362}]
[{"$f":"ROW()","v":363}]
[{"$f":"ROW()","v":364}]
[{"$f":"ROW()","v":365}]
[{"$f":"ROW()","v":366}]
[{"$f":"ROW()","v":367}]
[{"$f":"ROW()","v":368}]
[{"$f":"ROW()","v":369}]
[{"$f":"ROW()","v":370}]
[{"$f":"ROW()","v":371}]
[{"$f":"ROW()","v":372}]
[{"$f":"ROW()","v":373}]
[{"$f":"ROW()","v":374}]
[{"$f":"ROW()","v":375}]
[{"$f":"ROW()","v":376}]
[{"$f":"ROW()","v":377}]
[{"$f":"ROW()","v":378}]
[{"$f":"ROW()","v":379}]
[{"$f":"ROW()","v":380}]
[{"$f":"ROW()","v":381}]
[{"$f":"ROW()","v":382}]
[{"$f":"ROW()","v":383}]
[{"$f":"ROW()","v":384}]
[{"$f":"ROW()","v":385}]
[{"$f":"ROW()","v":386}]
[{"$f":"ROW()","v":387}]
[{"$f":"ROW()","v":388}]
[{"$f":"ROW()","v":389}]
[{"$f":"ROW()","v":390}]
[{"$f":"ROW()","v":391}]
[{"$f":"ROW()","v":392}]
[{"$f":"ROW()","v":393}]
[{"$f":"ROW()","v":394}]
[{"$f":"ROW()","v":395}]
[{"$f":"ROW()","v":396}]
[{"$f":"ROW()","v":397}]
[{"$f":"ROW()","v":398}]
[{"$f":"ROW()","v":399}]
[{"$f":"ROW()","v":400}]
[{"$f":"ROW()","v":401}]
[{"$f":"ROW()","v":402}]
[{"$f":"ROW()","v":403}]
[{"$f":"ROW()","v":404}]
[{"$f":"ROW()","v":405}]
[{"$f":"ROW()","v":406}]
[{"$f":"ROW()","v":407}]
[{"$f":"ROW()","v":408}]
[{"$f":"ROW()","v":409}]
[{"$f":"ROW()","v":410}]
[{"$f":"ROW()","v":411}]
[{"$f":"ROW()","v":412}]
[{"$f":"ROW()","v":413}]
[{"$f":"ROW()","v":414}]
[{"$f":"ROW()","v":415}]
[{"$f":"ROW()","v":416}]
[{"$f":"ROW()","v":417}]
[{"$f":"ROW()","v":418}]
[{"$f":"ROW()","v":419}]
[{"$f":"ROW()","v":420}]
[{"$f":"ROW()","v":421}]
[{"$f":"ROW()","v":422}]
[{"$f":"ROW()","v":423}]
[{"$f":"ROW()","v":424}]
[{"$f":"ROW()","v":425}]
[{"$f":"ROW()","v":426}]
[{"$f":"ROW()","v":427}]
[{"$f":"ROW()","v":428}]
[{"$f":"ROW()","v":429}]
[{"$f":"ROW()","v":430}]
[{"$f":"ROW()","v":431}]
[{"$f":"ROW()","v":432}]
[{"$f":"ROW()","v":433}]
[{"$f":"ROW()","v":434}]
[{"$f":"ROW()","v":435}]
[{"$f":"ROW()","v":436}]
[{"$f":"ROW()","v":437}]
[{"$f":"ROW()","v":438}]
[{"$f":"ROW()","v":439}]
[{"$f":"ROW()","v":440}]
[{"$f":"ROW()","v":441}]
[{"$f":"ROW()","v":442}]
[{"$f":"ROW()","v":443}]
[{"$f":"ROW()","v":444}]
[{"$f":"ROW()","v":445}]
[{"$f":"ROW()","v":446}]
[{"$f":"ROW()","v":447}]
[{"$f":"ROW()","v":448}]
[{"$f":"ROW()","v":449}]
[{"$f":"ROW()","v":450}]
[{"$f":"ROW()","v":451}]
[{"$f":"ROW()","v":452}]
[{"$f":"ROW()","v":453}]
[{"$f":"ROW()","v":454}]
[{"$f":"ROW()","v":455}]
[{"$f":"ROW()","v":456}]
[{"$f":"ROW()","v":457}]
[{"$f":"ROW()","v":458}]
[{"$f":"ROW()","v":459}]
[{"$f":"ROW()","v":460}]
[{"$f":"ROW()","v":461}]
[{"$f":"ROW()","v":462}]
[{"$f":"ROW()","v":463}]
[{"$f":"ROW()","v":464}]
[{"$f":"ROW()","v":465}]
[{"$f":"ROW()","v":466}]
[{"$f":"ROW()","v":467}]
[{"$f":"ROW()","v":468}]
[{"$f":"ROW()","v":469}]
[{"$f":"ROW()","v":470}]
[{"$f":"ROW()","v":471}]
[{"$f":"ROW()","v":472}]
[{"$f":"ROW()","v":473}]
[{"$f":"ROW()","v":474}]
[{"$f":"ROW()","v":475}]
[{"$f":"ROW()","v":476}]
[{"$f":"ROW()","v":477}]
[{"$f":"ROW()","v":478}]
[{"$f":"ROW()","v":479}]
[{"$f":"ROW()","v":480}]
[{"$f":"ROW()","v":481}]
[{"$f":"ROW()","v":482}]
[{"$f":"ROW()","v":483}]
[{"$f":"ROW()","v":484}]
[{"$f":"ROW()","v":485}]
[{"$f":"ROW()","v":486}]
[{"$f":"ROW()","v":487}]
[{"$f":"ROW()","v":488}]
[{"$f":"ROW()","v":489}]
[{"$f":"ROW()","v":490}]
[{"$f":"ROW()","v":491}]
[{"$f":"ROW()","v":492}]
[{"$f":"ROW()","v":493}]
[{"$f":"ROW()","v":494}]
[{"$f":"ROW()","v":495}]
[{"$f":"ROW()","v":496}]
[{"$f":"ROW()","v":497}]
[{"$f":"ROW()","v":498}]
[{"$f":"ROW()","v":499}]
[{"$f":"ROW()","v":500}]
[{"$f":"ROW()","v":501}]
[{"$f":"ROW()","v":502}]
[{"$f":"ROW()","v":503}]
[{"$f":"ROW()","v":504}]
[{"$f":"ROW()","v":505}]
[{"$f":"ROW()","v":506}]
[{"$f":"ROW()","v":507}]
[{"$f":"ROW()","v":508}]
[{"$f":"ROW()","v":509}]
[{"$f":"ROW()","v":510}]
[{"$f":"ROW()","v":511}]
[{"$f":"ROW()","v":512}]
[{"$f":"ROW()","v":513}]
[{"$f":"ROW()","v":514}]
[{"$f":"ROW()","v":515}]
[{"$f":"ROW()","v":516}]
[{"$f":"ROW()","v":517}]
[{"$f":"ROW()","v":518}]
[{"$f":"ROW()","v":519}]
[{"$f":"ROW()","v":520}]
[{"$f":"ROW()","v":521}]
[{"$f":"ROW()","v":522}]
[{"$f":"ROW()","v":523}]
[{"$f":"ROW()","v":524}]
[{"$f":"ROW()","v":525}]
[{"$f":"ROW()","v":526}]
[{"$f":"ROW()","v":527}]
[{"$f":"ROW()","v":528}]
[{"$f":"ROW()","v":529}]
[{"$f":"ROW()","v":530}]
[{"$f":"ROW()","v":531}]
[{"$f":"ROW()","v":532}]
[{"$f":"ROW()","v":533}]
[{"$f":"ROW()","v":534}]
[{"$f":"ROW()","v":535}]
[{"$f":"ROW()","v":536}]
[{"$f":"ROW()","v":537}]
[{"$f":"ROW()","v":538}]
[{"$f":"ROW()","v":539}]
[{"$f":"ROW()","v":540}]
[{"$f":"ROW()","v":541}]
[{"$f":"ROW()","v":542}]
[{"$f":"ROW()","v":543}]
[{"$f":"ROW()","v":544}]
[{"$f":"ROW()","v":545}]
[{"$f":"ROW()","v":546}]
[{"$f":"ROW()","v":547}]
[{"$f":"ROW()","v":548}]
[{"$f":"ROW()","v":549}]
[{"$f":"ROW()","v":550}]
[{"$f":"ROW()","v":551}]
[{"$f":"ROW()","v":552}]
[{"$f":"ROW()","v":553}]
[{"$f":"ROW()","v":554}]
[{"$f":"ROW()","v":555}]
[{"$f":"ROW()","v":556}]
[{"$f":"ROW()","v":557}]
[{"$f":"ROW()","v":558}]
[{"$f":"ROW()","v":559}]
[{"$f":"ROW()","v":560}]
[{"$f":"ROW()","v":561}]
[{"$f":"ROW()","v":562}]
[{"$f":"ROW()","v":563}]
[{"$f":"ROW()","v":564}]
[{"$f":"ROW()","v":565}]
[{"$f":"ROW()","v":566}]
[{"$f":"ROW()","v":567}]
[{"$f":"ROW()","v":568}]
[{"$f":"ROW()","v":569}]
[{"$f":"ROW()","v":570}]
[{"$f":"ROW()","v":571}]
[{"$f":"ROW()","v":572}]
[{"$f":"ROW()","v":573}]
[{"$f":"ROW()","v":574}]
[{"$f":"ROW()","v":575}]
[{"$f":"ROW()","v":576}]
[{"$f":"ROW()","v":577}]
[{"$f":"ROW()","v":578}]
[{"$f":"ROW()","v":579}]
[{"$f":"ROW()","v":580}]
[{"$f":"ROW()","v":581}]
[{"$f":"ROW()","v":582}]
[{"$f":"ROW()","v":583}]
[{"$f":"ROW()","v":584}]
[{"$f":"ROW()","v":585}]
[{"$f":"ROW()","v":586}]
[{"$f":"ROW()","v":587}]
[{"$f":"ROW()","v":588}]
[{"$f":"ROW()","v":589}]
[{"$f":"ROW()","v":590}]
[{"$f":"ROW()","v":591}]
[{"$f":"ROW()","v":592}]
[{"$f":"ROW()","v":593}]
[{"$f":"ROW()","v":594}]
[{"$f":"ROW()","v":595}]
[{"$f":"ROW()","v":596}]
[{"$f":"ROW()","v":597}]
[{"$f":"ROW()","v":598}]
[{"$f":"ROW()","v":599}]
[{"$f":"ROW()","v":600}]
[{"$f":"ROW()","v":601}]
[{"$f":"ROW()","v":602}]
[{"$f":"ROW()","v":603}]
[{"$f":"ROW()","v":604}]
[{"$f":"ROW()","v":605}]
[{"$f":"ROW()","v":606}]
[{"$f":"ROW()","v":607}]
[{"$f":"ROW()","v":608}]
[{"$f":"ROW()","v":609}]
[{"$f":"ROW()","v":610}]
[{"$f":"ROW()","v":611}]
[{"$f":"ROW()","v":612}]
[{"$f":"ROW()","v":613}]
[{"$f":"ROW()","v":614}]
[{"$f":"ROW()","v":615}]
[{"$f":"ROW()","v":616}]
[{"$f":"ROW()","v":617}]
[{"$f":"ROW()","v":618}]
[{"$f":"ROW()","v":619}]
[{"$f":"ROW()","v":620}]
[{"$f":"ROW()","v":621}]
[{"$f":"ROW()","v":622}]
[{"$f":"ROW()","v":623}]
[{"$f":"ROW()","v":624}]
[{"$f":"ROW()","v":625}]
[{"$f":"ROW()","v":626}]
[{"$f":"ROW()","v":627}]
[{"$f":"ROW()","v":628}]
[{"$f":"ROW()","v":629}]
[{"$f":"ROW()","v":630}]
[{"$f":"ROW()","v":631}]
[{"$f":"ROW()","v":632}]
[{"$f":"ROW()","v":633}]
[{"$f":"ROW()","v":634}]
[{"$f":"ROW()","v":635}]
[{"$f":"ROW()","v":636}]
[{"$f":"ROW()","v":637}]
[{"$f":"ROW()","v":638}]
[{"$f":"ROW()","v":639}]
[{"$f":"ROW()","v":640}]
[{"$f":"ROW()","v":641}]
[{"$f":"ROW()","v":642}]
[{"$f":"ROW()","v":643}]
[{"$f":"ROW()","v":644}]
[{"$f":"ROW()","v":645}]
[{"$f":"ROW()","v":646}]
[{"$f":"ROW()","v":647}]
[{"$f":"ROW()","v":648}]
[{"$f":"ROW()","v":649}]
[{"$f":"ROW()","v":650}]
[{"$f":"ROW()","v":651}]
[{"$f":"ROW()","v":652}]
[{"$f":"ROW()","v":653}]
[{"$f":"ROW()","v":654}]
[{"$f":"ROW()","v":655}]
[{"$f":"ROW()","v":656}]
[{"$f":"ROW()","v":657}]
[{"$f":"ROW()","v":658}]
[{"$f":"ROW()","v":659}]
[{"$f":"ROW()","v":660}]
[{"$f":"ROW()","v":661}]
[{"$f":"ROW()","v":662}]
[{"$f":"ROW()","v":663}]
[{"$f":"ROW()","v":664}]
[{"$f":"ROW()","v":665}]
[{"$f":"ROW()","v":666}]
[{"$f":"ROW()","v":667}]
[{"$f":"ROW()","v":668}]
[{"$f":"ROW()","v":669}]
[{"$f":"ROW()","v":670}]
[{"$f":"ROW()","v":671}]
[{"$f":"ROW()","v":672}]
[{"$f":"ROW()","v":673}]
[{"$f":"ROW()","v":674}]
[{"$f":"ROW()","v":675}]
[{"$f":"ROW()","v":676}]
[{"$f":"ROW()","v":677}]
[{"$f":"ROW()","v":678}]
[{"$f":"ROW()","v":679}]
[{"$f":"ROW()","v":680}]
[{"$f":"ROW()","v":681}]
[{"$f":"ROW()","v":682}]
[{"$f":"ROW()","v":683}]
[{"$f":"ROW()","v":684}]
[{"$f":"ROW()","v":685}]

{"sheet":"Лист4","index":18,"n_rows":224,"n_cols":1,"rows_kept":224,"cut":false,"hidden":true,"merged":[]}
[70]
[71]
[72]
[73]
[74]
[75]
[76]
[77]
[78]
[79]
[80]
[81]
[82]
[83]
[84]
[85]
[86]
[87]
[88]
[89]
[90]
[91]
[92]
[93]
[94]
[95]
[96]
[97]
[98]
[99]
[100]
[101]
[102]
[103]
[104]
[105]
[106]
[107]
[108]
[109]
[110]
[111]
[112]
[113]
[114]
[115]
[116]
[117]
[118]
[119]
[120]
[121]
[122]
[123]
[124]
[125]
[126]
[127]
[128]
[129]
[130]
[131]
[132]
[133]
[134]
[135]
[136]
[137]
[138]
[139]
[140]
[141]
[142]
[143]
[144]
[145]
[146]
[147]
[148]
[149]
[150]
[151]
[152]
[153]
[154]
[155]
[156]
[157]
[158]
[159]
[160]
[161]
[162]
[163]
[164]
[165]
[166]
[167]
[168]
[169]
[170]
[171]
[172]
[173]
[174]
[175]
[176]
[177]
[178]
[179]
[180]
[181]
[182]
[183]
[184]
[185]
[186]
[187]
[188]
[189]
[190]
[191]
[192]
[193]
[194]
[195]
[196]
[197]
[198]
[199]
[200]
[201]
[202]
[203]
[204]
[205]
[206]
[207]
[208]
[209]
[210]
[211]
[212]
[213]
[214]
[215]
[216]
[217]
[218]
[219]
[220]
[221]
[222]
[223]
[224]
[225]
[226]
[227]
[228]
[229]
[230]
[231]
[232]
[233]
[234]
[235]
[236]
[237]
[238]
[239]
[240]
[241]
[242]
[243]
[244]
[245]
[246]
[247]
[248]
[249]
[250]
[251]
[252]
[253]
[254]
[255]
[256]
[257]
[258]
[259]
[260]
[261]
[262]
[263]
[264]
[265]
[266]
[267]
[268]
[269]
[270]
[271]
[272]
[273]
[274]
[275]
[276]
[277]
[278]
[279]
[280]
[281]
[282]
[283]
[284]
[285]
[286]
[287]
[288]
[289]
[290]
[291]
[292]
[293]

{"sheet":"ekonomska reb1","index":19,"n_rows":41,"n_cols":11,"rows_kept":41,"cut":false,"hidden":true,"merged":[[0,0,0,2],[0,3,0,6],[1,0,1,2],[1,3,1,6],[2,0,2,2],[2,3,2,6],[11,0,11,2],[11,3,11,6],[3,0,3,2],[4,0,4,2],[5,0,5,2],[5,3,5,6],[6,0,6,2],[7,0,7,2],[8,0,8,2],[9,0,9,2],[9,3,9,6],[10,0,10,2],[10,3,10,6],[18,0,18,2],[18,3,18,6],[12,0,12,2],[12,3,12,6],[13,0,13,2],[13,3,13,6],[14,0,14,2],[14,3,14,6],[15,0,15,2],[16,0,16,2],[16,3,16,6],[17,0,17,2],[17,3,17,6],[19,0,19,2],[19,3,19,6],[20,0,20,2],[20,3,20,6],[21,0,21,2],[21,3,21,6],[28,0,28,2],[22,0,22,2],[22,3,22,6],[23,0,23,2],[23,3,23,6],[24,0,24,2],[24,3,24,6],[25,0,25,2],[25,3,25,6],[26,0,26,2],[26,3,26,6],[27,0,27,2],[37,0,37,2],[37,3,37,6],[29,0,29,2],[30,0,30,2],[31,0,31,2],[31,3,31,6],[32,0,32,2],[32,3,32,6],[33,0,33,2],[33,3,33,6],[35,0,35,2],[35,3,35,6],[36,0,36,2],[38,0,38,2],[38,3,38,6],[39,0,39,2],[39,3,39,6],[40,0,40,2],[40,3,40,6]]}
["еко.клас.",null,null,"ОПИС",null,null,null,"Средства из буџета","Средства из соп. извора","Sredstva iz Republike","Укупно"]
[1,null,null,2,null,null,null,3,4,5,6]
[400,null,null,"TEKU]I RASHODI",null,null,null,{"$f":"H11+H18+H21+H25+H27+H32+H34","v":695237589},{"$f":"I11+I18+I21+I25+I27+I32+I34","v":41130000},{"$f":"J11+J18+J21+J25+J27+J32+J34","v":34322300},{"$f":"K11+K18+K21+K25+K27+K32+K34","v":770689889}]
[411,null,null,"Плате, додаци и накнаде запосленима",null,null,null,204714900,null,5785000,{"$f":"H4+I4+J4","v":210499900}]
[412,null,null,"Социјални доприноси на терет послодавца",null,null,null,36644000,null,1037020,{"$f":"H5+I5+J5","v":37681020}]
[413,null,null,"Накнаде у натури",null,null,null,5000,null,null,5000]
[414,null,null,"Социјана давања запосленима",null,null,null,{"$f":"5427600-30000","v":5397600},null,1056000,6453600]
[415,null,null,"Накнаде трошкова за запослене",null,null,null,4700900,null,2780000,7480900]
[416,null,null,"Награде, бонуси и остали пословни расхода",null,null,null,1564200,null,1000000,2564200]
[417,null,null,"Poslani~ki dodatak",null,null,null,null,null,null,0]
[410,null,null,"РАСХОДИ ЗА ЗАПОСЛЕНЕ",null,null,null,{"$f":"H4+H5+H6+H7+H8+H9+H10","v":253026600},{"$f":"I4+I5+I6+I7+I8+I9+I10","v":0},{"$f":"J4+J5+J6+J7+J8+J9+J10","v":11658020},{"$f":"K4+K5+K6+K7+K8+K9+K10","v":264684620}]
[421,null,null,"Стални трошкови",null,null,null,36395500,null,8683280,{"$f":"J12+I12+H12","v":45078780}]
[422,null,null,"Трошкови путовања",null,null,null,2845000,null,166500,3011500]
[423,null,null,"Услуге по уговору",null,null,null,{"$f":"45726000+545000","v":46271000},2386000,2874100,51531100]
[424,null,null,"Специјализоване услуге",null,null,null,10695000,null,465000,11160000]
[425,null,null,"Текуће поправке и  одржавање",null,null,null,{"$f":"7888000+18939915+490000","v":27317915},26900000,677200,54895115]
[426,null,null,"Материјал",null,null,null,{"$f":"12659700+3300000","v":15959700},null,7277800,23237500]
[420,null,null,"КОРИШЋЕЊЕ УСЛУГА И РОБА",null,null,null,{"$f":"H12+H13+H14+H15+H16+H17","v":139484115},{"$f":"I12+I13+I14+I15+I16+I17","v":29286000},{"$f":"J12+J13+J14+J15+J16+J17","v":20143880},{"$f":"K12+K13+K14+K15+K16+K17","v":188913995}]
[451,null,null,"Subvencije",null,null,null,{"$f":"20000000+7000000+5000000","v":32000000},null,null,{"$f":"J19+I19+H19","v":32000000}]
[454,null,null,"Subvencije privatnim preduze|ima",null,null,null,44130000,null,null,{"$f":"J20+I20+H20","v":44130000}]
[450,null,null,"SUBVENCIJE",null,null,null,{"$f":"H19+H20","v":76130000},{"$f":"I19","v":0},{"$f":"J19","v":0},{"$f":"K19+K20","v":76130000}]
[463,null,null,"Transferi osltalim nivoima vlasti",null,null,null,{"$f":"94293000+2890000+26000000+30000","v":123213000},null,null,{"$f":"J22+I22+H22","v":123213000}]
[464,null,null,"Dotacije organizacijama obaveznog soc.osigurawa",null,null,null,{"$f":"22300000+150000","v":22450000},null,null,{"$f":"H23+I23+J23","v":22450000}]
[465,null,null,"Ostale teku}e doacije po zakonu",null,null,null,20275200,null,1100000,{"$f":"H24+I24+J24","v":21375200}]
[460,null,null,"DONACIJE, DOTACIJE I TRANSFERI",null,null,null,{"$f":"H22+H24+H23","v":165938200},{"$f":"I22+I24+I23","v":0},{"$f":"J22+J24","v":1100000},{"$f":"K22+K24+K23","v":167038200}]
[472,null,null,"Naknade za socijalnu za{titu iz buxeta",null,null,null,{"$f":"12405000+3635000","v":16040000},{"$f":"8664000+180000","v":8844000},null,{"$f":"J26+I26+H26","v":24884000}]
[470,null,null,"СОЦИЈАЛНО ОСИГУРАЊЕ И СОЦИЈАЛНА ЗАШ.",null,null,null,{"$f":"H26","v":16040000},{"$f":"I26","v":8844000},{"$f":"J26","v":0},{"$f":"K26","v":24884000}]
[481,null,null,"Дотације невладиним организацијама",null,null,null,{"$f":"22733000+2680000","v":25413000},3000000,null,{"$f":"J28+I28+H28","v":28413000}]
[482,null,null,"Порези , обавезне таксе и казне",null,null,null,762500,null,120400,{"$f":"J29+I29+H29","v":882900}]
[483,null,null,"Нов~ане казне и пенали по решењу судова",null,null,null,{"$f":"3390000+200000+3145000","v":6735000},null,1300000,{"$f":"J30+I30+H30","v":8035000}]
[485,null,null,"Накнада штете за неискоришћен годишњи одмор",null,null,null,900000,null,null,{"$f":"J31+I31+H31","v":900000}]
[480,null,null,"ОСТАЛИ РАСХОДИ",null,null,null,{"$f":"H28+H29+H30+H31","v":33810500},{"$f":"I28+I29+I30+I31","v":3000000},1420400,38230900]
[499,null,null,"Sredstva rezerve",null,null,null,{"$f":"100000+14343174-490000-3145000","v":10808174},null,null,{"$f":"J33+I33+H33","v":10808174}]
[490,null,null,"СРЕДСТВА РЕЗЕРВИ",null,null,null,{"$f":"H33","v":10808174},{"$f":"I33","v":0},{"$f":"J33","v":0},{"$f":"K33","v":10808174}]
[]
[500,null,null,"KAPITALNI IZDACI",null,null,null,{"$f":"H40","v":99909961},{"$f":"I40","v":97939450},1140700,198990111]
[511,null,null,"Зграде и грађевински објекти",null,null,null,{"$f":"9380000+79044461","v":88424461},{"$f":"20000000+77939450","v":97939450},115000,{"$f":"J37+I37+H37","v":186478911}]
[512,null,null,"Машине и опрема",null,null,null,{"$f":"4420500+6560000","v":10980500},null,935700,{"$f":"J38+I38+H38","v":11916200}]
[515,null,null,"Нематеријална имовина",null,null,null,505000,null,90000,{"$f":"J39+I39+H39","v":595000}]
[510,null,null,"ОСНОВНА СРЕДСТВА",null,null,null,{"$f":"H37+H38+H39","v":99909961},{"$f":"I37+I38+I39","v":97939450},{"$f":"J37+J38+J39","v":1140700},{"$f":"K37+K38+K39","v":198990111}]
[null,null,null,"У К У П Н I  JAVNI RASHODI",null,null,null,{"$f":"H3+H40","v":795147550},{"$f":"I3+I40","v":139069450},35463000,969680000]

{"sheet":"programska rebalans1","index":20,"n_rows":137,"n_cols":5,"rows_kept":137,"cut":false,"hidden":true,"merged":[]}
[]
[]
[null,"Values"]
["Row Labels","Sum of Средства из буџета         ","Sum of Средства из буџета    републике","Sum of Средства из сопствених извора","Sum of Укупно"]
["ПРОГРАМ 1: ЛОКАЛНИ РАЗВОЈ И ПРОСТОРНО ПЛАНИРАЊЕ",null,null,null,0]
["ПРОГРАМ 10: СРЕДЊЕ ОБРАЗОВАЊЕ",null,null,null,0]
["ПРОГРАМ 11: СОЦИЈАЛНА И ДЕЧЈА ЗАШТИТА",null,null,null,0]
["ПРОГРАМ 12: ЗДРАВСТВЕНА ЗАШТИТА",null,null,null,0]
["ПРОГРАМ 13: РАЗВОЈ КУЛТУРЕ",null,null,null,0]
["ПРОГРАМ 14: РАЗВОЈ СПОРТА И ОМЛАДИНЕ",null,null,null,0]
["ПРОГРАМ 15: ЛОКАЛНА САМОУПРАВА",null,null,null,0]
["ПРОГРАМ 16: ПОЛИТИЧКИ СИСТЕМ ЛОКАЛНЕ САМОУПРАВЕ",null,null,null,0]
["ПРОГРАМ 2: КОМУНАЛНА ДЕЛАТНОСТ",null,null,null,0]
["ПРОГРАМ 3: ЛОКАЛНИ ЕКОНОМСКИ РАЗВОЈ",null,null,null,0]
["ПРОГРАМ 4: РАЗВОЈ ТУРИЗМА",null,null,null,0]
["ПРОГРАМ 5: РАЗВОЈ ПОЉОПРИВРЕДЕ",null,null,null,0]
["ПРОГРАМ 6: ЗАШТИТА ЖИВОТНЕ СРЕДИНЕ",null,null,null,0]
["ПРОГРАМ 7: ПУТНА ИНФРАСТРУКТУРА",null,null,null,0]
["ПРОГРАМ 8: ПРЕДШКОЛСКО ВАСПИТАЊЕ",null,null,null,0]
["ПРОГРАМ 9: ОСНОВНО ОБРАЗОВАЊЕ",null,null,null,0]
["Програмска активност 0101-0002:",32905000,0,0,32905000]
["Програмска активност 0401-0001:",8114000,0,0,8114000]
["Програмска активност 0401-0004:",400000,0,0,400000]
["Програмска активност 0401-0005:",0,20000000,0,20000000]
["Програмска активност 0602-0001:",192613200,0,0,192613200]
["Програмска активност 0602-0002:",3906000,0,0,3906000]
["Програмска активност 0602-0004:",5532200,0,0,5532200]
["Програмска активност 0602-0007:",3700000,0,0,3700000]
["Програмска активност 0602-0009:",14343174,0,0,14343174]
["Програмска активност 0602-0010:",100000,0,0,100000]
["Програмска активност 0602-0014:",1450000,0,0,1450000]
["Програмска активност 0901-0001:",6000000,0,0,6000000]
["Програмска активност 0901-0002:",2455000,0,0,2455000]
["Програмска активност 0901-0005:",500000,0,0,500000]
["Програмска активност 0901-0006:",190000,3046000,0,3236000]
["Програмска активност 0901-0007:",135000,3930000,0,4065000]
["Програмска активност 1101-0001:",3000000,7495200,0,10495200]
["Програмска активност 1102-0001:",20446000,0,0,20446000]
["Програмска активност 1102-0002:",1000000,0,0,1000000]
["Програмска активност 1102-0003:",9000000,0,0,9000000]
["Програмска активност 1102-0004:",1100000,0,0,1100000]
["Програмска активност 1102-0008:",20550000,0,0,20550000]
["Програмска активност 1201-0001",22000000,0,1100000,23010000]
["Програмска активност 1201-0001:",13822500,0,124000,13946500]
["Програмска активност 1201-0002:",4130000,0,0,4130000]
["Програмска активност 1201-0003:",2900000,0,0,2900000]
["Програмска активност 1201-0004:",7000000,0,0,7000000]
["Програмска активност 1301-0001:",10100000,0,0,10100000]
["Програмска активност 1301-0004:",14737200,0,7073000,21810200]
["Програмска активност 1301-0005:",1000000,0,0,1000000]
["Програмска активност 1501-0002:",26000000,0,0,26000000]
["Програмска активност 1501-0003:",11630000,0,0,11630000]
["Програмска активност 1502-0001:",7607800,0,0,7607800]
["Програмска активност 1502-0002:",386000,0,0,386000]
["Програмска активност 1801-0001:",22550000,0,0,22550000]
["Програмска активност 1801-0002:",400000,0,0,400000]
["Програмска активност 2001-0001:",72067200,0,27166000,99233200]
["Програмска активност 2002-0001:",70732500,0,0,70732500]
["Програмска активност 2003-0001:",33900500,7254000,0,41154500]
["Програмска активност 2101-0001:",19387400,0,0,19387400]
["Програмска активност 2101-0002:",10200500,0,0,10200500]
["Програмска активност 2101-0003:",7792000,0,0,7792000]
["Пројекат 0701-01",0,26900000,0,26900000]
["Пројекат 0701-02",0,30844250,0,30844250]
["Пројекат 0701-03",0,26400000,0,26400000]
["Пројекат 0701-04",0,13200000,0,13200000]
["Пројекат 0701-05",2500000,0,0,2500000]
["Пројекат 0701-06",3000000,0,0,3000000]
["Пројекат 0701-07",3000000,0,0,3000000]
["Пројекат 0701-08",2500000,0,0,2500000]
["Пројекат 0701-09",2500000,0,0,2500000]
["Пројекат 0701-10",6530000,0,0,6530000]
["Пројекат 0701-11",4055000,0,0,4055000]
["Пројекат 0701-12",1500000,0,0,1500000]
["Пројекат 0701-13",1900000,0,0,1900000]
["Пројекат 0701-14:",1551000,0,0,1551000]
["Пројекат 0701-15",5850000,0,0,5850000]
["Пројекат 0701-16",285000,0,0,285000]
["Пројекат 0701-17",2162000,0,0,2162000]
["Пројекат 0701-18",1400000,0,0,1400000]
["Пројекат 0701-19",676000,0,0,676000]
["Пројекат 0701-20",512000,0,0,512000]
["Пројекат 0701-21",550000,0,0,550000]
["Пројекат 0701-22",431000,0,0,431000]
["Пројекат 0701-23",1500000,0,0,1500000]
["Пројекат 0701-24",2480000,0,0,2480000]
["Пројекат 0701-25",5000,0,0,5000]
["Пројекат 0701-26",925000,0,0,925000]
["Пројекат 0701-27",1260000,0,0,1260000]
["Пројекат 0701-28",5000,0,0,5000]
["Пројекат 0701-29",1900000,0,0,1900000]
["Пројекат 0701-30",410000,0,0,410000]
["Пројекат 0701-31",1350000,0,0,1350000]
["Пројекат 0701-32",1200000,0,0,1200000]
["Пројекат 0701-33",1150000,0,0,1150000]
["Пројекат 0701-34",3450000,0,0,3450000]
["Пројекат 0701-35",1050000,0,0,1050000]
["Пројекат 0701-36",800000,0,0,800000]
["Пројекат 0701-37",1150000,0,0,1150000]
["Пројекат 0701-38",4450000,0,0,4450000]
["Пројекат 0701-39",500000,0,0,500000]
["Пројекат 0701-40",1450000,0,0,1450000]
["Пројекат 0701-41",850000,0,0,850000]
["Пројекат 0701-42",1950000,0,0,1950000]
["Пројекат 0701-43",2450000,0,0,2450000]
["Пројекат 0701-44",1450000,0,0,1450000]
["Пројекат 0701-45",1550000,0,0,1550000]
["Пројекат 0701-46",1250000,0,0,1250000]
["Пројекат 0701-47",5000,0,0,5000]
["Пројекат 0701-48",1250000,0,0,1250000]
["Пројекат 0701-49",1450000,0,0,1450000]
["Пројекат 0701-50",950000,0,0,950000]
["Пројекат 0701-51",1850000,0,0,1850000]
["Пројекат 0701-52",850000,0,0,850000]
["Пројекат 0701-53",1650000,0,0,1650000]
["Пројекат 0701-54",3350000,0,0,3350000]
["Пројекат 0701-55",1950000,0,0,1950000]
["Пројекат 0701-56",700000,0,0,700000]
["Пројекат 0701-57",600000,0,0,600000]
["Пројекат 0701-58",700000,0,0,700000]
["Пројекат 0701-59",1100000,0,0,1100000]
["Пројекат 0701-60",700000,0,0,700000]
["Пројекат 0701-61:",1151000,0,0,1151000]
["Пројекат 1102-01:",3000000,0,0,3000000]
["Пројекат 1102-02:",4150000,0,0,4150000]
["Пројекат 1201-01",150000,0,0,150000]
["Пројекат 1201-02",135000,0,0,135000]
["Пројекат 1201-03",255000,0,0,255000]
["Пројекат 1201-04:",190000,0,0,190000]
["Пројекат 1301-01:",500000,0,0,500000]
["Пројекат 1301-02:",300000,0,0,300000]
["Пројекат 1701-62:",389695,0,0,389695]
["Пројекат 1701-63:",301681,0,0,301681]
["Пројекат 1701-64:",400000,0,0,400000]
["Пројекат 1701-65:",500000,0,0,500000]
["Пројекат 1701-66:",400000,0,0,400000]
["Grand Total",790147550,139069450,35463000,964590000]

{"sheet":"функ klas. reb1","index":21,"n_rows":31,"n_cols":5,"rows_kept":31,"cut":false,"hidden":true,"merged":[]}
[]
[]
[null,"Values"]
["Row Labels","Sum of Средства из буџета         ","Sum of Средства из буџета    републике","Sum of Средства из сопствених извора","Sum of Укупно"]
["Функција 070:",6825000,6976000,0,13801000]
["Функција 090:",6155000,0,0,6155000]
["Функција 111:",37379900,0,0,37379900]
["Функција 130:",205626374,0,0,205626374]
["Функција 160:",10886000,7495200,0,18381200]
["Функција 330:",5532200,0,0,5532200]
["Функција 411:",37630000,0,0,37630000]
["Функција 421:",32905000,0,0,32905000]
["Функција 451:",95684376,97344250,0,193028626]
["Функција 473:",7993800,0,0,7993800]
["Функција 550:",8114000,0,0,8114000]
["Функција 560:",400000,20000000,0,20400000]
["Функција 630:",20550000,0,0,20550000]
["Функција 640:",27596000,0,0,27596000]
["Функција 660:",10000000,0,0,10000000]
["Функција 721:",400000,0,0,400000]
["Функција 740:",22550000,0,0,22550000]
["Функција 810:",26637200,0,7073000,33710200]
["Функција 820:",36552500,0,1224000,37686500]
["Функција 830:",7000000,0,0,7000000]
["Функција 840:",2900000,0,0,2900000]
["Функција 860:",4130000,0,0,4130000]
["Функција 911:",72067200,0,27166000,99233200]
["Функција 912:",59729000,0,0,59729000]
["Функција 920:",22437000,0,0,22437000]
["Функција 960:",22467000,7254000,0,29721000]
["Grand Total",790147550,139069450,35463000,964590000]